BEGIN:VCALENDAR
VERSION:2.0
PRODID:-//jEvents 2.0 for Joomla//EN
CALSCALE:GREGORIAN
METHOD:PUBLISH
BEGIN:VEVENT
UID:fb42ba16f8b422065e4c8afa8333ddf6
CATEGORIES:Polar Conferences, Meetings and Events
CREATED:20180417T135858
SUMMARY:CFP: NPE symposium
LOCATION:Rovaniemi\, Finland
DESCRIPTION:<p><strong>CFP: NPE symposium, Rovaniemi 29-30 August 2018</strong></p><p><
 strong>Arctic Continuities<br /></strong>There is a common way of describin
 g the Arctic – the region, its people and resources – in terms of rapid cha
 nge and constant transformation. Climate change, scramble for the world’s d
 iminishing natural resources and the rather newly emerged concern for local
  cultures and knowledge, among others, have contributed to the repeated con
 structions of the Arctic as something that is constantly in flux. Undeniabl
 y, the Arctic and its people have witnessed radical changes. However, the p
 revailing rhetoric of change dismisses a great deal of what has held its gr
 ound, the traits of continuity that make the Arctic what it is. The persist
 ence of northern ways of life, local and indigenous cultures and the practi
 ces of using and benefiting from the region’s renewable resources are some 
 of the examples of this continuity. Equally recurring are perceptions and p
 reconceived ideas of the Arctic as a global frontier, as a region rich with
  exploitable resources and a wilderness to be protected.<br /> <br />The No
 rthern Political Economy symposium of 2018 invites scholars from a range of
  disciplines to reflect on the elements of continuity in the Arctic and the
  ways in which continuity and change mesh. Among other questions, the sympo
 sium asks to what extent the view of Arctic as a central stage for change w
 orks to effectively gloss over powerful continuities, such as the lingering
  of colonial and exploitative practices and hierarchical center-periphery r
 elations.<br /> <br /><strong>Keynote speaker</strong><br /> Kirsten Thiste
 d, University of Copenhagen<br /> <br /><em>Greenlandic Exceptionalisms</em
 ><br /> <br />Kirsten Thisted is an Associate Professor in the Minority Stu
 dies Section, Department of Cross-Cultural and Regional Studies, University
  of Copenhagen. She has conducted cross-disciplinary research in literature
 , linguistics, media and history. Her research has focused especially on Gr
 eenland. In her talk she will reflect on change as a constant factor in the
  history of Greenland.<br /> <br /><strong>Deadline for proposals</strong><
 br />Please send your abstract (max. 250-words) with your name, title, affi
 liation and contact information by <strong>28 June 2018</strong> by email t
 o Marjo Lindroth (<span id="cloakc9ac9c06df31be8d523ad12f44d1cd1b">This ema
 il address is being protected from spambots. You need JavaScript enabled to
  view it.</span><script type='text/javascript'>
				document.getElementById
 ('cloakc9ac9c06df31be8d523ad12f44d1cd1b').innerHTML = '';
				var prefix = 
 '&#109;a' + 'i&#108;' + '&#116;o';
				var path = 'hr' + 'ef' + '=';
				va
 r addyc9ac9c06df31be8d523ad12f44d1cd1b = 'm&#97;rj&#111;.l&#105;ndr&#111;th
 ' + '&#64;';
				addyc9ac9c06df31be8d523ad12f44d1cd1b = addyc9ac9c06df31be8
 d523ad12f44d1cd1b + '&#117;l&#97;pl&#97;nd' + '&#46;' + 'f&#105;';
				var 
 addy_textc9ac9c06df31be8d523ad12f44d1cd1b = 'm&#97;rj&#111;.l&#105;ndr&#111
 ;th' + '&#64;' + '&#117;l&#97;pl&#97;nd' + '&#46;' + 'f&#105;';document.get
 ElementById('cloakc9ac9c06df31be8d523ad12f44d1cd1b').innerHTML += '<a ' + p
 ath + '\'' + prefix + ':' + addyc9ac9c06df31be8d523ad12f44d1cd1b + '\' targ
 et="_blank">'+addy_textc9ac9c06df31be8d523ad12f44d1cd1b+'<\/a>';
		</script
 >).<br /> <br /><strong>Programme</strong><br />The programme will include 
 a keynote talk, presentations by the participants and discussions on the ba
 sis of presentations. A symposium dinner will be organized.<br /> <br />Con
 firmations of acceptance will be sent by early July the latest. The final p
 rogramme will be announced by 8 August.<br /> <br />There is no participati
 on fee and the the organizers will cover the costs of meals during the semi
 nar. Please note that the symposium participants are expected to cover thei
 r own travel and accommodation costs.<br /> <br /><strong>More information<
 /strong><br />The symposium is organised by the Northern political economy/
 Sustainable development research group, Arctic Centre, University of Laplan
 d. <br /><em>Symposium organizing team</em>: Heidi Sinevaara-Niskanen (<spa
 n id="cloake7b4871f862af4cb687c3cafac35311d">This email address is being pr
 otected from spambots. You need JavaScript enabled to view it.</span><scrip
 t type='text/javascript'>
				document.getElementById('cloake7b4871f862af4c
 b687c3cafac35311d').innerHTML = '';
				var prefix = '&#109;a' + 'i&#108;' 
 + '&#116;o';
				var path = 'hr' + 'ef' + '=';
				var addye7b4871f862af4cb
 687c3cafac35311d = 'h&#101;&#105;d&#105;.s&#105;n&#101;v&#97;&#97;r&#97;-n&
 #105;sk&#97;n&#101;n' + '&#64;';
				addye7b4871f862af4cb687c3cafac35311d =
  addye7b4871f862af4cb687c3cafac35311d + '&#117;l&#97;pl&#97;nd' + '&#46;' +
  'f&#105;';
				var addy_texte7b4871f862af4cb687c3cafac35311d = 'h&#101;&#1
 05;d&#105;.s&#105;n&#101;v&#97;&#97;r&#97;-n&#105;sk&#97;n&#101;n' + '&#64;
 ' + '&#117;l&#97;pl&#97;nd' + '&#46;' + 'f&#105;';document.getElementById('
 cloake7b4871f862af4cb687c3cafac35311d').innerHTML += '<a ' + path + '\'' + 
 prefix + ':' + addye7b4871f862af4cb687c3cafac35311d + '\' target="_blank">'
 +addy_texte7b4871f862af4cb687c3cafac35311d+'<\/a>';
		</script>) and Marjo 
 Lindroth (<span id="cloak5e69a4be9a744f5efb353931f8a0dc19">This email addre
 ss is being protected from spambots. You need JavaScript enabled to view it
 .</span><script type='text/javascript'>
				document.getElementById('cloak5
 e69a4be9a744f5efb353931f8a0dc19').innerHTML = '';
				var prefix = '&#109;a
 ' + 'i&#108;' + '&#116;o';
				var path = 'hr' + 'ef' + '=';
				var addy5e
 69a4be9a744f5efb353931f8a0dc19 = 'm&#97;rj&#111;.l&#105;ndr&#111;th' + '&#6
 4;';
				addy5e69a4be9a744f5efb353931f8a0dc19 = addy5e69a4be9a744f5efb35393
 1f8a0dc19 + '&#117;l&#97;pl&#97;nd' + '&#46;' + 'f&#105;';
				var addy_tex
 t5e69a4be9a744f5efb353931f8a0dc19 = 'm&#97;rj&#111;.l&#105;ndr&#111;th' + '
 &#64;' + '&#117;l&#97;pl&#97;nd' + '&#46;' + 'f&#105;';document.getElementB
 yId('cloak5e69a4be9a744f5efb353931f8a0dc19').innerHTML += '<a ' + path + '\
 '' + prefix + ':' + addy5e69a4be9a744f5efb353931f8a0dc19 + '\' target="_bla
 nk">'+addy_text5e69a4be9a744f5efb353931f8a0dc19+'<\/a>';
		</script>).</p>
DTSTAMP:20260424T023545Z
DTSTART;TZID=UTC;VALUE=DATE:20180829
DTEND;TZID=UTC;VALUE=DATE:20180830
SEQUENCE:0
TRANSP:OPAQUE
END:VEVENT
END:VCALENDAR