BEGIN:VCALENDAR
VERSION:2.0
PRODID:-//jEvents 2.0 for Joomla//EN
CALSCALE:GREGORIAN
METHOD:PUBLISH
BEGIN:VEVENT
UID:61dfc5417992ff87fc2ac8e8efcebd69
CATEGORIES:Polar Conferences, Meetings and Events
CREATED:20180417T074952
SUMMARY: Global Mountain Safeguard: Emerging Risks and Future Challenges for Mountain Regions Worldwide
LOCATION:Bolzano\, Italy
DESCRIPTION:<p><strong>Global Mountain Safeguard: Emerging Risks and Future Challenges 
 for Mountain Regions Worldwide - Bozen / Bolzano, Italy, 17 – 19 October 20
 18</strong><br /><br />Flyer: <a href="http://www.mountainresearchinitiativ
 e.org/attachments/article/3078/Announcement%20Conference_GLOMOS.pdf">http:/
 /www.mountainresearchinitiative.org/attachments/article/3078/Announcement%2
 0Conference_GLOMOS.pdf</a><br /><br /></p>
DTSTAMP:20260421T224654Z
DTSTART;TZID=UTC;VALUE=DATE:20181017
DTEND;TZID=UTC;VALUE=DATE:20181020
SEQUENCE:0
TRANSP:OPAQUE
END:VEVENT
END:VCALENDAR