BEGIN:VCALENDAR
VERSION:2.0
PRODID:-//jEvents 2.0 for Joomla//EN
CALSCALE:GREGORIAN
METHOD:PUBLISH
BEGIN:VEVENT
UID:f9c54a43db6d803c41cd75c5bf28c980
CATEGORIES:Field and Summer Schools
CREATED:20180410T082223
SUMMARY:CUAHSI's 2019 Snow Measurement Field School
LOCATION:Bozeman\, MT\, USA
DESCRIPTION:<p style="text-align: justify;"><strong>Snow Measurement Field School, Janu
 ary 7 – 10, 2019 || Bozeman, MT</strong></p><p style="text-align: justify;"
 ><strong>Application Deadline: August 1st</strong></p><p style="text-align:
  justify;">CUAHSI is pleased to partner with iSWGR to offer the Snow Measur
 ement Field School, a 4-day field school on making and analyzing snow measu
 rements.</p><p style="text-align: justify;"><strong>Course Objectives</stro
 ng><br />This course will give fundamental training to students in making a
 nd analyzing snow measurements including depth, density, water equivalence,
  grain size and shape, stratigraphy, temperature and hardness. Students com
 pleting this course will be able to perform high-quality fieldwork and desi
 gn studies making snowpack measurements.</p><p style="text-align: justify;"
 >By the end of the course, students should be able to do the following:</p>
 <ul style="text-align: justify;"><li>Excavate and prepare a snow pit.</li><
 li>Measure profiles of density, snow temperature, grain size, and hardness.
 </li><li>Characterize stratigraphy and layering, snow surface roughness, an
 d snow grain types.</li><li>Use a Federal snow sampler, an avalanche probe,
  a Magnaprobe, and other snow measurement equipment.</li><li>Design their o
 wn experiment for sampling snow based on specific scientific objectives.</l
 i></ul><p style="text-align: justify;"><strong>Eligibility</strong><br />Th
 e course is aimed at undergraduate and graduate students, post-docs, profes
 sionals and senior scientists, modelers and remote sensers that will make s
 now measurements as part of their research, or use snowpack data in their r
 esearch. There are no required prerequisites, but students should be physic
 ally able to spend days outside being active in the snow.</p><p style="text
 -align: justify;"><strong>How to Apply</strong></p><p style="text-align: ju
 stify;">Applications will be accepted until <strong>5:00 p.m. EDT on August
  1, 2018</strong> via the following <a href="https://clicks.memberclicks-ma
 il.net/wf/click?upn=p-2BAb9MYBCFYQnqWsG3jZz6RObwcdpIV9011nqd3UVjku9ZsYjjZ-2
 BDBO-2F7-2B6v1LyEqcfSLvLdlxbXZhnagUwnOWKSw-2BWIsLuAgIGMiukQB-2BuGxSNXh5F-2F
 6-2FvVEYbHUJw6_TSpMbg3v0bnocKwF5BSovp0kAitqktRsDENXcBQYfq8tAYgb-2Fpy5-2BtVn
 4IBwn3iziLSHfwmNIsfKpvNZtQ8tCN6nDQUjdw3DSTtaF5cdyVd0svY0bFINVouYQDvZPF5VDRl
 iV6q1M0di5Sa16hhwxOgCKZVhYAeEuUCmqRmjafJT6t1vCfOSqL6pe8R8MqKSJ-2Fnno7QkI3Pl
 QgYQnTkkJElILnCZ-2Faxc1hxQIPUZu2aobKpt1JckN3b9shucLxLwiQQl-2BsYa0dZ-2F4yuDY
 6eFy-2Fmt4r9d5pRLZH-2Bj8v8ttFQiU-2Fw3D5CNbbfOHJCy5uCEhExh6DVzqwupqfz7VKlNoQ
 -3D-3D" target="_blank" rel="noopener">Google Form</a>. Applications will b
 e reviewed by course instructors and are evaluated based on the following c
 riteria: clarity of learning takeaways from course; course relevancy to the
 sis work and/or job; and potential to contribute to university and general 
 science community. Applicants will be notified of acceptance on August 16, 
 2018.</p><p style="text-align: justify;">Visit the <strong><a href="https:/
 /clicks.memberclicks-mail.net/wf/click?upn=p-2BAb9MYBCFYQnqWsG3jZz6RObwcdpI
 V9011nqd3UVjku9ZsYjjZ-2BDBO-2F7-2B6v1LyEqcfSLvLdlxbXZhnagUwnOWKSw-2BWIsLuAg
 IGMiukQB-2Bu0B-2BcwabcJn4nsYmZC0Y-2FL_TSpMbg3v0bnocKwF5BSovp0kAitqktRsDENXc
 BQYfq8tAYgb-2Fpy5-2BtVn4IBwn3iziLSHfwmNIsfKpvNZtQ8tCN6nDQUjdw3DSTtaF5cdyVd0
 svY0bFINVouYQDvZPF5VDRliV6q1M0di5Sa16hhwxOgCKZVhYAeEuUCmqRmjafJT6t1vCfOSqL6
 pe8R8MqKS71r-2FShZY-2BN6R2EHxXBEL7YdFglzhQJ8jUz6HtstDGbRXjXCy7yuAjhP0Roadeg
 -2FbAI-2FkEiGdwTlIiljeGQmshN6-2F57A-2BzZ40P-2FrDCYC6nJQCVa-2B7h9aCD1-2F3HiW
 -2BmWymjVz-2B9D6aD-2FnlYD5Lj-2FWXHA-3D-3D" target="_blank" rel="noopener">e
 vent website</a></strong> for additional information on the course and how 
 to apply.</p><p style="text-align: justify;"><strong>Questions?</strong> <b
 r />Contact Elizabeth Tran at <span id="cloaked07aa74e779549c686f92ad2ccd49
 3f"><span id="cloak58ad1d9240dac1c583cfcfd3b4befc22">This email address is 
 being protected from spambots. You need JavaScript enabled to view it.</spa
 n><script type='text/javascript'>
				document.getElementById('cloak58ad1d9
 240dac1c583cfcfd3b4befc22').innerHTML = '';
				var prefix = '&#109;a' + 'i
 &#108;' + '&#116;o';
				var path = 'hr' + 'ef' + '=';
				var addy58ad1d92
 40dac1c583cfcfd3b4befc22 = '&#101;tr&#97;n' + '&#64;';
				addy58ad1d9240da
 c1c583cfcfd3b4befc22 = addy58ad1d9240dac1c583cfcfd3b4befc22 + 'c&#117;&#97;
 hs&#105;' + '&#46;' + '&#111;rg';
				var addy_text58ad1d9240dac1c583cfcfd3
 b4befc22 = '&#101;tr&#97;n' + '&#64;' + 'c&#117;&#97;hs&#105;' + '&#46;' + 
 '&#111;rg';document.getElementById('cloak58ad1d9240dac1c583cfcfd3b4befc22')
 .innerHTML += '<a ' + path + '\'' + prefix + ':' + addy58ad1d9240dac1c583cf
 cfd3b4befc22 + '\'>'+addy_text58ad1d9240dac1c583cfcfd3b4befc22+'<\/a>';
		<
 /script></span></p>
CONTACT:Elizabeth Tran: This email address is being protected from spambots. You need JavaScript enabled to view it.
				document.getElementById('cloak5272f1655ad89bccbb4add0bc8cb47a1').innerHTML = '';
				var prefix = '&#109;a' + 'i&#108;' + '&#116;o';
				var path = 'hr' + 'ef' + '=';
				var addy5272f1655ad89bccbb4add0bc8cb47a1 = '&#101;tr&#97;n' + '&#64;';
				addy5272f1655ad89bccbb4add0bc8cb47a1 = addy5272f1655ad89bccbb4add0bc8cb47a1 + 'c&#117;&#97;hs&#105;' + '&#46;' + '&#111;rg';
				var addy_text5272f1655ad89bccbb4add0bc8cb47a1 = '&#101;tr&#97;n' + '&#64;' + 'c&#117;&#97;hs&#105;' + '&#46;' + '&#111;rg';document.getElementById('cloak5272f1655ad89bccbb4add0bc8cb47a1').innerHTML += '<a ' + path + '\'' + prefix + ':' + addy5272f1655ad89bccbb4add0bc8cb47a1 + '\'>'+addy_text5272f1655ad89bccbb4add0bc8cb47a1+'';
		
DTSTAMP:20260425T114723Z
DTSTART;TZID=UTC;VALUE=DATE:20190107
DTEND;TZID=UTC;VALUE=DATE:20190111
SEQUENCE:0
TRANSP:OPAQUE
END:VEVENT
END:VCALENDAR