BEGIN:VCALENDAR
VERSION:2.0
PRODID:-//jEvents 2.0 for Joomla//EN
CALSCALE:GREGORIAN
METHOD:PUBLISH
BEGIN:VEVENT
UID:8696c51ad5088ce3779640ea45752b8a
CATEGORIES:Polar Conferences, Meetings and Events
CREATED:20180406T104734
SUMMARY:Antarctic Meteorology and Climate Workshop
LOCATION:Madison\, Wisconsin\, USA
DESCRIPTION:Organizers invite registration and applications for stipends for the 13th W
 orkshop on Antarctic Meteorology and Climate. This workshop will convene 16
 -19 July 2018 in Madison, Wisconsin.\nThis workshop will bring together tho
 se with research and operational/logistical interests in Antarctic meteorol
 ogy, forecasting, and related disciplines. The annual activities and status
  of the Antarctic Meteorological Research Center, Automatic Weather Station
 , and Antarctic Mesoscale Prediction System efforts will be addressed, and 
 feedback and results from the user communities will be solicited. This work
 shop will also be a forum for current results and ideas in Antarctic meteor
 ology, numerical weather prediction, and weather forecasting. There will be
  discussions on the relationships among international efforts and Antarctic
  forecasting, logistical support, and science.\nPapers and posters on these
  topics are welcome.\nShort abstract submission deadline: 11 June 2018.\nSt
 ipend support for students and early career scientists are being provided b
 y the International Association of Meteorology and Atmospheric Sciences via
  Madison College. Support will be five stipend awards of approximately $300
 . Preference will be given to under-represented groups and applicants from 
 countries with developing Antarctic programs.\nTo apply for a stipend, appl
 icants must submit a one-page curriculum vitae, a brief (one page) statemen
 t of the benefit of attendance and how the applicant will contribute to the
  workshop, and the applicant's budget.\nStipend applications should be sent
  to Matthew Lazzaraat This email address is being protected from spambots. 
 You need JavaScript enabled to view it.
				document.getElementById('cloakc
 1457320fb6c60d7020e1fab3980a85f').innerHTML = '';
				var prefix = '&#109;a
 ' + 'i&#108;' + '&#116;o';
				var path = 'hr' + 'ef' + '=';
				var addyc1
 457320fb6c60d7020e1fab3980a85f = 'ml&#97;zz&#97;r&#97;' + '&#64;';
				addy
 c1457320fb6c60d7020e1fab3980a85f = addyc1457320fb6c60d7020e1fab3980a85f + '
 m&#97;d&#105;s&#111;nc&#111;ll&#101;g&#101;' + '&#46;' + '&#101;d&#117;';
	
 			var addy_textc1457320fb6c60d7020e1fab3980a85f = 'ml&#97;zz&#97;r&#97;' +
  '&#64;' + 'm&#97;d&#105;s&#111;nc&#111;ll&#101;g&#101;' + '&#46;' + '&#101
 ;d&#117;';document.getElementById('cloakc1457320fb6c60d7020e1fab3980a85f').
 innerHTML += '<a ' + path + '\'' + prefix + ':' + addyc1457320fb6c60d7020e1
 fab3980a85f + '\'>'+addy_textc1457320fb6c60d7020e1fab3980a85f+'';
		.\nStip
 end application deadline: 15 April 2018\nRegistration deadline: 25 June 201
 8\nFor more information, go to:\n\nTo information about stipends, go to:\n<
 a href="https://www.arcus.org/sites/all/modules/civicrm/extern/url.php?u=83
 68&amp;qid=1167351" target="_blank" rel="noopener">Stipend webpage</a>\nTo 
 register, go to:\n\nFor questions about the workshop, contact:\nCarol Costa
 nza\nEmail: This email address is being protected from spambots. You need J
 avaScript enabled to view it.
				document.getElementById('cloak4a8d7744667
 eb168108fec0d2f039185').innerHTML = '';
				var prefix = '&#109;a' + 'i&#10
 8;' + '&#116;o';
				var path = 'hr' + 'ef' + '=';
				var addy4a8d7744667e
 b168108fec0d2f039185 = 'c&#97;r&#111;l.c&#111;st&#97;nz&#97;' + '&#64;';
		
 		addy4a8d7744667eb168108fec0d2f039185 = addy4a8d7744667eb168108fec0d2f0391
 85 + 'ss&#101;c' + '&#46;' + 'w&#105;sc' + '&#46;' + '&#101;d&#117;';
				v
 ar addy_text4a8d7744667eb168108fec0d2f039185 = 'c&#97;r&#111;l.c&#111;st&#9
 7;nz&#97;' + '&#64;' + 'ss&#101;c' + '&#46;' + 'w&#105;sc' + '&#46;' + '&#1
 01;d&#117;';document.getElementById('cloak4a8d7744667eb168108fec0d2f039185'
 ).innerHTML += '<a ' + path + '\'' + prefix + ':' + addy4a8d7744667eb168108
 fec0d2f039185 + '\'>'+addy_text4a8d7744667eb168108fec0d2f039185+'';
		\nPho
 ne: 608-261-1429\n
X-ALT-DESC;FMTTYPE=text/html:<p style="text-align: justify;">Organizers invite <span style="text-decorat
 ion: underline;">registration and applications for stipends</span> for the 
 <strong>13th Workshop on Antarctic Meteorology and Climate</strong>. This w
 orkshop will convene <strong>16-19 July 2018 in Madison, Wisconsin.</strong
 ></p><p style="text-align: justify;">This workshop will bring together thos
 e with research and operational/logistical interests in Antarctic meteorolo
 gy, forecasting, and related disciplines. The annual activities and status 
 of the Antarctic Meteorological Research Center, Automatic Weather Station,
  and Antarctic Mesoscale Prediction System efforts will be addressed, and f
 eedback and results from the user communities will be solicited. This works
 hop will also be a forum for current results and ideas in Antarctic meteoro
 logy, numerical weather prediction, and weather forecasting. There will be 
 discussions on the relationships among international efforts and Antarctic 
 forecasting, logistical support, and science.</p><p style="text-align: just
 ify;">Papers and posters on these topics are welcome.</p><p style="text-ali
 gn: justify;"><strong>Short abstract submission deadline: </strong>11 June 
 2018.</p><p style="text-align: justify;">Stipend support for students and e
 arly career scientists are being provided by the International Association 
 of Meteorology and Atmospheric Sciences via Madison College. Support will b
 e five stipend awards of approximately $300. Preference will be given to un
 der-represented groups and applicants from countries with developing Antarc
 tic programs.</p><p style="text-align: justify;">To apply for a stipend, ap
 plicants must submit a one-page curriculum vitae, a brief (one page) statem
 ent of the benefit of attendance and how the applicant will contribute to t
 he workshop, and the applicant's budget.</p><p style="text-align: justify;"
 >Stipend applications should be sent to Matthew Lazzaraat <span id="cloak1e
 6d7a2c6219d00020ce64f06bf449ba"><span id="cloakc1457320fb6c60d7020e1fab3980
 a85f">This email address is being protected from spambots. You need JavaScr
 ipt enabled to view it.</span><script type='text/javascript'>
				document.
 getElementById('cloakc1457320fb6c60d7020e1fab3980a85f').innerHTML = '';
			
 	var prefix = '&#109;a' + 'i&#108;' + '&#116;o';
				var path = 'hr' + 'ef'
  + '=';
				var addyc1457320fb6c60d7020e1fab3980a85f = 'ml&#97;zz&#97;r&#97
 ;' + '&#64;';
				addyc1457320fb6c60d7020e1fab3980a85f = addyc1457320fb6c60
 d7020e1fab3980a85f + 'm&#97;d&#105;s&#111;nc&#111;ll&#101;g&#101;' + '&#46;
 ' + '&#101;d&#117;';
				var addy_textc1457320fb6c60d7020e1fab3980a85f = 'm
 l&#97;zz&#97;r&#97;' + '&#64;' + 'm&#97;d&#105;s&#111;nc&#111;ll&#101;g&#10
 1;' + '&#46;' + '&#101;d&#117;';document.getElementById('cloakc1457320fb6c6
 0d7020e1fab3980a85f').innerHTML += '<a ' + path + '\'' + prefix + ':' + add
 yc1457320fb6c60d7020e1fab3980a85f + '\'>'+addy_textc1457320fb6c60d7020e1fab
 3980a85f+'<\/a>';
		</script></span>.</p><p style="text-align: justify;"><s
 trong>Stipend application deadline:</strong> 15 April 2018</p><p style="tex
 t-align: justify;"><strong>Registration deadline:</strong> 25 June 2018</p>
 <p style="text-align: justify;">For more information, go to:<br /><a href="
 https://www.arcus.org/sites/all/modules/civicrm/extern/url.php?u=8365&amp;q
 id=1167351" target="_blank" rel="noopener">Workshop homepage</a></p><p styl
 e="text-align: justify;">To information about stipends, go to:<br /><a href
 ="https://www.arcus.org/sites/all/modules/civicrm/extern/url.php?u=8368&amp
 ;qid=1167351" target="_blank" rel="noopener">Stipend webpage</a></p><p styl
 e="text-align: justify;">To register, go to:<br /><a href="https://www.arcu
 s.org/sites/all/modules/civicrm/extern/url.php?u=8369&amp;qid=1167351" targ
 et="_blank" rel="noopener">Workshop registration webpage</a></p><p style="t
 ext-align: justify;">For questions about the workshop, contact:<br />Carol 
 Costanza<br />Email: <span id="cloak556fb37b0aa56e7fe4ccd1764f436e1e"><span
  id="cloak4a8d7744667eb168108fec0d2f039185">This email address is being pro
 tected from spambots. You need JavaScript enabled to view it.</span><script
  type='text/javascript'>
				document.getElementById('cloak4a8d7744667eb168
 108fec0d2f039185').innerHTML = '';
				var prefix = '&#109;a' + 'i&#108;' +
  '&#116;o';
				var path = 'hr' + 'ef' + '=';
				var addy4a8d7744667eb1681
 08fec0d2f039185 = 'c&#97;r&#111;l.c&#111;st&#97;nz&#97;' + '&#64;';
				add
 y4a8d7744667eb168108fec0d2f039185 = addy4a8d7744667eb168108fec0d2f039185 + 
 'ss&#101;c' + '&#46;' + 'w&#105;sc' + '&#46;' + '&#101;d&#117;';
				var ad
 dy_text4a8d7744667eb168108fec0d2f039185 = 'c&#97;r&#111;l.c&#111;st&#97;nz&
 #97;' + '&#64;' + 'ss&#101;c' + '&#46;' + 'w&#105;sc' + '&#46;' + '&#101;d&
 #117;';document.getElementById('cloak4a8d7744667eb168108fec0d2f039185').inn
 erHTML += '<a ' + path + '\'' + prefix + ':' + addy4a8d7744667eb168108fec0d
 2f039185 + '\'>'+addy_text4a8d7744667eb168108fec0d2f039185+'<\/a>';
		</scr
 ipt></span><br />Phone: 608-261-1429</p>
CONTACT:This email address is being protected from spambots. You need JavaScript enabled to view it.
				document.getElementById('cloak7cf70e90c32fc8f242d9af45d468c5a7').innerHTML = '';
				var prefix = '&#109;a' + 'i&#108;' + '&#116;o';
				var path = 'hr' + 'ef' + '=';
				var addy7cf70e90c32fc8f242d9af45d468c5a7 = 'ml&#97;zz&#97;r&#97;' + '&#64;';
				addy7cf70e90c32fc8f242d9af45d468c5a7 = addy7cf70e90c32fc8f242d9af45d468c5a7 + 'm&#97;d&#105;s&#111;nc&#111;ll&#101;g&#101;' + '&#46;' + '&#101;d&#117;';
				var addy_text7cf70e90c32fc8f242d9af45d468c5a7 = 'ml&#97;zz&#97;r&#97;' + '&#64;' + 'm&#97;d&#105;s&#111;nc&#111;ll&#101;g&#101;' + '&#46;' + '&#101;d&#117;';document.getElementById('cloak7cf70e90c32fc8f242d9af45d468c5a7').innerHTML += '<a ' + path + '\'' + prefix + ':' + addy7cf70e90c32fc8f242d9af45d468c5a7 + '\'>'+addy_text7cf70e90c32fc8f242d9af45d468c5a7+'';
		
DTSTAMP:20260423T192612Z
DTSTART;TZID=UTC;VALUE=DATE:20180716
DTEND;TZID=UTC;VALUE=DATE:20180720
SEQUENCE:0
TRANSP:OPAQUE
END:VEVENT
END:VCALENDAR