BEGIN:VCALENDAR
VERSION:2.0
PRODID:-//jEvents 2.0 for Joomla//EN
CALSCALE:GREGORIAN
METHOD:PUBLISH
BEGIN:VEVENT
UID:06c59e6d63cb678fe9b41907a6335a52
CATEGORIES:APECS Events
CREATED:20180406T090549
SUMMARY:APECS Canada: Queen’s Northern Research Symposium
LOCATION:Online
DESCRIPTION:The 6th Queen’s Northern Research Symposium will be held on Thursday April 
 12th, and broadcast as a webinar presentation by APECS. The three keynotes 
 for this year’s event include:\n\n - Valerie Michaelson of Queen’s Universi
 ty (Department of Public Health Sciences and School of Religion),\n - Elyn 
 Humphreys of Carleton University (Department of Geography and Environmental
  Studies), and\n - \n - Daniel Fortier of Universite de Montreal (Departmen
 t de Geographie).The day also includes a variety of talks on reconciliation
  in Canada’s North, Arctic contaminants, and vegetation responses to the wa
 rming Arctic.\nParticipants can view the event for free from 8:30 am to 2:4
 5 pm EST via webinar; register for the webinar here (https://zoom.us/webina
 r/register/WN_hhV5ssh8RR6c0TVh4Mve-g) to receive an access link to the even
 t. For those interested in this event but unable to attend, this presentati
 on will be recorded and published on the APECS vimeo site (<a href="https:/
 /vimeo.com/apecs" target="_blank" rel="noopener">https://vimeo.com/apecs</a
 >) at a later date. For more information about the Queen’s NRS, visit queen
 snrs.wordpress.com (http://queensnrs.wordpress.com/).\nYour APECS Canada (e
 hPECS) Board\n
X-ALT-DESC;FMTTYPE=text/html:<p>The <strong>6th Queen’s Northern Research Symposium</strong> will be hel
 d on <strong>Thursday April 12th</strong>, and broadcast as a webinar prese
 ntation by APECS. The three keynotes for this year’s event include:</p><ul>
 <li>Valerie Michaelson of Queen’s University (Department of Public Health S
 ciences and School of Religion),</li><li>Elyn Humphreys of Carleton Univers
 ity (Department of Geography and Environmental Studies), and</li><li></li><
 li>Daniel Fortier of Universite de Montreal (Department de Geographie).</li
 ></ul><p>The day also includes a variety of talks on reconciliation in Cana
 da’s North, Arctic contaminants, and vegetation responses to the warming Ar
 ctic.</p><p><strong>Participants can view the event for free from 8:30 am t
 o 2:45 pm EST via webinar; register for the webinar here</strong> (<a href=
 "https://zoom.us/webinar/register/WN_hhV5ssh8RR6c0TVh4Mve-g" target="_blank
 " rel="noopener">https://zoom.us/webinar/register/WN_hhV5ssh8RR6c0TVh4Mve-g
 </a>) to receive an access link to the event. For those interested in this 
 event but unable to attend, this presentation will be recorded and publishe
 d on the APECS vimeo site (<a href="https://vimeo.com/apecs" target="_blank
 " rel="noopener">https://vimeo.com/apecs</a>) at a later date. For more inf
 ormation about the Queen’s NRS, visit <a href="http://queensnrs.wordpress.c
 om/" target="_blank" rel="noopener">queensnrs.wordpress.com</a>.</p><p>Your
  APECS Canada (ehPECS) Board</p>
CONTACT:This email address is being protected from spambots. You need JavaScript enabled to view it.
				document.getElementById('cloak62e13cfd05896f1176bad063f7f64078').innerHTML = '';
				var prefix = '&#109;a' + 'i&#108;' + '&#116;o';
				var path = 'hr' + 'ef' + '=';
				var addy62e13cfd05896f1176bad063f7f64078 = 'T&#111;ny&#97;.B&#117;rg&#101;rs' + '&#64;';
				addy62e13cfd05896f1176bad063f7f64078 = addy62e13cfd05896f1176bad063f7f64078 + '&#117;m&#97;n&#105;t&#111;b&#97;' + '&#46;' + 'c&#97;';
				var addy_text62e13cfd05896f1176bad063f7f64078 = 'T&#111;ny&#97;.B&#117;rg&#101;rs' + '&#64;' + '&#117;m&#97;n&#105;t&#111;b&#97;' + '&#46;' + 'c&#97;';document.getElementById('cloak62e13cfd05896f1176bad063f7f64078').innerHTML += '<a ' + path + '\'' + prefix + ':' + addy62e13cfd05896f1176bad063f7f64078 + '\'>'+addy_text62e13cfd05896f1176bad063f7f64078+'';
		
DTSTAMP:20260423T000404Z
DTSTART;TZID=UTC:20180412T083000
DTEND;TZID=UTC:20180412T144500
SEQUENCE:0
TRANSP:OPAQUE
END:VEVENT
END:VCALENDAR