BEGIN:VCALENDAR
VERSION:2.0
PRODID:-//jEvents 2.0 for Joomla//EN
CALSCALE:GREGORIAN
METHOD:PUBLISH
BEGIN:VEVENT
UID:a8b24a4ca0202da6a069aafbfb9d631c
CATEGORIES:Polar Conferences, Meetings and Events
CREATED:20180404T081532
SUMMARY:POLAR2018 AntArchitecture Workshop on Antarctica's Internal Ice Structure
LOCATION:Davos\, Switzerland
DESCRIPTION:In connection with the upcoming SCAR POLAR2018 in Davos, we invite you to a
  side meeting of the “AntArchitecture” consortium on *Friday 15 June* 11:00
 -16:00, A Forum (House A).\nAntArchitecture is the name of a proposed new s
 cience programme in SCAR whose underpinning goal is to use radar-imaged inf
 ormation on the internal structure of the Antarctic Ice Sheet - i.e., its i
 nternal architecture – to inform palaeoclimatic reconstruction and ice-shee
 t modelling of the future contributions of the ice sheet to global sea leve
 l. A first meeting of the group was held in Edinburgh in July 2017, and the
  scope and outcomes of that meeting are available here:\nhttp://www.sages.a
 c.uk/wp-content/uploads/2018/03/BINGHAM-R-EDi-2017-AntArchitecture-Workshop
 -Final-Report.pdf\nFor the AntArchitecture side meeting in Davos, we antici
 pate discussion following the general outline below, but this is flexible d
 epending on attendees and interest:\n1) Progress with tracing or otherwise 
 recording the internal structure of the Antarctic Ice Sheet.\n2) Developmen
 t of workflows for recording, homogenising across surveys, and visualising 
 subsurface information.\n3) Identification of regions with good/bad informa
 tion on internal structure of the ice.\n4) Applications: linking ice core a
 ge-depth profiles, Oldest Ice, modelling accumulation, ice flow.\n5) What d
 o (a) ice-sheet modellers, (b) palaeoclimate researchers / ice-core scienti
 sts, and (c) possible other users (?) need as products from AntArchitecture
 ?\nPLEASE NOTE that the day of the workshop is the Friday BEFORE the Open S
 cience conference in the following week, and that to attend you must regist
 er for the ASSW or other meetings and workshops (30 CHF) – for this you do 
 get free coffee and a lunch, you’ll also be registered for other side inter
 esting side meetings over the same weekend (e.g. AntClim21, SERCE…), and yo
 u get the chance to enjoy a nice weekend in Davos before the Open Science c
 onference starts!\nIf you plan to attend the workshop (calling all icy geop
 hysicists, palaeoclimate researchers, modellers…) please can you email us i
 n advance to This email address is being protected from spambots. You need 
 JavaScript enabled to view it.
				document.getElementById('cloak19cd49d8db
 494dd7d6deefb6a553e409').innerHTML = '';
				var prefix = '&#109;a' + 'i&#1
 08;' + '&#116;o';
				var path = 'hr' + 'ef' + '=';
				var addy19cd49d8db4
 94dd7d6deefb6a553e409 = 'r.b&#105;ngh&#97;m' + '&#64;';
				addy19cd49d8db4
 94dd7d6deefb6a553e409 = addy19cd49d8db494dd7d6deefb6a553e409 + '&#101;d' + 
 '&#46;' + '&#97;c' + '&#46;' + '&#117;k';
				var addy_text19cd49d8db494dd7
 d6deefb6a553e409 = 'r.b&#105;ngh&#97;m' + '&#64;' + '&#101;d' + '&#46;' + '
 &#97;c' + '&#46;' + '&#117;k';document.getElementById('cloak19cd49d8db494dd
 7d6deefb6a553e409').innerHTML += '<a ' + path + '\'' + prefix + ':' + addy1
 9cd49d8db494dd7d6deefb6a553e409 + '\'>'+addy_text19cd49d8db494dd7d6deefb6a5
 53e409+'';
		 and give an indication of whether you’d like to contribute so
 me slides.\nVery best wishes,\nRob Bingham (University of Edinburgh), Olaf 
 Eisen (Alfred Wegener Institute), Nanna Karlsson (Geological Survey of Denm
 ark and Greenland – GEUS), Joe MacGregor (NASA Goddard), Neil Ross (Newcast
 le University), Duncan Young (University of Texas at Austin)\n
X-ALT-DESC;FMTTYPE=text/html:<p style="text-align: justify;">In connection with the upcoming SCAR POLAR2
 018 in Davos, we invite you to a side meeting of the <strong>“AntArchitectu
 re”</strong> consortium on <strong>*Friday 15 June*</strong> <strong>11:00-
 16:00, A Forum (House A)</strong>.</p><p style="text-align: justify;">AntAr
 chitecture is the name of a proposed new science programme in SCAR whose un
 derpinning goal is to use radar-imaged information on the internal structur
 e of the Antarctic Ice Sheet - i.e., its internal architecture – to inform 
 palaeoclimatic reconstruction and ice-sheet modelling of the future contrib
 utions of the ice sheet to global sea level. A first meeting of the group w
 as held in Edinburgh in July 2017, and the scope and outcomes of that meeti
 ng are available here:</p><p style="text-align: justify;"><a href="http://w
 ww.sages.ac.uk/wp-content/uploads/2018/03/BINGHAM-R-EDi-2017-AntArchitectur
 e-Workshop-Final-Report.pdf">http://www.sages.ac.uk/wp-content/uploads/2018
 /03/BINGHAM-R-EDi-2017-AntArchitecture-Workshop-Final-Report.pdf</a></p><p 
 style="text-align: justify;">For the AntArchitecture side meeting in Davos,
  we anticipate discussion following the general outline below, but this is 
 flexible depending on attendees and interest:</p><p style="text-align: just
 ify;">1) Progress with tracing or otherwise recording the internal structur
 e of the Antarctic Ice Sheet.</p><p style="text-align: justify;">2) Develop
 ment of workflows for recording, homogenising across surveys, and visualisi
 ng subsurface information.</p><p style="text-align: justify;">3) Identifica
 tion of regions with good/bad information on internal structure of the ice.
 </p><p style="text-align: justify;">4) Applications: linking ice core age-d
 epth profiles, Oldest Ice, modelling accumulation, ice flow.</p><p style="t
 ext-align: justify;">5) What do (a) ice-sheet modellers, (b) palaeoclimate 
 researchers / ice-core scientists, and (c) possible other users (?) need as
  products from AntArchitecture?</p><p style="text-align: justify;"><strong>
 PLEASE NOTE</strong> that the day of the workshop is the Friday BEFORE the 
 Open Science conference in the following week, and that to attend you must 
 register for the ASSW or other meetings and workshops (30 CHF) – for this y
 ou do get free coffee and a lunch, you’ll also be registered for other side
  interesting side meetings over the same weekend (e.g. AntClim21, SERCE…), 
 and you get the chance to enjoy a nice weekend in Davos before the Open Sci
 ence conference starts!</p><p style="text-align: justify;">If you plan to a
 ttend the workshop (calling all icy geophysicists, palaeoclimate researcher
 s, modellers…) please can you email us in advance to <span id="cloak22bb07a
 14459a74a673e34f1fb041218"><span id="cloak19cd49d8db494dd7d6deefb6a553e409"
 >This email address is being protected from spambots. You need JavaScript e
 nabled to view it.</span><script type='text/javascript'>
				document.getEl
 ementById('cloak19cd49d8db494dd7d6deefb6a553e409').innerHTML = '';
				var 
 prefix = '&#109;a' + 'i&#108;' + '&#116;o';
				var path = 'hr' + 'ef' + '=
 ';
				var addy19cd49d8db494dd7d6deefb6a553e409 = 'r.b&#105;ngh&#97;m' + '&
 #64;';
				addy19cd49d8db494dd7d6deefb6a553e409 = addy19cd49d8db494dd7d6dee
 fb6a553e409 + '&#101;d' + '&#46;' + '&#97;c' + '&#46;' + '&#117;k';
				var
  addy_text19cd49d8db494dd7d6deefb6a553e409 = 'r.b&#105;ngh&#97;m' + '&#64;'
  + '&#101;d' + '&#46;' + '&#97;c' + '&#46;' + '&#117;k';document.getElement
 ById('cloak19cd49d8db494dd7d6deefb6a553e409').innerHTML += '<a ' + path + '
 \'' + prefix + ':' + addy19cd49d8db494dd7d6deefb6a553e409 + '\'>'+addy_text
 19cd49d8db494dd7d6deefb6a553e409+'<\/a>';
		</script></span> and give an in
 dication of whether you’d like to contribute some slides.</p><p style="text
 -align: justify;">Very best wishes,</p><p style="text-align: justify;">Rob 
 Bingham (University of Edinburgh), Olaf Eisen (Alfred Wegener Institute), N
 anna Karlsson (Geological Survey of Denmark and Greenland – GEUS), Joe MacG
 regor (NASA Goddard), Neil Ross (Newcastle University), Duncan Young (Unive
 rsity of Texas at Austin)</p>
CONTACT:Rob Bingham: This email address is being protected from spambots. You need JavaScript enabled to view it.
				document.getElementById('cloak24c319cac8f463e10a128b22fc9c8557').innerHTML = '';
				var prefix = '&#109;a' + 'i&#108;' + '&#116;o';
				var path = 'hr' + 'ef' + '=';
				var addy24c319cac8f463e10a128b22fc9c8557 = 'r.b&#105;ngh&#97;m' + '&#64;';
				addy24c319cac8f463e10a128b22fc9c8557 = addy24c319cac8f463e10a128b22fc9c8557 + '&#101;d' + '&#46;' + '&#97;c' + '&#46;' + '&#117;k';
				var addy_text24c319cac8f463e10a128b22fc9c8557 = 'r.b&#105;ngh&#97;m' + '&#64;' + '&#101;d' + '&#46;' + '&#97;c' + '&#46;' + '&#117;k';document.getElementById('cloak24c319cac8f463e10a128b22fc9c8557').innerHTML += '<a ' + path + '\'' + prefix + ':' + addy24c319cac8f463e10a128b22fc9c8557 + '\'>'+addy_text24c319cac8f463e10a128b22fc9c8557+'';
		
DTSTAMP:20260424T040210Z
DTSTART;TZID=UTC:20180615T110000
DTEND;TZID=UTC:20180615T160000
SEQUENCE:0
TRANSP:OPAQUE
END:VEVENT
END:VCALENDAR