BEGIN:VCALENDAR
VERSION:2.0
PRODID:-//jEvents 2.0 for Joomla//EN
CALSCALE:GREGORIAN
METHOD:PUBLISH
BEGIN:VEVENT
UID:a5078a36e5122077c23575be9ea421e7
CATEGORIES:Polar Conferences, Meetings and Events
CREATED:20160526T093058
SUMMARY:ICES ASC
LOCATION:Riga\, Latvia
DESCRIPTION:<p>International Council for the Exploration of the Sea's Annual Science Co
 nference</p>
CONTACT:http://www.ices.dk/news-and-events/asc/ASC2016/Pages/ASC-2016.aspx
DTSTAMP:20260421T174634Z
DTSTART;TZID=UTC;VALUE=DATE:20160919
DTEND;TZID=UTC;VALUE=DATE:20160924
SEQUENCE:0
TRANSP:OPAQUE
END:VEVENT
END:VCALENDAR