BEGIN:VCALENDAR
VERSION:2.0
PRODID:-//jEvents 2.0 for Joomla//EN
CALSCALE:GREGORIAN
METHOD:PUBLISH
BEGIN:VEVENT
UID:44eb7dcf0a87a9c587c48b56963b859e
CATEGORIES:Field and Summer Schools
CREATED:20180315T145429
SUMMARY:Ice Core Analysis and Techniques (ICAT) PhD school
LOCATION:Centre for Ice and Climate\, Niels Bohr Institute\, University of Copenhage
 n\, Denmark
DESCRIPTION:<p style="text-align: justify;">ICAT organizers are happy to announce that 
 they again will this year run the <strong>2 ECTS points Ice Core Analysis a
 nd Techniques (ICAT) PhD school at the Centre for Ice and Climate, Niels Bo
 hr Institute, University of Copenhagen, Denmark. </strong>The PhD school wi
 ll run between <strong>September 24-29th 2018</strong>.</p><p style="text-a
 lign: justify;">ICAT aims to educate a new generation of ice core researche
 rs and foster a collaborative environment for future glaciological projects
 . This course will educate young scientists regarding new methods developed
  for the analysis of ice cores with regard to climate research, with dedica
 ted theoretical and laboratory exercise sessions.</p><p style="text-align: 
 justify;">They hope that you will help advertise this exciting PhD school t
 o PhD students and junior postdocs who conduct ice core analysis or are use
 rs of ice core data (glaciological, oceanographic, climate modelers, earth 
 scientists).</p><p style="text-align: justify;">More information in the lin
 k: <a href="http://www.iceandclimate.nbi.ku.dk/outreach/icat-phd-school-201
 8/">http://www.iceandclimate.nbi.ku.dk/outreach/icat-phd-school-2018/</a> o
 r contact <span id="cloak17fd01143e88a683a42f032459c2a514">This email addre
 ss is being protected from spambots. You need JavaScript enabled to view it
 .</span><script type='text/javascript'>
				document.getElementById('cloak1
 7fd01143e88a683a42f032459c2a514').innerHTML = '';
				var prefix = '&#109;a
 ' + 'i&#108;' + '&#116;o';
				var path = 'hr' + 'ef' + '=';
				var addy17
 fd01143e88a683a42f032459c2a514 = '&#105;c&#97;t2018' + '&#64;';
				addy17f
 d01143e88a683a42f032459c2a514 = addy17fd01143e88a683a42f032459c2a514 + 'nb&
 #105;' + '&#46;' + 'k&#117;' + '&#46;' + 'dk';
				var addy_text17fd01143e8
 8a683a42f032459c2a514 = '&#105;c&#97;t2018' + '&#64;' + 'nb&#105;' + '&#46;
 ' + 'k&#117;' + '&#46;' + 'dk';document.getElementById('cloak17fd01143e88a6
 83a42f032459c2a514').innerHTML += '<a ' + path + '\'' + prefix + ':' + addy
 17fd01143e88a683a42f032459c2a514 + '\'>'+addy_text17fd01143e88a683a42f03245
 9c2a514+'<\/a>';
		</script>.</p><p style="text-align: justify;"><strong>LE
 CTURERS INCLUDE</strong> Margit Schwikowski, Carlo Barbante, Johannes Freit
 ag, Thomas Blunier, Anders Svensson, Dorthe Dahl-Jensen, Christine Hvidberg
 , Paul Vallelonga, Mai Winstrup, Sune Olander Rasmussen, Bo Vinther, Helle 
 Astrid Kjær, and more…</p><p style="text-align: justify;"><strong>APPLICATI
 ON:</strong> Submit your application by <strong>June 1st 2018</strong>. You
  will be notified of the decision of the Selection Committee by July 1st, 2
 018. More on the application here: <a href="http://www.iceandclimate.nbi.ku
 .dk/outreach/icat-phd-school-2018/how-to-apply/">http://www.iceandclimate.n
 bi.ku.dk/outreach/icat-phd-school-2018/how-to-apply/</a></p><p style="text-
 align: justify;"><strong>REGISTRATION FEE:</strong> The course has a regist
 ration fee of 100 euro, which will cover lectures, excursion, social and lu
 nches.</p>
CONTACT:This email address is being protected from spambots. You need JavaScript enabled to view it.
				document.getElementById('cloak67e5f28af80f25fdf67c7489a0e9cc31').innerHTML = '';
				var prefix = '&#109;a' + 'i&#108;' + '&#116;o';
				var path = 'hr' + 'ef' + '=';
				var addy67e5f28af80f25fdf67c7489a0e9cc31 = '&#105;c&#97;t2018' + '&#64;';
				addy67e5f28af80f25fdf67c7489a0e9cc31 = addy67e5f28af80f25fdf67c7489a0e9cc31 + 'nb&#105;' + '&#46;' + 'k&#117;' + '&#46;' + 'dk';
				var addy_text67e5f28af80f25fdf67c7489a0e9cc31 = '&#105;c&#97;t2018' + '&#64;' + 'nb&#105;' + '&#46;' + 'k&#117;' + '&#46;' + 'dk';document.getElementById('cloak67e5f28af80f25fdf67c7489a0e9cc31').innerHTML += '<a ' + path + '\'' + prefix + ':' + addy67e5f28af80f25fdf67c7489a0e9cc31 + '\'>'+addy_text67e5f28af80f25fdf67c7489a0e9cc31+'';
		
DTSTAMP:20260421T104640Z
DTSTART;TZID=UTC;VALUE=DATE:20180924
DTEND;TZID=UTC;VALUE=DATE:20180930
SEQUENCE:0
TRANSP:OPAQUE
END:VEVENT
END:VCALENDAR