BEGIN:VCALENDAR
VERSION:2.0
PRODID:-//jEvents 2.0 for Joomla//EN
CALSCALE:GREGORIAN
METHOD:PUBLISH
BEGIN:VEVENT
UID:616e265bddec9204d98608da37cf09c3
CATEGORIES:Polar Conferences, Meetings and Events
CREATED:20180312T160141
SUMMARY:2018 Arctic Science Conference of the American Association for the Advancement of Science
LOCATION:Saskatoon\, SK\, Canada
DESCRIPTION:<p>We are happy to announce that we are now accepting abstract submissions 
 for the <strong>2018 Arctic Science Conference of the American Association 
 for the Advancement of Science</strong>, to be held <strong>October 9</stro
 ng> in <strong>Saskatoon, SK, Canada</strong>.<br /> <br />The meeting is b
 eing held in tandem with the Canadian Rural Revitalization Foundation (CRRF
 )’s annual meeting, which runs from October 10-12. The conference theme is 
 Health and Shared Prosperity in the North.<br /> <br />The theme of the mee
 ting reflects the idea that health, of both people and ecosystems, and pros
 perity, of both human and more-than-human arctic residents, are inexorably 
 intertwined. This reality is at the core of Indigenous world views and life
 ways, and increasingly, is being acknowledged by research and policy. At th
 is conference, we seek to further advance the discussion of health and pros
 perity as a focal point for sustainable communities and development policie
 s. Conference topics include traditional scientific disciplines, science ed
 ucation, arctic social sciences, biomedical research, and artistic interpre
 tation of health in the North.<br /> <br />Abstracts can be submitted here:
  <a href="https://www.surveymonkey.ca/r/AAASArctic2018">https://www.surveym
 onkey.ca/r/AAASArctic2018</a> (Abstract submission deadline: <strong>30 Apr
 il 2018</strong>)<br />More information about the conference can be found h
 ere: <a href="http://saskatoon2018.crrf.ca/2018-arctic-science-conference/"
 >http://saskatoon2018.crrf.ca/2018-arctic-science-conference/</a></p>
DTSTAMP:20260421T230646Z
DTSTART;TZID=UTC;VALUE=DATE:20181009
DTEND;TZID=UTC;VALUE=DATE:20181010
SEQUENCE:0
TRANSP:OPAQUE
END:VEVENT
END:VCALENDAR