BEGIN:VCALENDAR
VERSION:2.0
PRODID:-//jEvents 2.0 for Joomla//EN
CALSCALE:GREGORIAN
METHOD:PUBLISH
BEGIN:VEVENT
UID:a1e78bd675dc500f10580267d9d4edd0
CATEGORIES:Polar Conferences, Meetings and Events
CREATED:20180312T155850
SUMMARY:75th Annual Eastern Snow Conference
LOCATION:College Park\, Maryland\, USA
DESCRIPTION:<p>The <strong>75th Eastern Snow Conference (ESC)</strong> will be held at 
 the <em>NOAA Center for Weather and Climate Prediction, Climate Prediction 
 Center in College Park, Maryland, USA, 5-8 June 2018.</em></p><p>The 75th E
 SC is a joint Canadian/U.S. organization founded in the 1940s originally wi
 th members from eastern North America. Today, our members come from the Uni
 ted Kingdom, Japan and Germany, as well as North America. Our current membe
 rship includes scientists, engineers, snow surveyors, technicians, professo
 rs, students and professionals involved in operations and maintenance.</p><
 p>The 75th ESC has a longer program than usual to allow for more sessions. 
 The program will also include an excursion on the Chesapeake Bay and Banque
 t in registration fee. The scientific program is open to sessions on theore
 tical, experimental, remote sensing, modeling and operational studies of sn
 ow, ice, and winter hydrology. We anticipate including sessions on historic
 al perspectives of snow such as “Remote Sensing History”, “Data Preservatio
 n and Archiving” and “SnowEX”. This year’s theme is “SNOW PAST, PRESENT and
  FUTURE”. The ESC has only plenary (oral and poster viewing) sessions, allo
 wing time to view and discuss the research of each participant. You are inv
 ited to <strong>submit an abstract</strong> for an oral or a poster present
 ation (please indicate type). (An abstract template is available on the web
 site.) An abstract of 200-250 words should be submitted by <strong>13 April
  2018</strong> to the Program Chairman: Dr. George Riggs: <span id="cloak1f
 832959282c6bfe741ae77925d60772">This email address is being protected from 
 spambots. You need JavaScript enabled to view it.</span><script type='text/
 javascript'>
				document.getElementById('cloak1f832959282c6bfe741ae77925d6
 0772').innerHTML = '';
				var prefix = '&#109;a' + 'i&#108;' + '&#116;o';

 				var path = 'hr' + 'ef' + '=';
				var addy1f832959282c6bfe741ae77925d60
 772 = 'g&#101;&#111;rg&#101;.&#97;.r&#105;ggs' + '&#64;';
				addy1f8329592
 82c6bfe741ae77925d60772 = addy1f832959282c6bfe741ae77925d60772 + 'n&#97;s&#
 97;' + '&#46;' + 'g&#111;v';
				var addy_text1f832959282c6bfe741ae77925d60
 772 = 'g&#101;&#111;rg&#101;.&#97;.r&#105;ggs' + '&#64;' + 'n&#97;s&#97;' +
  '&#46;' + 'g&#111;v';document.getElementById('cloak1f832959282c6bfe741ae77
 925d60772').innerHTML += '<a ' + path + '\'' + prefix + ':' + addy1f8329592
 82c6bfe741ae77925d60772 + '\'>'+addy_text1f832959282c6bfe741ae77925d60772+'
 <\/a>';
		</script></p><p>The call for abstracts for the <strong>75th Easte
 rn Snow Conference</strong>, conference description and registration inform
 ation is posted on the new ESC website <a href="http://www.easternsnow.org"
 >www.easternsnow.org.</a></p><p>Link to ESC registration is on the annual m
 eeting page. Early registration ends on <strong>1 May 2018</strong>, fees i
 ncrease for late registration.<br /> <br /> <br />To be considered for the 
 Weisnet or Campbell awards please send an electronic copy of the paper with
  the supervisor's endorsement (separate email) to the Chair of the Research
  Committee (Barton Forman), no later than <strong>27 April 2018</strong>. P
 lease consult the ESC web site for conditions and details: Dr. Barton Forma
 n, <span id="cloak4d25d7ec21b31a10bddeee94f2a0401e">This email address is b
 eing protected from spambots. You need JavaScript enabled to view it.</span
 ><script type='text/javascript'>
				document.getElementById('cloak4d25d7ec
 21b31a10bddeee94f2a0401e').innerHTML = '';
				var prefix = '&#109;a' + 'i&
 #108;' + '&#116;o';
				var path = 'hr' + 'ef' + '=';
				var addy4d25d7ec2
 1b31a10bddeee94f2a0401e = 'b&#97;f&#111;rm&#97;n' + '&#64;';
				addy4d25d7
 ec21b31a10bddeee94f2a0401e = addy4d25d7ec21b31a10bddeee94f2a0401e + '&#117;
 md' + '&#46;' + '&#101;d&#117;';
				var addy_text4d25d7ec21b31a10bddeee94f
 2a0401e = 'b&#97;f&#111;rm&#97;n' + '&#64;' + '&#117;md' + '&#46;' + '&#101
 ;d&#117;';document.getElementById('cloak4d25d7ec21b31a10bddeee94f2a0401e').
 innerHTML += '<a ' + path + '\'' + prefix + ':' + addy4d25d7ec21b31a10bddee
 e94f2a0401e + '\'>'+addy_text4d25d7ec21b31a10bddeee94f2a0401e+'<\/a>';
		</
 script>.</p><p>All papers will be published in the ESC Proceedings; please 
 consult the ESC web site for details on submission.</p>
CONTACT:This email address is being protected from spambots. You need JavaScript enabled to view it.
				document.getElementById('cloak6c76885dcad08675ed0c2d5f34bebe17').innerHTML = '';
				var prefix = '&#109;a' + 'i&#108;' + '&#116;o';
				var path = 'hr' + 'ef' + '=';
				var addy6c76885dcad08675ed0c2d5f34bebe17 = 'g&#101;&#111;rg&#101;.&#97;.r&#105;ggs' + '&#64;';
				addy6c76885dcad08675ed0c2d5f34bebe17 = addy6c76885dcad08675ed0c2d5f34bebe17 + 'n&#97;s&#97;' + '&#46;' + 'g&#111;v';
				var addy_text6c76885dcad08675ed0c2d5f34bebe17 = 'g&#101;&#111;rg&#101;.&#97;.r&#105;ggs' + '&#64;' + 'n&#97;s&#97;' + '&#46;' + 'g&#111;v';document.getElementById('cloak6c76885dcad08675ed0c2d5f34bebe17').innerHTML += '<a ' + path + '\'' + prefix + ':' + addy6c76885dcad08675ed0c2d5f34bebe17 + '\'>'+addy_text6c76885dcad08675ed0c2d5f34bebe17+'';
		
DTSTAMP:20260424T023542Z
DTSTART;TZID=UTC;VALUE=DATE:20180605
DTEND;TZID=UTC;VALUE=DATE:20180609
SEQUENCE:0
TRANSP:OPAQUE
END:VEVENT
END:VCALENDAR