BEGIN:VCALENDAR
VERSION:2.0
PRODID:-//jEvents 2.0 for Joomla//EN
CALSCALE:GREGORIAN
METHOD:PUBLISH
BEGIN:VEVENT
UID:ec99f2dfca4a755093aa91b36f0e252c
CATEGORIES:Field and Summer Schools
CREATED:20180312T155527
SUMMARY:Plant Functional Traits Course 4
LOCATION:University Centre in Svalbard\, Norway
DESCRIPTION:The 4th TraitTrain International Plant Functional Traits Course will be hel
 d at the University Centre in Svalbard, Norway, 16-27 July 2018.\nThe Trait
 Train International Plant Functional Traits Courses offer a hands-on experi
 ence with collecting and exploring plant functional traits data in a real-l
 ife field research project setting, along with an introduction to the use o
 f plant trait data in climate-change research and ecosystem ecology.\nThe T
 raitTrain4 course will be held at Longyearbyen on Svalbard, Norway (in the 
 High Arctic, at 78°N), 16-27 July 2018. The fieldwork will be carried out a
 t different locations in and around Adventsdalen, both along local bioclima
 tic gradients such as elevation (0–300m a.s.l.) and in different pre-existi
 ng field experiment locations related to climate, grazing pressure, and nut
 rient availability in high-arctic ecosystems. Participants will be introduc
 ed to the environmental, ecological, and taxonomic diversity of the region,
  and will be involved in one of the following projects:\nAssessing the role
  of climate and biotic factors in determining plant community leaf trait co
 mpositionAssessing how temperature variation and leaf functional traits inf
 luence leaf ecophysiologyUsing a trait-based approach to assess how local p
 lant communities and populations respond to experimental climate and grazin
 g treatmentsMeasuring how functional trait composition influences ecosystem
  functioning by measuring CO2-flux within and across plant communities.The 
 course is aimed at graduate students – both MSc and PhD – and will give a b
 road introduction and hands-on experience with trait-based ecology. You wil
 l work with international instructors, in teams, and collect data in the fi
 eld to address a specific research question. You will gain practical experi
 ence in measuring plant functional traits and learn standard protocols and 
 several methods. You will become familiar with taking measurements using ec
 ophsyiological equipment including the LiCor 6400 and LiCor 7500. You will 
 learn about the structure and analysis of trait data, be introduced to best
  practice data management and reproducible coding, as well as having the op
 portunity to analyse and interpret data yourself.\nTo apply, send a short p
 ersonal statement as to why the course fits into your goals and aspirations
 , as well as your CV to This email address is being protected from spambots
 . You need JavaScript enabled to view it.
				document.getElementById('cloa
 kca9a605970029c496d0f8c45b95f4ad3').innerHTML = '';
				var prefix = '&#109
 ;a' + 'i&#108;' + '&#116;o';
				var path = 'hr' + 'ef' + '=';
				var addy
 ca9a605970029c496d0f8c45b95f4ad3 = 'V&#105;gd&#105;s.V&#97;ndv&#105;k' + '&
 #64;';
				addyca9a605970029c496d0f8c45b95f4ad3 = addyca9a605970029c496d0f8
 c45b95f4ad3 + '&#117;&#105;b' + '&#46;' + 'n&#111;';
				var addy_textca9a6
 05970029c496d0f8c45b95f4ad3 = 'V&#105;gd&#105;s.V&#97;ndv&#105;k' + '&#64;'
  + '&#117;&#105;b' + '&#46;' + 'n&#111;';document.getElementById('cloakca9a
 605970029c496d0f8c45b95f4ad3').innerHTML += '<a ' + path + '\'' + prefix + 
 ':' + addyca9a605970029c496d0f8c45b95f4ad3 + '\'>'+addy_textca9a605970029c4
 96d0f8c45b95f4ad3+'';
		 or This email address is being protected from spam
 bots. You need JavaScript enabled to view it.
				document.getElementById('
 cloak946ba5223bf6218954d9efd2982dae85').innerHTML = '';
				var prefix = '&
 #109;a' + 'i&#108;' + '&#116;o';
				var path = 'hr' + 'ef' + '=';
				var 
 addy946ba5223bf6218954d9efd2982dae85 = 'b&#101;nq&#117;&#105;st' + '&#64;';
 
				addy946ba5223bf6218954d9efd2982dae85 = addy946ba5223bf6218954d9efd2982
 dae85 + '&#101;m&#97;&#105;l' + '&#46;' + '&#97;r&#105;z&#111;n&#97;' + '&#
 46;' + '&#101;d&#117;';
				var addy_text946ba5223bf6218954d9efd2982dae85 =
  'b&#101;nq&#117;&#105;st' + '&#64;' + '&#101;m&#97;&#105;l' + '&#46;' + '&
 #97;r&#105;z&#111;n&#97;' + '&#46;' + '&#101;d&#117;';document.getElementBy
 Id('cloak946ba5223bf6218954d9efd2982dae85').innerHTML += '<a ' + path + '\'
 ' + prefix + ':' + addy946ba5223bf6218954d9efd2982dae85 + '\'>'+addy_text94
 6ba5223bf6218954d9efd2982dae85+'';
		 by the 1st of April 2018 and rank the
  four projects above in the order of your interest.\nPlease visit the websi
 te (http://www.uib.no/en/rg/EECRG/114808/plant-functional-traits-course-4) 
 for further information.\n
X-ALT-DESC;FMTTYPE=text/html:<p style="text-align: justify;">The <strong>4th TraitTrain International Pl
 ant Functional Traits Course</strong> will be held at the <strong>Universit
 y Centre in Svalbard, Norway, 16-27 July 2018</strong>.</p><p style="text-a
 lign: justify;">The TraitTrain International Plant Functional Traits Course
 s offer a hands-on experience with collecting and exploring plant functiona
 l traits data in a real-life field research project setting, along with an 
 introduction to the use of plant trait data in climate-change research and 
 ecosystem ecology.</p><p style="text-align: justify;">The TraitTrain4 cours
 e will be held at Longyearbyen on Svalbard, Norway (in the High Arctic, at 
 78°N), 16-27 July 2018. The fieldwork will be carried out at different loca
 tions in and around Adventsdalen, both along local bioclimatic gradients su
 ch as elevation (0–300m a.s.l.) and in different pre-existing field experim
 ent locations related to climate, grazing pressure, and nutrient availabili
 ty in high-arctic ecosystems. Participants will be introduced to the enviro
 nmental, ecological, and taxonomic diversity of the region, and will be inv
 olved in one of the following projects:</p><ol style="text-align: justify;"
 ><li style="text-align: justify;">Assessing the role of climate and biotic 
 factors in determining plant community leaf trait composition</li><li style
 ="text-align: justify;">Assessing how temperature variation and leaf functi
 onal traits influence leaf ecophysiology</li><li style="text-align: justify
 ;">Using a trait-based approach to assess how local plant communities and p
 opulations respond to experimental climate and grazing treatments</li><li s
 tyle="text-align: justify;">Measuring how functional trait composition infl
 uences ecosystem functioning by measuring CO2-flux within and across plant 
 communities.</li></ol><p style="text-align: justify;">The course is aimed a
 t graduate students – both MSc and PhD – and will give a broad introduction
  and hands-on experience with trait-based ecology. You will work with inter
 national instructors, in teams, and collect data in the field to address a 
 specific research question. You will gain practical experience in measuring
  plant functional traits and learn standard protocols and several methods. 
 You will become familiar with taking measurements using ecophsyiological eq
 uipment including the LiCor 6400 and LiCor 7500. You will learn about the s
 tructure and analysis of trait data, be introduced to best practice data ma
 nagement and reproducible coding, as well as having the opportunity to anal
 yse and interpret data yourself.</p><p style="text-align: justify;">To appl
 y, send a short personal statement as to why the course fits into your goal
 s and aspirations, as well as your CV to <span id="cloakf8b00c910e4978b7990
 03a4630eb0f30"><span id="cloakca9a605970029c496d0f8c45b95f4ad3">This email 
 address is being protected from spambots. You need JavaScript enabled to vi
 ew it.</span><script type='text/javascript'>
				document.getElementById('c
 loakca9a605970029c496d0f8c45b95f4ad3').innerHTML = '';
				var prefix = '&#
 109;a' + 'i&#108;' + '&#116;o';
				var path = 'hr' + 'ef' + '=';
				var a
 ddyca9a605970029c496d0f8c45b95f4ad3 = 'V&#105;gd&#105;s.V&#97;ndv&#105;k' +
  '&#64;';
				addyca9a605970029c496d0f8c45b95f4ad3 = addyca9a605970029c496d
 0f8c45b95f4ad3 + '&#117;&#105;b' + '&#46;' + 'n&#111;';
				var addy_textca
 9a605970029c496d0f8c45b95f4ad3 = 'V&#105;gd&#105;s.V&#97;ndv&#105;k' + '&#6
 4;' + '&#117;&#105;b' + '&#46;' + 'n&#111;';document.getElementById('cloakc
 a9a605970029c496d0f8c45b95f4ad3').innerHTML += '<a ' + path + '\'' + prefix
  + ':' + addyca9a605970029c496d0f8c45b95f4ad3 + '\'>'+addy_textca9a60597002
 9c496d0f8c45b95f4ad3+'<\/a>';
		</script></span> or <span id="cloakcb2618ab
 9580b912839ec69db924a421"><span id="cloak946ba5223bf6218954d9efd2982dae85">
 This email address is being protected from spambots. You need JavaScript en
 abled to view it.</span><script type='text/javascript'>
				document.getEle
 mentById('cloak946ba5223bf6218954d9efd2982dae85').innerHTML = '';
				var p
 refix = '&#109;a' + 'i&#108;' + '&#116;o';
				var path = 'hr' + 'ef' + '='
 ;
				var addy946ba5223bf6218954d9efd2982dae85 = 'b&#101;nq&#117;&#105;st' 
 + '&#64;';
				addy946ba5223bf6218954d9efd2982dae85 = addy946ba5223bf621895
 4d9efd2982dae85 + '&#101;m&#97;&#105;l' + '&#46;' + '&#97;r&#105;z&#111;n&#
 97;' + '&#46;' + '&#101;d&#117;';
				var addy_text946ba5223bf6218954d9efd2
 982dae85 = 'b&#101;nq&#117;&#105;st' + '&#64;' + '&#101;m&#97;&#105;l' + '&
 #46;' + '&#97;r&#105;z&#111;n&#97;' + '&#46;' + '&#101;d&#117;';document.ge
 tElementById('cloak946ba5223bf6218954d9efd2982dae85').innerHTML += '<a ' + 
 path + '\'' + prefix + ':' + addy946ba5223bf6218954d9efd2982dae85 + '\'>'+a
 ddy_text946ba5223bf6218954d9efd2982dae85+'<\/a>';
		</script></span> by the
  <strong>1st of April 2018</strong> and rank the four projects above in the
  order of your interest.</p><p style="text-align: justify;">Please visit th
 e <strong><a href="http://www.uib.no/en/rg/EECRG/114808/plant-functional-tr
 aits-course-4" target="_blank" rel="noopener">website</a></strong> for furt
 her information.</p>
DTSTAMP:20260421T102052Z
DTSTART;TZID=UTC;VALUE=DATE:20180716
DTEND;TZID=UTC;VALUE=DATE:20180717
SEQUENCE:0
TRANSP:OPAQUE
END:VEVENT
END:VCALENDAR