BEGIN:VCALENDAR
VERSION:2.0
PRODID:-//jEvents 2.0 for Joomla//EN
CALSCALE:GREGORIAN
METHOD:PUBLISH
BEGIN:VEVENT
UID:3beb7b27112024d99c4271be1532321c
CATEGORIES:Polar Conferences, Meetings and Events
CREATED:20180312T150617
SUMMARY:6th Annual Summer School on Sustainable Climate Risk Management
LOCATION:Penn State\, USA
DESCRIPTION:Applications are now open for the 6th Annual Summer School on Sustainable C
 limate Risk Management (http://www.scrimhub.org/opportunities/summer-school
 /), which will take place 30 July - 3 August 2018 at Penn State.\n \nThe <a
  href="http://www.scrimhub.org/" target="_blank" rel="noopener">Network for
  Sustainable Climate Risk Management's (SCRiM)</a> annual summer school is 
 designed to foster opportunities for collaboration between scholars and pra
 ctitioners while providing a solid foundation in the broad, multidisciplina
 ry knowledge, tools, and methods of the diverse fields participating in the
  network.\nA key focus of the workshop will be developing a common vocabula
 ry to help foster enhanced cross-disciplinary communication, catalyzing the
  potential for future research and decision support collaborations. Partici
 pants will also gain hands-on experience with key methods and tools includi
 ng:\n\n - use of simple models in a transdisciplinary framework\n - analysi
 s of relevant datasets\n - values-informed robust decisionmakingThis progra
 m is targeted at all postdocs, advanced graduate students, and early-career
  professionals in the decisionmaking and policy communities who are working
  on issues related to climate risk. Potential candidates representing NGOs 
 and state or local agencies are strongly encouraged to apply.\nIn most case
 s, lodging, meals, registration, and travel costs will be fully covered for
  participants. International applicants are welcomed.\nApply (http://www.sc
 rimhub.org/opportunities/summer-school/) by Saturday 8 April 2018\nProgram 
 details: <a href="http://scrimhub.org/opportunities/summer-school/">http://
 scrimhub.org/opportunities/summer-school/</a>\n
X-ALT-DESC;FMTTYPE=text/html:<p>Applications are now open for the <a href="http://www.scrimhub.org/oppor
 tunities/summer-school/" target="_blank" rel="noopener"><strong>6th Annual 
 Summer School on Sustainable Climate Risk Management</strong></a>, which wi
 ll take place <strong>30 July - 3 August 2018 at Penn State</strong>.<br />
  <br />The <a href="http://www.scrimhub.org/" target="_blank" rel="noopener
 ">Network for Sustainable Climate Risk Management's (SCRiM)</a> annual summ
 er school is designed to foster opportunities for collaboration between sch
 olars and practitioners while providing a solid foundation in the broad, mu
 ltidisciplinary knowledge, tools, and methods of the diverse fields partici
 pating in the network.</p><p>A key focus of the workshop will be developing
  a common vocabulary to help foster enhanced cross-disciplinary communicati
 on, catalyzing the potential for future research and decision support colla
 borations. Participants will also gain hands-on experience with key methods
  and tools including:</p><ul><li>use of simple models in a transdisciplinar
 y framework</li><li>analysis of relevant datasets</li><li>values-informed r
 obust decisionmaking</li></ul><p>This program is targeted at all <strong>po
 stdocs</strong>, advanced <strong>graduate students</strong>, and <strong>e
 arly-career professionals in the decisionmaking and policy communities</str
 ong> who are working on issues related to climate risk. Potential candidate
 s representing NGOs and state or local agencies are strongly encouraged to 
 apply.</p><p>In most cases, lodging, meals, registration, and travel costs 
 will be fully covered for participants. International applicants are welcom
 ed.</p><p><strong><a href="http://www.scrimhub.org/opportunities/summer-sch
 ool/" target="_blank" rel="noopener">Apply</a> by Saturday 8 April 2018</st
 rong></p><p>Program details: <a href="http://scrimhub.org/opportunities/sum
 mer-school/">http://scrimhub.org/opportunities/summer-school/</a></p>
DTSTAMP:20260423T104302Z
DTSTART;TZID=UTC;VALUE=DATE:20180730
DTEND;TZID=UTC;VALUE=DATE:20180804
SEQUENCE:0
TRANSP:OPAQUE
END:VEVENT
END:VCALENDAR