BEGIN:VCALENDAR
VERSION:2.0
PRODID:-//jEvents 2.0 for Joomla//EN
CALSCALE:GREGORIAN
METHOD:PUBLISH
BEGIN:VEVENT
UID:33506a0e05dd0493972ccabcc418f7a9
CATEGORIES:Polar Conferences, Meetings and Events
CREATED:20160519T152700
SUMMARY: Polar Museums Network conference
LOCATION:Oslo\, Norway
DESCRIPTION:The Polar Museums Network is a new international initiative to strengthen a
 nd spread the knowledge of polar history, science and exploration. The PMN 
 is open to all museums, institutions and individuals with an interest in th
 e collection, preservation, research and interpretation of polar artefacts.
  (Further information about the PMN can be found at:  (http://www.polarmuse
 umsnetwork.org/)<a href="http://www.polarmuseumsnetwork.org/" target="_blan
 k" style="color: #1155cc;">www.polarmuseumsnetwork.org</a>.)The PMN will be
  holding its inaugural conference this autumn, 21–23 October 2016 at the Fr
 am Museum, Oslo, Norway. The conference theme is Polar Partnerships: Workin
 g together to spread the knowledge of polar history, science and exploratio
 n. The conference will feature presentations and discussion sessions.\n
X-ALT-DESC;FMTTYPE=text/html:<blockquote style="color: #222222; font-family: arial, sans-serif; font-siz
 e: 12.8px;">The Polar Museums Network is a new international initiative to 
 strengthen and spread the knowledge of polar history, science and explorati
 on. The PMN is open to all museums, institutions and individuals with an in
 terest in the collection, preservation, research and interpretation of pola
 r artefacts. (Further information about the PMN can be found at: <a href="h
 ttp://www.polarmuseumsnetwork.org/" target="_blank" style="color: #1155cc;"
 ></a><a href="http://www.polarmuseumsnetwork.org/" target="_blank" style="c
 olor: #1155cc;">www.polarmuseumsnetwork.org</a>.)<p>The PMN will be holding
  its inaugural conference this autumn, <span class="aBn" style="border-bott
 om-width: 1px; border-bottom-style: dashed; border-bottom-color: #cccccc; p
 osition: relative; top: -2px; z-index: 0;" tabindex="0" data-term="goog_447
 404180"><span class="aQJ" style="position: relative; top: 2px; z-index: -1;
 ">21–23 October 2016</span></span> at the Fram Museum, Oslo, Norway. The co
 nference theme is <em>Polar Partnerships: Working together to spread the kn
 owledge of polar history, science and exploration. </em>The conference will
  feature presentations and discussion sessions.</p></blockquote>
DTSTAMP:20260422T205906Z
DTSTART;TZID=UTC;VALUE=DATE:20161021
DTEND;TZID=UTC;VALUE=DATE:20161024
SEQUENCE:0
TRANSP:OPAQUE
END:VEVENT
END:VCALENDAR