BEGIN:VCALENDAR
VERSION:2.0
PRODID:-//jEvents 2.0 for Joomla//EN
CALSCALE:GREGORIAN
METHOD:PUBLISH
BEGIN:VEVENT
UID:840bc58ef47c57bd059209cc70519cb3
CATEGORIES:Field and Summer Schools
CREATED:20180221T072653
SUMMARY:Juneau Icefield Research Program 
LOCATION:Juneau\, AK\, USA
DESCRIPTION:<p>JIRP is an expeditionary field science school for undergraduate and earl
 y-stage graduate students interested in polar science. 30-35 students trave
 rse 110 km across the Juneau Icefield from Juneau, AK to Atlin, BC each sum
 mer, learning about field glaciology, geophysics, glacial geology, climatol
 ogy/meteorology and a number of other cryosphere-related topics from 20 fac
 ulty over two months. Students also gain glacier mountaineering, wilderness
  first aid, and other expeditionary training during this experience. We typ
 ically have six to eight focused research projects of current scientific in
 terest, led by faculty, in which students actively participate. Recent proj
 ects have focused on radio-glaciology and other geophysical studies, isotop
 e geochemistry, glacier mass balance, biogeochemistry, glacial geology, eco
 logy, and geomatics/remote sensing. Summer-long field research student proj
 ects supervised by the faculty will culminate in presentations at AGU or ot
 her similar meetings. More information and the online application form can 
 be accessed at <a href="http://juneauicefield.com/">http://juneauicefield.c
 om/</a>.</p><p><strong>*The 2018 field season will run from June 19th to Au
 gust 16th.*</strong></p><p>Program details: <a href="http://juneauicefield.
 com/program-details/">http://juneauicefield.com/program-details/</a></p><p>
 -- <br />Seth Campbell - Director of Academics and Research, <span id="cloa
 k25cbc3c0e0531ea663efb9d5806237a2">This email address is being protected fr
 om spambots. You need JavaScript enabled to view it.</span><script type='te
 xt/javascript'>
				document.getElementById('cloak25cbc3c0e0531ea663efb9d58
 06237a2').innerHTML = '';
				var prefix = '&#109;a' + 'i&#108;' + '&#116;o
 ';
				var path = 'hr' + 'ef' + '=';
				var addy25cbc3c0e0531ea663efb9d580
 6237a2 = 's&#101;th.j&#105;rp' + '&#64;';
				addy25cbc3c0e0531ea663efb9d58
 06237a2 = addy25cbc3c0e0531ea663efb9d5806237a2 + 'gm&#97;l' + '&#46;' + 'c&
 #111;m';
				var addy_text25cbc3c0e0531ea663efb9d5806237a2 = 's&#101;th.j&#
 105;rp' + '&#64;' + 'gm&#97;l' + '&#46;' + 'c&#111;m';document.getElementBy
 Id('cloak25cbc3c0e0531ea663efb9d5806237a2').innerHTML += '<a ' + path + '\'
 ' + prefix + ':' + addy25cbc3c0e0531ea663efb9d5806237a2 + '\'>'+addy_text25
 cbc3c0e0531ea663efb9d5806237a2+'<\/a>';
		</script> <br />Annie Boucher - P
 rogram Manager, <span id="cloake2c665a0273e711bc8f4dbc337a1f4fc">This email
  address is being protected from spambots. You need JavaScript enabled to v
 iew it.</span><script type='text/javascript'>
				document.getElementById('
 cloake2c665a0273e711bc8f4dbc337a1f4fc').innerHTML = '';
				var prefix = '&
 #109;a' + 'i&#108;' + '&#116;o';
				var path = 'hr' + 'ef' + '=';
				var 
 addye2c665a0273e711bc8f4dbc337a1f4fc = '&#97;nn&#105;&#101;.j&#105;rp' + '&
 #64;';
				addye2c665a0273e711bc8f4dbc337a1f4fc = addye2c665a0273e711bc8f4d
 bc337a1f4fc + 'gm&#97;&#105;l' + '&#46;' + 'c&#111;m';
				var addy_texte2c
 665a0273e711bc8f4dbc337a1f4fc = '&#97;nn&#105;&#101;.j&#105;rp' + '&#64;' +
  'gm&#97;&#105;l' + '&#46;' + 'c&#111;m';document.getElementById('cloake2c6
 65a0273e711bc8f4dbc337a1f4fc').innerHTML += '<a ' + path + '\'' + prefix + 
 ':' + addye2c665a0273e711bc8f4dbc337a1f4fc + '\'>'+addy_texte2c665a0273e711
 bc8f4dbc337a1f4fc+'<\/a>';
		</script> <br />Juneau Icefield Research Progr
 am<br />907.500.8913</p>
DTSTAMP:20260421T052247Z
DTSTART;TZID=UTC;VALUE=DATE:20180619
DTEND;TZID=UTC;VALUE=DATE:20180817
SEQUENCE:0
TRANSP:OPAQUE
END:VEVENT
END:VCALENDAR