BEGIN:VCALENDAR
VERSION:2.0
PRODID:-//jEvents 2.0 for Joomla//EN
CALSCALE:GREGORIAN
METHOD:PUBLISH
BEGIN:VEVENT
UID:963a744dee001bbd8b78338a5aea5569
CATEGORIES:Polar Conferences, Meetings and Events
CREATED:20180221T072250
SUMMARY:Climate variability workshop at POLAR2018
LOCATION:Davos\, Switzerland
DESCRIPTION:CLIVASH2K is a new project from PAGES and Future Earth. The aim is to impro
 ve our understanding of large-scale modes of climate variability and the me
 chanisms and drivers of climate change in Antarctica, the sub-Antarctic and
  the wider Southern Hemisphere during the past 2000 years. For more informa
 tion visit http://pastglobalchanges.org/ini/wg/2k-network/projects/clivash\
 nCLIVASH2K id holding a half-day workshop at the POLAR2018 conference in Da
 vos on Monday, 18th June.\nThey invite interested researchers working on a 
 wide range of paleoclimate archives (ice cores, marine records, terrestrial
  and modelling) to come together to discuss ideas and plan future activitie
 s within the CLIVASH2K framework.\nThe workshop will involve a small number
  of invited talks and plenty of discussion. Please contact Liz Thomas if yo
 u would like to attend and specify if you would be interested in providing 
 a short presentation or have a specific idea you wish to discuss.\n\nThe wo
 rkshop is open to everyone, but all participants must be registered for the
  main conference: <a href="https://www.polar2018.org/registration.html%C3%8
 2%C2%A0">https://www.polar2018.org/registration.html</a>\nMonday, 18 June 2
 018\n8am - 1pm\nRoom A Forum\nContact: Liz Thomas (This email address is be
 ing protected from spambots. You need JavaScript enabled to view it.
				do
 cument.getElementById('cloak0354fd7c8c76e54c87dfc7b5a6e7a551').innerHTML = 
 '';
				var prefix = '&#109;a' + 'i&#108;' + '&#116;o';
				var path = 'hr'
  + 'ef' + '=';
				var addy0354fd7c8c76e54c87dfc7b5a6e7a551 = 'l&#105;th' +
  '&#64;';
				addy0354fd7c8c76e54c87dfc7b5a6e7a551 = addy0354fd7c8c76e54c87
 dfc7b5a6e7a551 + 'b&#97;s' + '&#46;' + '&#97;c' + '&#46;' + '&#117;k';
				
 var addy_text0354fd7c8c76e54c87dfc7b5a6e7a551 = 'l&#105;th' + '&#64;' + 'b&
 #97;s' + '&#46;' + '&#97;c' + '&#46;' + '&#117;k';document.getElementById('
 cloak0354fd7c8c76e54c87dfc7b5a6e7a551').innerHTML += '<a ' + path + '\'' + 
 prefix + ':' + addy0354fd7c8c76e54c87dfc7b5a6e7a551 + '\'>'+addy_text0354fd
 7c8c76e54c87dfc7b5a6e7a551+'';
		 )\n \nThe CLIVASH2K working group\n
X-ALT-DESC;FMTTYPE=text/html:<p>CLIVASH2K is a new project from PAGES and Future Earth. The aim is to im
 prove our understanding of large-scale modes of climate variability and the
  mechanisms and drivers of climate change in Antarctica, the sub-Antarctic 
 and the wider Southern Hemisphere during the past 2000 years. For more info
 rmation visit <a href="http://pastglobalchanges.org/ini/wg/2k-network/proje
 cts/clivash">http://pastglobalchanges.org/ini/wg/2k-network/projects/clivas
 h</a></p><p>CLIVASH2K id holding a half-day workshop at the POLAR2018 confe
 rence in Davos on <strong>Monday, 18th June</strong>.<br />They invite inte
 rested researchers working on a wide range of paleoclimate archives (ice co
 res, marine records, terrestrial and modelling) to come together to discuss
  ideas and plan future activities within the CLIVASH2K framework.</p><p>The
  workshop will involve a small number of invited talks and plenty of discus
 sion. Please contact Liz Thomas if you would like to attend and specify if 
 you would be interested in providing a short presentation or have a specifi
 c idea you wish to discuss.<br /><br />The workshop is open to everyone, bu
 t all participants must be registered for the main conference: <a href="htt
 ps://www.polar2018.org/registration.htmlÂ&nbsp;">https://www.polar2018.org/
 registration.html</a></p><p><strong>Monday, 18 June 2018</strong><br /><str
 ong>8am - 1pm</strong><br /><strong>Room A Forum</strong><br /><strong>Cont
 act: Liz Thomas (<span id="cloak0354fd7c8c76e54c87dfc7b5a6e7a551">This emai
 l address is being protected from spambots. You need JavaScript enabled to 
 view it.</span><script type='text/javascript'>
				document.getElementById(
 'cloak0354fd7c8c76e54c87dfc7b5a6e7a551').innerHTML = '';
				var prefix = '
 &#109;a' + 'i&#108;' + '&#116;o';
				var path = 'hr' + 'ef' + '=';
				var
  addy0354fd7c8c76e54c87dfc7b5a6e7a551 = 'l&#105;th' + '&#64;';
				addy0354
 fd7c8c76e54c87dfc7b5a6e7a551 = addy0354fd7c8c76e54c87dfc7b5a6e7a551 + 'b&#9
 7;s' + '&#46;' + '&#97;c' + '&#46;' + '&#117;k';
				var addy_text0354fd7c8
 c76e54c87dfc7b5a6e7a551 = 'l&#105;th' + '&#64;' + 'b&#97;s' + '&#46;' + '&#
 97;c' + '&#46;' + '&#117;k';document.getElementById('cloak0354fd7c8c76e54c8
 7dfc7b5a6e7a551').innerHTML += '<a ' + path + '\'' + prefix + ':' + addy035
 4fd7c8c76e54c87dfc7b5a6e7a551 + '\'>'+addy_text0354fd7c8c76e54c87dfc7b5a6e7
 a551+'<\/a>';
		</script> )</strong></p><p>&nbsp;</p><p>The CLIVASH2K worki
 ng group</p>
CONTACT:Liz Thomas (This email address is being protected from spambots. You need JavaScript enabled to view it.
				document.getElementById('cloakbc9f1f761de032b881a7668520a2373d').innerHTML = '';
				var prefix = '&#109;a' + 'i&#108;' + '&#116;o';
				var path = 'hr' + 'ef' + '=';
				var addybc9f1f761de032b881a7668520a2373d = 'l&#105;th' + '&#64;';
				addybc9f1f761de032b881a7668520a2373d = addybc9f1f761de032b881a7668520a2373d + 'b&#97;s' + '&#46;' + '&#97;c' + '&#46;' + '&#117;k';
				var addy_textbc9f1f761de032b881a7668520a2373d = 'l&#105;th' + '&#64;' + 'b&#97;s' + '&#46;' + '&#97;c' + '&#46;' + '&#117;k';document.getElementById('cloakbc9f1f761de032b881a7668520a2373d').innerHTML += '<a ' + path + '\'' + prefix + ':' + addybc9f1f761de032b881a7668520a2373d + '\'>'+addy_textbc9f1f761de032b881a7668520a2373d+'';
		 )
DTSTAMP:20260423T163111Z
DTSTART;TZID=UTC:20180618T080000
DTEND;TZID=UTC:20180618T130000
SEQUENCE:0
TRANSP:OPAQUE
END:VEVENT
END:VCALENDAR