BEGIN:VCALENDAR
VERSION:2.0
PRODID:-//jEvents 2.0 for Joomla//EN
CALSCALE:GREGORIAN
METHOD:PUBLISH
BEGIN:VEVENT
UID:a3962671382bf6268c0d6f3ebdfba20f
CATEGORIES:Polar Conferences, Meetings and Events
CREATED:20180220T101239
SUMMARY:Preparing for a Northwest Passage: A Workshop on the Role of New England in Navigating the New Arctic
LOCATION:Durham\, New Hampshire\, UK
DESCRIPTION:Preparing for a Northwest Passage: A Workshop on the Role of New England in
  Navigating the New Arctic\n25-27 March 2018\nDurham, New Hampshire\nRegist
 ration deadline: 25 March 2018\n \nOrganizers invite registrations for a wo
 rkshop titled Preparing for a Northwest Passage: A Workshop on the Role of 
 New England in Navigating the New Arctic. This workshop will convene 25-27 
 March 2018 at the University of New Hampshire in Durham, New Hampshire.\nTh
 is National Science Foundation-sponsored workshop will assess economic, env
 ironmental, and social impacts of Arctic change on New England and establis
 h convergence research initiatives to prepare for, adapt to, and capitalize
  on these effects.\nShipping routes through an ice-free Northwest Passage i
 n combination with modifications to ocean circulation and regional climate 
 patterns linked to Arctic ice melt will affect trade, fisheries, tourism, c
 oastal ecology, air and water quality, animal migration, and demographics n
 ot only in the Arctic but also in lower latitude coastal regions such as Ne
 w England. With profound changes on the horizon, this is a critical opportu
 nity for New England to prepare for uncertain yet inevitable economic and e
 nvironmental impacts of Arctic change. In order to detect and respond to th
 e challenges that New England will face as the nation's eastern gateway to 
 the Arctic, it will be necessary to modify traditional observational networ
 ks and models.\nRegistration deadline: 25 March 2018\nTo register for the w
 orkshop, go to:\n\nFor more information, go to:\n<a href="https://www.arcus
 .org/sites/all/modules/civicrm/extern/url.php?u=7472&amp;qid=985235" target
 ="_blank" rel="noopener">Workshop homepage</a>\nFor questions, contact:\nKa
 tharine Duderstadt\nEmail: This email address is being protected from spamb
 ots. You need JavaScript enabled to view it.
				document.getElementById('c
 loak84544b9e325d229bdd296b2de856ff66').innerHTML = '';
				var prefix = '&#
 109;a' + 'i&#108;' + '&#116;o';
				var path = 'hr' + 'ef' + '=';
				var a
 ddy84544b9e325d229bdd296b2de856ff66 = 'k&#97;th&#97;r&#105;n&#101;.d&#117;d
 &#101;rst&#97;dt' + '&#64;';
				addy84544b9e325d229bdd296b2de856ff66 = add
 y84544b9e325d229bdd296b2de856ff66 + '&#117;nh' + '&#46;' + '&#101;d&#117;';
 
				var addy_text84544b9e325d229bdd296b2de856ff66 = 'k&#97;th&#97;r&#105;n
 &#101;.d&#117;d&#101;rst&#97;dt' + '&#64;' + '&#117;nh' + '&#46;' + '&#101;
 d&#117;';document.getElementById('cloak84544b9e325d229bdd296b2de856ff66').i
 nnerHTML += '<a ' + path + '\'' + prefix + ':' + addy84544b9e325d229bdd296b
 2de856ff66 + '\'>'+addy_text84544b9e325d229bdd296b2de856ff66+'';
		 \n
X-ALT-DESC;FMTTYPE=text/html:<p style="text-align: center;"><strong>Preparing for a Northwest Passage: A
  Workshop on the Role of New England in Navigating the New Arctic</strong><
 br /><strong>25-27 March 2018</strong><br /><strong>Durham, New Hampshire</
 strong></p><p style="text-align: center;"><strong>Registration deadline: 25
  March 2018</strong></p><p>&nbsp;</p><p>Organizers invite registrations for
  a workshop titled Preparing for a Northwest Passage: A Workshop on the Rol
 e of New England in Navigating the New Arctic. This workshop will convene 2
 5-27 March 2018 at the University of New Hampshire in Durham, New Hampshire
 .</p><p>This National Science Foundation-sponsored workshop will assess eco
 nomic, environmental, and social impacts of Arctic change on New England an
 d establish convergence research initiatives to prepare for, adapt to, and 
 capitalize on these effects.</p><p>Shipping routes through an ice-free Nort
 hwest Passage in combination with modifications to ocean circulation and re
 gional climate patterns linked to Arctic ice melt will affect trade, fisher
 ies, tourism, coastal ecology, air and water quality, animal migration, and
  demographics not only in the Arctic but also in lower latitude coastal reg
 ions such as New England. With profound changes on the horizon, this is a c
 ritical opportunity for New England to prepare for uncertain yet inevitable
  economic and environmental impacts of Arctic change. In order to detect an
 d respond to the challenges that New England will face as the nation's east
 ern gateway to the Arctic, it will be necessary to modify traditional obser
 vational networks and models.</p><p>Registration deadline: 25 March 2018</p
 ><p>To register for the workshop, go to:<br /><a href="https://www.arcus.or
 g/sites/all/modules/civicrm/extern/url.php?u=7471&amp;qid=985235" target="_
 blank" rel="noopener">Workshop registration webpage</a></p><p>For more info
 rmation, go to:<br /><a href="https://www.arcus.org/sites/all/modules/civic
 rm/extern/url.php?u=7472&amp;qid=985235" target="_blank" rel="noopener">Wor
 kshop homepage</a></p><p>For questions, contact:<br />Katharine Duderstadt<
 br />Email: <span id="cloak84544b9e325d229bdd296b2de856ff66">This email add
 ress is being protected from spambots. You need JavaScript enabled to view 
 it.</span><script type='text/javascript'>
				document.getElementById('cloa
 k84544b9e325d229bdd296b2de856ff66').innerHTML = '';
				var prefix = '&#109
 ;a' + 'i&#108;' + '&#116;o';
				var path = 'hr' + 'ef' + '=';
				var addy
 84544b9e325d229bdd296b2de856ff66 = 'k&#97;th&#97;r&#105;n&#101;.d&#117;d&#1
 01;rst&#97;dt' + '&#64;';
				addy84544b9e325d229bdd296b2de856ff66 = addy84
 544b9e325d229bdd296b2de856ff66 + '&#117;nh' + '&#46;' + '&#101;d&#117;';
		
 		var addy_text84544b9e325d229bdd296b2de856ff66 = 'k&#97;th&#97;r&#105;n&#1
 01;.d&#117;d&#101;rst&#97;dt' + '&#64;' + '&#117;nh' + '&#46;' + '&#101;d&#
 117;';document.getElementById('cloak84544b9e325d229bdd296b2de856ff66').inne
 rHTML += '<a ' + path + '\'' + prefix + ':' + addy84544b9e325d229bdd296b2de
 856ff66 + '\'>'+addy_text84544b9e325d229bdd296b2de856ff66+'<\/a>';
		</scri
 pt> </p>
CONTACT:This email address is being protected from spambots. You need JavaScript enabled to view it.
				document.getElementById('cloakdffd9bea7f09d1c047ce8f1bbcf8b4c2').innerHTML = '';
				var prefix = '&#109;a' + 'i&#108;' + '&#116;o';
				var path = 'hr' + 'ef' + '=';
				var addydffd9bea7f09d1c047ce8f1bbcf8b4c2 = 'k&#97;th&#97;r&#105;n&#101;.d&#117;d&#101;rst&#97;dt' + '&#64;';
				addydffd9bea7f09d1c047ce8f1bbcf8b4c2 = addydffd9bea7f09d1c047ce8f1bbcf8b4c2 + '&#117;nh' + '&#46;' + '&#101;d&#117;';
				var addy_textdffd9bea7f09d1c047ce8f1bbcf8b4c2 = 'k&#97;th&#97;r&#105;n&#101;.d&#117;d&#101;rst&#97;dt' + '&#64;' + '&#117;nh' + '&#46;' + '&#101;d&#117;';document.getElementById('cloakdffd9bea7f09d1c047ce8f1bbcf8b4c2').innerHTML += '<a ' + path + '\'' + prefix + ':' + addydffd9bea7f09d1c047ce8f1bbcf8b4c2 + '\'>'+addy_textdffd9bea7f09d1c047ce8f1bbcf8b4c2+'';
		
DTSTAMP:20260422T031656Z
DTSTART;TZID=UTC;VALUE=DATE:20180325
DTEND;TZID=UTC;VALUE=DATE:20180328
SEQUENCE:0
TRANSP:OPAQUE
END:VEVENT
END:VCALENDAR