BEGIN:VCALENDAR
VERSION:2.0
PRODID:-//jEvents 2.0 for Joomla//EN
CALSCALE:GREGORIAN
METHOD:PUBLISH
BEGIN:VEVENT
UID:3cda84822ca68a69b7aad4ff30d9e059
CATEGORIES:Polar Conferences, Meetings and Events
CREATED:20180219T132219
SUMMARY:2018 EUMETSAT Meteorological Satellite Conference
LOCATION:Tallinn\, Estonia
DESCRIPTION:<p>The <strong>2018 EUMETSAT Meteorological Satellite Conference</strong> w
 ill take place in <strong>Tallinn, Estonia, from 17 to 21 September 2018</s
 trong>. It will discuss such topics as preparing for MTG and EPS-SG, atmosp
 heric chemistry monitoring and applications, and climate and ocean monitori
 ng. The conference location also lends itself to discussions on the topics 
 of observations for the Baltic Basin, as well as Arctic monitoring and appl
 ications. Further conference topics will incorporate developments in curren
 t and future meteorological satellite programmes, data access and nowcastin
 g and high-resolution NWP. <br /><br />More information about the conferenc
 e and a link to the abstract submission website can be found on <a href="ht
 tp://bit.ly/EMSC2018">http://bit.ly/EMSC2018</a>.</p>
DTSTAMP:20260424T053241Z
DTSTART;TZID=UTC;VALUE=DATE:20180917
DTEND;TZID=UTC;VALUE=DATE:20180922
SEQUENCE:0
TRANSP:OPAQUE
END:VEVENT
END:VCALENDAR