BEGIN:VCALENDAR
VERSION:2.0
PRODID:-//jEvents 2.0 for Joomla//EN
CALSCALE:GREGORIAN
METHOD:PUBLISH
BEGIN:VEVENT
UID:ec68e311181360e50dd5b98da0b285ad
CATEGORIES:Polar Conferences, Meetings and Events
CREATED:20180129T213414
SUMMARY:International Conference on Arctic Margins (ICAM) VIII
LOCATION:Stockholm University\, Sweden
DESCRIPTION:Abstracts until 1 May 2018\n"The International Conference on Arctic Margins
  (ICAM) is a forum for earth scientists who study the Arctic. It was founde
 d to help understand the little known Arctic geology and to foster cooperat
 ion and collaboration among Arctic researchers. "\n​\nhttps://icamviii.geo.
 su.se/en\n
X-ALT-DESC;FMTTYPE=text/html:<p><strong>Abstracts until 1 May 2018</strong></p><p>"The International Con
 ference on Arctic Margins (ICAM) is a forum for earth scientists who study 
 the Arctic. It was founded to help understand the little known Arctic geolo
 gy and to foster cooperation and collaboration among Arctic researchers. "<
 br />​<br />https://icamviii.geo.su.se/en</p>
DTSTAMP:20260421T090900Z
DTSTART;TZID=UTC;VALUE=DATE:20180611
DTEND;TZID=UTC;VALUE=DATE:20180615
SEQUENCE:0
TRANSP:OPAQUE
END:VEVENT
END:VCALENDAR