BEGIN:VCALENDAR
VERSION:2.0
PRODID:-//jEvents 2.0 for Joomla//EN
CALSCALE:GREGORIAN
METHOD:PUBLISH
BEGIN:VEVENT
UID:76c1bf0c90d95fa0129d0489b2c493ca
CATEGORIES:Polar Conferences, Meetings and Events
CREATED:20180125T081007
SUMMARY:Software Carpentry & Intro to HPC Workshop at Polar2018
LOCATION:Davos\, Switzerland
DESCRIPTION:A two-day workshop for polar scientists interested in learning tools for da
 ta analysis and computation using high-performance computing.\nWhen: June 1
 6-17, 2018\nWhere: Davos, Switzerland, collocated with Polar2018 (http://ww
 w.polar2018.org/)\nWhat: Topics covered will include introductions to:\n\n 
 - Python programming\n - Shell scripting\n - Git and version control\n - Hi
 gh-performance computers\n - Best practices in data management and reproduc
 ible researchWho: Graduate students and other early career researchers part
 icularly encouraged to apply. Prior programming experience helpful but not 
 required.\nHow: The workshop is free but space is limited, apply by filling
  out <a href="https://goo.gl/xdtVGs" target="_blank" rel="noopener">this fo
 rm</a> before 10 February 2018.\n...and share this page/the flyer [pdf] (ht
 tp://polar.crc.nd.edu/images/Documents/Polar2018-flyer.pdf)!\n-- \nAllen Po
 pe\n
X-ALT-DESC;FMTTYPE=text/html:<p>A two-day workshop for polar scientists interested in learning tools for
  data analysis and computation using high-performance computing.</p><p><str
 ong>When:</strong> June 16-17, 2018</p><p><strong>Where:</strong> Davos, Sw
 itzerland, collocated with <a href="http://www.polar2018.org/" target="_bla
 nk" rel="noopener">Polar2018</a></p><p><strong>What:</strong> Topics covere
 d will include introductions to:</p><ul><li>Python programming</li><li>Shel
 l scripting</li><li>Git and version control</li><li>High-performance comput
 ers</li><li>Best practices in data management and reproducible research</li
 ></ul><p><strong>Who:</strong> Graduate students and other early career res
 earchers particularly encouraged to apply. Prior programming experience hel
 pful but not required.</p><p><strong>How:</strong> The workshop is free but
  space is limited, apply by filling out <a href="https://goo.gl/xdtVGs" tar
 get="_blank" rel="noopener">this form</a> before <strong>10 February 2018</
 strong>.</p><p>...and share this page/the <a href="http://polar.crc.nd.edu/
 images/Documents/Polar2018-flyer.pdf" target="_blank" rel="noopener">flyer 
 [pdf]</a>!</p><p>-- <br />Allen Pope</p>
CONTACT:Allen Pope
DTSTAMP:20260423T145432Z
DTSTART;TZID=UTC;VALUE=DATE:20180616
DTEND;TZID=UTC;VALUE=DATE:20180618
SEQUENCE:0
TRANSP:OPAQUE
END:VEVENT
END:VCALENDAR