BEGIN:VCALENDAR
VERSION:2.0
PRODID:-//jEvents 2.0 for Joomla//EN
CALSCALE:GREGORIAN
METHOD:PUBLISH
BEGIN:VEVENT
UID:abcd3f300481b334e842c4c505b67ec6
CATEGORIES:Polar Conferences, Meetings and Events
CREATED:20180122T090711
SUMMARY:5th NRF/SANAP Symposium
LOCATION:Hermanus\, South Africa
DESCRIPTION:NRF/SANAP Symposium\nThe 5th NRF/SANAP Symposium (http://blogs.sun.ac.za/an
 tarcticlegacy/2017/12/15/registration-open-for-nrf-sanap-symposium-2018-in-
 hermanus/) will be held in Hermanus, South Africa from 13-16 August 2018 an
 d is organised by the Cape Peninsula University of Technology (CPUT). All i
 nterested participants are invited to submit an abstract to the organisers 
 using this template. Alternatively contact the organisers at This email add
 ress is being protected from spambots. You need JavaScript enabled to view 
 it.
				document.getElementById('cloakdcb3406bc5e2215757e58eb00b7a7aac').in
 nerHTML = '';
				var prefix = '&#109;a' + 'i&#108;' + '&#116;o';
				var p
 ath = 'hr' + 'ef' + '=';
				var addydcb3406bc5e2215757e58eb00b7a7aac = 'SA
 NAPsymp&#111;s&#105;&#117;m2018' + '&#64;';
				addydcb3406bc5e2215757e58eb
 00b7a7aac = addydcb3406bc5e2215757e58eb00b7a7aac + 'gm&#97;&#105;l' + '&#46
 ;' + 'c&#111;m';
				var addy_textdcb3406bc5e2215757e58eb00b7a7aac = 'SANAP
 symp&#111;s&#105;&#117;m2018' + '&#64;' + 'gm&#97;&#105;l' + '&#46;' + 'c&#
 111;m';document.getElementById('cloakdcb3406bc5e2215757e58eb00b7a7aac').inn
 erHTML += '<a ' + path + '\'' + prefix + ':' + addydcb3406bc5e2215757e58eb0
 0b7a7aac + '\'>'+addy_textdcb3406bc5e2215757e58eb00b7a7aac+'';
		.\n
X-ALT-DESC;FMTTYPE=text/html:<p><strong>NRF/SANAP Symposium</strong></p><p>The <a href="http://blogs.sun
 .ac.za/antarcticlegacy/2017/12/15/registration-open-for-nrf-sanap-symposium
 -2018-in-hermanus/">5th NRF/SANAP Symposium</a> will be held in Hermanus, S
 outh Africa from 13-16 August 2018 and is organised by the Cape Peninsula U
 niversity of Technology (CPUT). All interested participants are invited to 
 submit an abstract to the organisers using this template. Alternatively con
 tact the organisers at <span id="cloakdcb3406bc5e2215757e58eb00b7a7aac">Thi
 s email address is being protected from spambots. You need JavaScript enabl
 ed to view it.</span><script type='text/javascript'>
				document.getElemen
 tById('cloakdcb3406bc5e2215757e58eb00b7a7aac').innerHTML = '';
				var pref
 ix = '&#109;a' + 'i&#108;' + '&#116;o';
				var path = 'hr' + 'ef' + '=';
	
 			var addydcb3406bc5e2215757e58eb00b7a7aac = 'SANAPsymp&#111;s&#105;&#117;
 m2018' + '&#64;';
				addydcb3406bc5e2215757e58eb00b7a7aac = addydcb3406bc5
 e2215757e58eb00b7a7aac + 'gm&#97;&#105;l' + '&#46;' + 'c&#111;m';
				var a
 ddy_textdcb3406bc5e2215757e58eb00b7a7aac = 'SANAPsymp&#111;s&#105;&#117;m20
 18' + '&#64;' + 'gm&#97;&#105;l' + '&#46;' + 'c&#111;m';document.getElement
 ById('cloakdcb3406bc5e2215757e58eb00b7a7aac').innerHTML += '<a ' + path + '
 \'' + prefix + ':' + addydcb3406bc5e2215757e58eb00b7a7aac + '\'>'+addy_text
 dcb3406bc5e2215757e58eb00b7a7aac+'<\/a>';
		</script>.</p>
DTSTAMP:20260423T145442Z
DTSTART;TZID=UTC;VALUE=DATE:20180813
DTEND;TZID=UTC;VALUE=DATE:20180817
SEQUENCE:0
TRANSP:OPAQUE
END:VEVENT
END:VCALENDAR