BEGIN:VCALENDAR
VERSION:2.0
PRODID:-//jEvents 2.0 for Joomla//EN
CALSCALE:GREGORIAN
METHOD:PUBLISH
BEGIN:VEVENT
UID:5070ea97ed363e8aa111ad9925a2a2c6
CATEGORIES:Polar Conferences, Meetings and Events
CREATED:20180122T090108
SUMMARY:International Conference on Data Science, E-learning and Information Systems 2018
LOCATION:Universidad a distancia de Madrid\, Madrid\, Spain
DESCRIPTION:<p>The <a href="http://www.iares.net/Conference/Data2018" target="_blank" r
 el="noopener">International Conference on Data Science, E-learning and Info
 rmation Systems 2018 (Data'18)</a> conference will be held at <strong>Unive
 rsidad a distancia de Madrid, Madrid, Spain, 1-2 October, 2018</strong>. <b
 r />Data'18 conference is co-sponsored by the UDIMA Universidad a Distancia
  de Madrid. The conference is technically co-sponsored by Elsevier Procedia
  (Pending).</p><p>The conference has the focus on the frontier topics in th
 e theoretical and applied data science and engineering, e-learning and info
 rmation systems' subjects. Data'18 conference serves as good platforms for 
 our members and the entire data engineering and IS community to meet with e
 ach other and to exchange ideas.</p><p>In addition, Data'18 includes sessio
 ns and different tracks such as Data Science and Engineering, E-learning Ed
 ucation in ICT, Web Technologies, Computing and Application, Cloud Computin
 g, Robotics, IoT, Smart Cities and Green Technologies, Information Systems,
  Machine Learning, Health Advances and Technologies, Modeling and Simulatio
 n, Signal Processing Engineering, Engineering and Project Management, and o
 ther tracks. <br /> <br /><strong><em>Journal Special Issues</em></strong><
 br />Selected papers will be invited to submit an extended version to the s
 ome journals (Scopus). Papers will be selected based on their reviewers’ sc
 ores and appropriateness to the Journal’s theme.<br /> <br />For more infor
 mation about topics, registration fee for speaker and delegate, and special
  sessions, please visit: <a href="http://www.iares.net/Conference/Data2018"
 >http://www.iares.net/Conference/Data2018</a>.<br /> <br /><strong>Importan
 t Dates:</strong> <br />Submission Deadline: May, 01 2018 <br />Notificatio
 n Date: June, 01 2018 <br />Camera-Ready: June, 15 2018 <br />Registration 
 Deadline: June, 15 2018 <br /> <br />If you need any help, please email: <s
 pan id="cloaka133498d85bd252c2fc998e0ca20ba65">This email address is being 
 protected from spambots. You need JavaScript enabled to view it.</span><scr
 ipt type='text/javascript'>
				document.getElementById('cloaka133498d85bd2
 52c2fc998e0ca20ba65').innerHTML = '';
				var prefix = '&#109;a' + 'i&#108;
 ' + '&#116;o';
				var path = 'hr' + 'ef' + '=';
				var addya133498d85bd25
 2c2fc998e0ca20ba65 = '&#105;c&#101;m&#105;s_&#105;&#97;r&#101;s' + '&#64;';
 
				addya133498d85bd252c2fc998e0ca20ba65 = addya133498d85bd252c2fc998e0ca2
 0ba65 + 'y&#97;h&#111;&#111;' + '&#46;' + 'c&#111;m';
				var addy_texta133
 498d85bd252c2fc998e0ca20ba65 = '&#105;c&#101;m&#105;s_&#105;&#97;r&#101;s' 
 + '&#64;' + 'y&#97;h&#111;&#111;' + '&#46;' + 'c&#111;m';document.getElemen
 tById('cloaka133498d85bd252c2fc998e0ca20ba65').innerHTML += '<a ' + path + 
 '\'' + prefix + ':' + addya133498d85bd252c2fc998e0ca20ba65 + '\'>'+addy_tex
 ta133498d85bd252c2fc998e0ca20ba65+'<\/a>';
		</script>.</p>
CONTACT:This email address is being protected from spambots. You need JavaScript enabled to view it.
				document.getElementById('cloak299ab176d82829f05d17c8e27e6fe842').innerHTML = '';
				var prefix = '&#109;a' + 'i&#108;' + '&#116;o';
				var path = 'hr' + 'ef' + '=';
				var addy299ab176d82829f05d17c8e27e6fe842 = '&#105;c&#101;m&#105;s_&#105;&#97;r&#101;s' + '&#64;';
				addy299ab176d82829f05d17c8e27e6fe842 = addy299ab176d82829f05d17c8e27e6fe842 + 'y&#97;h&#111;&#111;' + '&#46;' + 'c&#111;m';
				var addy_text299ab176d82829f05d17c8e27e6fe842 = '&#105;c&#101;m&#105;s_&#105;&#97;r&#101;s' + '&#64;' + 'y&#97;h&#111;&#111;' + '&#46;' + 'c&#111;m';document.getElementById('cloak299ab176d82829f05d17c8e27e6fe842').innerHTML += '<a ' + path + '\'' + prefix + ':' + addy299ab176d82829f05d17c8e27e6fe842 + '\'>'+addy_text299ab176d82829f05d17c8e27e6fe842+'';
		
DTSTAMP:20260422T070249Z
DTSTART;TZID=UTC;VALUE=DATE:20181001
DTEND;TZID=UTC;VALUE=DATE:20181003
SEQUENCE:0
TRANSP:OPAQUE
END:VEVENT
END:VCALENDAR