BEGIN:VCALENDAR
VERSION:2.0
PRODID:-//jEvents 2.0 for Joomla//EN
CALSCALE:GREGORIAN
METHOD:PUBLISH
BEGIN:VEVENT
UID:4bf0e47ec3b401e4012bb68c15cc35c5
CATEGORIES:Polar Conferences, Meetings and Events
CREATED:20180117T131211
SUMMARY:Training programme on "Remote Sensing of Marine Phytoplankton - optics, pigment and taxonomy"
LOCATION:SSO-Indian National Centre for Ocean Information Services (INCOIS)\, Hydera
 bad\, India.
DESCRIPTION:*Training programme on "Remote Sensing of Marine Phytoplankton - optics, pi
 gment and taxonomy"*\nduring March 19 - 23, 2018\nOrganized by Internationa
 l Training Centre for Operational Oceanography (ITCOocean) at ESSO-Indian N
 ational Centre for Ocean Information Services (INCOIS), Hyderabad, India.\n
 More details at: http://www.incois.gov.in/ITCOocean/rsmp.jsp \n*Important D
 ates*\nLast date for online application submission: 29th January, 2018 @ 5:
 00PM IST\nIntimation to Selected candidates: 12th February, 2018\n
X-ALT-DESC;FMTTYPE=text/html:<p><strong>*Training programme on "Remote Sensing of Marine Phytoplankton -
  optics, pigment and taxonomy"*</strong></p><p>during <strong>March 19 - 23
 , 2018</strong></p><p>Organized by International Training Centre for Operat
 ional Oceanography (ITCOocean) at ESSO-Indian National Centre for Ocean Inf
 ormation Services (INCOIS), Hyderabad, India.</p><p>More details at: <a hre
 f="http://www.incois.gov.in/ITCOocean/rsmp.jsp">http://www.incois.gov.in/IT
 COocean/rsmp.jsp</a> </p><p>*Important Dates*<br /><strong>Last date for on
 line application submission: 29th January, 2018 @ 5:00PM IST</strong></p><p
 >Intimation to Selected candidates: 12th February, 2018</p>
DTSTAMP:20260422T031819Z
DTSTART;TZID=UTC;VALUE=DATE:20180319
DTEND;TZID=UTC;VALUE=DATE:20180324
SEQUENCE:0
TRANSP:OPAQUE
END:VEVENT
END:VCALENDAR