BEGIN:VCALENDAR
VERSION:2.0
PRODID:-//jEvents 2.0 for Joomla//EN
CALSCALE:GREGORIAN
METHOD:PUBLISH
BEGIN:VEVENT
UID:b31fdd860c89942351686273e95c7f72
CATEGORIES:Polar Conferences, Meetings and Events
CREATED:20180104T142440
SUMMARY:8th IAHR Symposium on Ice
LOCATION:Vladivostok\, Russia
DESCRIPTION:<p>The <strong>28th IAHR Symposium on Ice</strong>, is being held in <stron
 g>Vladivostok, Russia on 4-9 June 2018</strong>.</p><p>The abstract deadlin
 e has been extended until 25 January 2018.</p><p>The focus of the symposium
  will be on the research of ice properties, field tests, and the analysis o
 f obtained results and their application.</p><p>Please register at <a href=
 "http://iahr-ice2018.isecarctic.ru/">http://iahr-ice2018.isecarctic.ru/</a>
 </p><p>For more information please contact Tatiana Uvarova <span id="cloak0
 953a3d70450eab2873b37fb899d7b02">This email address is being protected from
  spambots. You need JavaScript enabled to view it.</span><script type='text
 /javascript'>
				document.getElementById('cloak0953a3d70450eab2873b37fb899
 d7b02').innerHTML = '';
				var prefix = '&#109;a' + 'i&#108;' + '&#116;o';
 
				var path = 'hr' + 'ef' + '=';
				var addy0953a3d70450eab2873b37fb899d
 7b02 = 's&#101;&#97;r&#97;y' + '&#64;';
				addy0953a3d70450eab2873b37fb899
 d7b02 = addy0953a3d70450eab2873b37fb899d7b02 + 'y&#97;nd&#101;x' + '&#46;' 
 + 'r&#117;';
				var addy_text0953a3d70450eab2873b37fb899d7b02 = 's&#101;&#
 97;r&#97;y' + '&#64;' + 'y&#97;nd&#101;x' + '&#46;' + 'r&#117;';document.ge
 tElementById('cloak0953a3d70450eab2873b37fb899d7b02').innerHTML += '<a ' + 
 path + '\'' + prefix + ':' + addy0953a3d70450eab2873b37fb899d7b02 + '\'>'+a
 ddy_text0953a3d70450eab2873b37fb899d7b02+'<\/a>';
		</script></p>
CONTACT:This email address is being protected from spambots. You need JavaScript enabled to view it.
				document.getElementById('cloak88d4e9d949639c23abd7cf002bf5d403').innerHTML = '';
				var prefix = '&#109;a' + 'i&#108;' + '&#116;o';
				var path = 'hr' + 'ef' + '=';
				var addy88d4e9d949639c23abd7cf002bf5d403 = 's&#101;&#97;r&#97;y' + '&#64;';
				addy88d4e9d949639c23abd7cf002bf5d403 = addy88d4e9d949639c23abd7cf002bf5d403 + 'y&#97;nd&#101;x' + '&#46;' + 'r&#117;';
				var addy_text88d4e9d949639c23abd7cf002bf5d403 = 's&#101;&#97;r&#97;y' + '&#64;' + 'y&#97;nd&#101;x' + '&#46;' + 'r&#117;';document.getElementById('cloak88d4e9d949639c23abd7cf002bf5d403').innerHTML += '<a ' + path + '\'' + prefix + ':' + addy88d4e9d949639c23abd7cf002bf5d403 + '\'>'+addy_text88d4e9d949639c23abd7cf002bf5d403+'';
		
DTSTAMP:20260424T023528Z
DTSTART;TZID=UTC;VALUE=DATE:20180604
DTEND;TZID=UTC;VALUE=DATE:20180610
SEQUENCE:0
TRANSP:OPAQUE
END:VEVENT
END:VCALENDAR