BEGIN:VCALENDAR
VERSION:2.0
PRODID:-//jEvents 2.0 for Joomla//EN
CALSCALE:GREGORIAN
METHOD:PUBLISH
BEGIN:VEVENT
UID:573dc477267a9516791bb565be8d4ddd
CATEGORIES:Field and Summer Schools
CREATED:20171218T081404
SUMMARY:2nd Sentinel North International PhD School
LOCATION:Baffin Bay (Nunavut)\, Canada
DESCRIPTION:Sentinel North International PhD School: Shedding Light on Arctic Marine Ec
 osystem Services, July 12 to 24, 2018, Baffin Bay (Nunavut), Canada\n \nTak
 ing place on board the Canadian research icebreaker CCGS Amundsen deployed 
 in Baffin Bay and the Fjords of Baffin Island, Nunavut (Canada), the Sentin
 el North International PhD School is a unique opportunity to participate in
  an ocean research program focusing on the links between light, marine ecos
 ystem services and health in the North.\n \nParticipants will experience an
  exceptional transdisciplinary training, in close interaction with top scie
 ntists, in an highly technological environment.\n \nBringing together a wid
 e range of disciplines such as optics, physical and biological oceanography
 , biochemistry and remote sensing, the school will focus on the following t
 hemes:\n- The fundamental role of light in marine ecosystems\n- The potenti
 al of light for the study of the changing Arctic\n- Light-driven processes 
 and Arctic marine ecosystem services\n \nWe encourage graduate students and
  postdoctoral fellows of all relevant fields of research to seize this oppo
 rtunity.\nThe deadline to submit your application to the Sentinel North Int
 ernational PhD School is January 28, 2018.\nMore infroamtion here: sentinel
 north.ulaval.ca/baffin2018 (http://sentinelnorth.ulaval.ca/en/baffin2018)\n
X-ALT-DESC;FMTTYPE=text/html:<p><strong>Sentinel North International PhD School: Shedding Light on Arcti
 c Marine Ecosystem Services, July 12 to 24, 2018, Baffin Bay (Nunavut), Can
 ada</strong><br /> <br />Taking place on board the Canadian research icebre
 aker CCGS Amundsen deployed in Baffin Bay and the Fjords of Baffin Island, 
 Nunavut (Canada), the Sentinel North International PhD School is a unique o
 pportunity to participate in an ocean research program focusing on the link
 s between light, marine ecosystem services and health in the North.<br /> <
 br />Participants will experience an exceptional transdisciplinary training
 , in close interaction with top scientists, in an highly technological envi
 ronment.<br /> <br />Bringing together a wide range of disciplines such as 
 optics, physical and biological oceanography, biochemistry and remote sensi
 ng, the school will focus on the following themes:<br />- The fundamental r
 ole of light in marine ecosystems<br />- The potential of light for the stu
 dy of the changing Arctic<br />- Light-driven processes and Arctic marine e
 cosystem services<br /> <br />We encourage graduate students and postdoctor
 al fellows of all relevant fields of research to seize this opportunity.<br
  />The deadline to submit your application to the Sentinel North Internatio
 nal PhD School is <strong>January 28, 2018</strong>.</p><p>More infroamtion
  here: <a href="http://sentinelnorth.ulaval.ca/en/baffin2018" target="_blan
 k" rel="noopener">sentinelnorth.ulaval.ca/baffin2018</a></p>
DTSTAMP:20260421T160740Z
DTSTART;TZID=UTC;VALUE=DATE:20180712
DTEND;TZID=UTC;VALUE=DATE:20180726
SEQUENCE:0
TRANSP:OPAQUE
END:VEVENT
END:VCALENDAR