BEGIN:VCALENDAR
VERSION:2.0
PRODID:-//jEvents 2.0 for Joomla//EN
CALSCALE:GREGORIAN
METHOD:PUBLISH
BEGIN:VEVENT
UID:29360ba80d75451c755a97f5f9523445
CATEGORIES:Polar Conferences, Meetings and Events
CREATED:20171218T080653
SUMMARY:Arctic System Change Workshop
LOCATION:NCAR Mesa Lab in Boulder\, Colorado
DESCRIPTION:The workshop will address the natural and anthropogenic drivers of Arctic e
 nvironmental change. This will include a system-wide perspective on the cha
 nging Arctic environment, the influence of local and remote controls, and t
 he importance of coupled interactions. A primary goal of the workshop is to
  provide new insights on how to better integrate observing and modeling app
 roaches to enhance understanding of Arctic system change. The meeting will 
 include participants from the atmospheric, terrestrial, land ice, sea ice, 
 and oceanographic communities.\nWe invite early career scientists (graduate
  students and individuals within 4 years of their PhD) to apply for funding
  to attend an Arctic system change workshop at the NCAR Mesa Lab in Boulder
 , Colorado from April 9-12, 2018. The application deadline is January 14, 2
 018.\nTo apply for early career scientist funded travel, please fill out th
 e form at: https://goo.gl/mm3N1D\n
X-ALT-DESC;FMTTYPE=text/html:<p>The workshop will address the natural and anthropogenic drivers of Arcti
 c environmental change. This will include a system-wide perspective on the 
 changing Arctic environment, the influence of local and remote controls, an
 d the importance of coupled interactions. A primary goal of the workshop is
  to provide new insights on how to better integrate observing and modeling 
 approaches to enhance understanding of Arctic system change. The meeting wi
 ll include participants from the atmospheric, terrestrial, land ice, sea ic
 e, and oceanographic communities.</p><p>We invite early career scientists (
 graduate students and individuals within 4 years of their PhD) to apply for
  funding to attend an <strong>Arctic system change workshop at the NCAR Mes
 a Lab</strong> in <strong>Boulder, Colorado from April 9-12, 2018</strong>.
  The <strong>application deadline is January 14, 2018</strong>.</p><p>To ap
 ply for early career scientist funded travel, please fill out the form at: 
 <a href="https://goo.gl/mm3N1D">https://goo.gl/mm3N1D</a></p>
DTSTAMP:20260422T000656Z
DTSTART;TZID=UTC;VALUE=DATE:20180409
DTEND;TZID=UTC;VALUE=DATE:20180413
SEQUENCE:0
TRANSP:OPAQUE
END:VEVENT
END:VCALENDAR