BEGIN:VCALENDAR
VERSION:2.0
PRODID:-//jEvents 2.0 for Joomla//EN
CALSCALE:GREGORIAN
METHOD:PUBLISH
BEGIN:VEVENT
UID:f532fa960d8ae048f7d80399a7538e16
CATEGORIES:Polar Conferences, Meetings and Events
CREATED:20171130T101837
SUMMARY:PYRN Workshop at EUCOP5
LOCATION:Chamonix\, France
DESCRIPTION:<p>A <strong>two-day workshop for young researchers organised by the PYRN</
 strong> (Permafrost Young Researchers Network) will take place in<strong> C
 hamonix June 23-24, 2018</strong>. The workshop will include 1 day of local
  excursion.</p><p>All participants to the workshop will be invited to join 
 us as early as June 22nd for a welcoming BBQ hosted at the Chamonix Youth H
 ostel. Solutions for cheap accommodations will be offered by the Chamonix Y
 outh Hostel.</p><p><strong>The workshop program is as follows:</strong></p>
 <p><em>Friday, June 22nd 2018:</em> Welcoming ice-breaker for PYRN particip
 ants</p><p><em>Saturday June, 23rd 2018:</em> Introduction to PYRN activiti
 es by the PYRN ExCom, plenary lectures and breakout sessions lead by outsta
 nding senior and junior scientists covering major permafrost topics, career
  planning, research perspectives, and soft-skills development.</p><p><em>Su
 nday June, 24th 2018:</em> Local excursion lead by outstanding local resear
 chers and land-planners to learn about environmental settings and land-plan
 ning issues in the Mont Blanc massif.</p><p>Please, check for updates and s
 ubmit your abstract on: <a href="https://eucop2018.sciencesconf.org/">https
 ://eucop2018.sciencesconf.org/</a></p><p>All young researchers willing to p
 articipate to this workshop are invited to sign up to the PYRN: <a href="ht
 tps://pyrn.arcticportal.org/join-us">https://pyrn.arcticportal.org/join-us<
 /a></p><p>Please do not hesitate to contact us at <span id="cloak50f8ee3aa9
 a289f9969a6ad4b056bd16">This email address is being protected from spambots
 . You need JavaScript enabled to view it.</span><script type='text/javascri
 pt'>
				document.getElementById('cloak50f8ee3aa9a289f9969a6ad4b056bd16').i
 nnerHTML = '';
				var prefix = '&#109;a' + 'i&#108;' + '&#116;o';
				var 
 path = 'hr' + 'ef' + '=';
				var addy50f8ee3aa9a289f9969a6ad4b056bd16 = 'c
 &#111;nt&#97;ct' + '&#64;';
				addy50f8ee3aa9a289f9969a6ad4b056bd16 = addy
 50f8ee3aa9a289f9969a6ad4b056bd16 + 'pyrn' + '&#46;' + '&#111;rg';
				var a
 ddy_text50f8ee3aa9a289f9969a6ad4b056bd16 = 'c&#111;nt&#97;ct' + '&#64;' + '
 pyrn' + '&#46;' + '&#111;rg';document.getElementById('cloak50f8ee3aa9a289f9
 969a6ad4b056bd16').innerHTML += '<a ' + path + '\'' + prefix + ':' + addy50
 f8ee3aa9a289f9969a6ad4b056bd16 + '\'>'+addy_text50f8ee3aa9a289f9969a6ad4b05
 6bd16+'<\/a>';
		</script> for any inquiries regarding the PYRN activities 
 at ECUOP5.</p><p>This is a great opportunity to meet each other, learn abou
 t permafrost sciences, and draw research perspectives together. We hope to 
 see you in Chamonix next year!!</p>
DTSTAMP:20260421T105817Z
DTSTART;TZID=UTC;VALUE=DATE:20180623
DTEND;TZID=UTC;VALUE=DATE:20180625
SEQUENCE:0
TRANSP:OPAQUE
END:VEVENT
END:VCALENDAR