BEGIN:VCALENDAR
VERSION:2.0
PRODID:-//jEvents 2.0 for Joomla//EN
CALSCALE:GREGORIAN
METHOD:PUBLISH
BEGIN:VEVENT
UID:859ce313f1aaf38b5fb2f777c8590075
CATEGORIES:Polar Conferences, Meetings and Events
CREATED:20171129T080029
SUMMARY:MISOMIP 2018
LOCATION:Campus of NYUAD on Saadiyat Island\, UAE
DESCRIPTION:The Climate and Cryosphere (CliC) project of the World Climate Research Pro
 gram (WCRP) has initiated a Targeted Activity named the Marine Ice Sheet - 
 Ocean Modeling Intercomparison Project (MISOMIP (http://www.climate-cryosph
 ere.org/activities/targeted/misomip)) to advance coupled glacier-ocean mode
 ling for West Antarctica. The MISOMIP effort is also an activity of the Sci
 entific Committee on Antarctic Research (SCAR). To date, first and second w
 orkshops were held in 2014 and 2016.\nDuring May 7-9, 2018, a third worksho
 p is being organized, hosted by the NYU Abu Dhabi Research Institute (RI) a
 nd the Center for global Sea-Level Change (CSLC). The workshop will be held
  at the campus of NYUAD on Saadiyat Island, UAE.\nLimited support is availa
 ble for several graduate students involved in MISOMIP/MISMIP/ISOMIP related
  research as part of their thesis work. Suitable graduate students interest
 ed in attending, please respond no later than Monday, December 10, 2017, co
 ntacting Denise Holland (This email address is being protected from spambot
 s. You need JavaScript enabled to view it.
				document.getElementById('clo
 akf7f0c4fc01069e9b3fc79561d7a49d4f').innerHTML = '';
				var prefix = '&#10
 9;a' + 'i&#108;' + '&#116;o';
				var path = 'hr' + 'ef' + '=';
				var add
 yf7f0c4fc01069e9b3fc79561d7a49d4f = 'd&#101;n&#105;s&#101;.h&#111;ll&#97;nd
 ' + '&#64;';
				addyf7f0c4fc01069e9b3fc79561d7a49d4f = addyf7f0c4fc01069e9
 b3fc79561d7a49d4f + 'ny&#117;' + '&#46;' + '&#101;d&#117;';
				var addy_te
 xtf7f0c4fc01069e9b3fc79561d7a49d4f = 'd&#101;n&#105;s&#101;.h&#111;ll&#97;n
 d' + '&#64;' + 'ny&#117;' + '&#46;' + '&#101;d&#117;';document.getElementBy
 Id('cloakf7f0c4fc01069e9b3fc79561d7a49d4f').innerHTML += '<a ' + path + '\'
 ' + prefix + ':' + addyf7f0c4fc01069e9b3fc79561d7a49d4f + '\'>'+addy_textf7
 f0c4fc01069e9b3fc79561d7a49d4f+'';
		) briefly outlining their current rese
 arch activity.\n
X-ALT-DESC;FMTTYPE=text/html:<p>The Climate and Cryosphere (CliC) project of the World Climate Research 
 Program (WCRP) has initiated a Targeted Activity named the <strong>Marine I
 ce Sheet - Ocean Modeling Intercomparison Project (<a href="http://www.clim
 ate-cryosphere.org/activities/targeted/misomip" target="_blank" rel="noopen
 er noreferrer">MISOMIP</a>)</strong> to advance coupled glacier-ocean model
 ing for West Antarctica. The MISOMIP effort is also an activity of the Scie
 ntific Committee on Antarctic Research (SCAR). To date, first and second wo
 rkshops were held in 2014 and 2016.</p><p><strong>During May 7-9, 2018</str
 ong>, a third workshop is being organized, hosted by the NYU Abu Dhabi Rese
 arch Institute (RI) and the Center for global Sea-Level Change (CSLC). The 
 workshop will be held at the campus of NYUAD on Saadiyat Island, UAE.</p><p
 >Limited support is available for several graduate students involved in MIS
 OMIP/MISMIP/ISOMIP related research as part of their thesis work. Suitable 
 graduate students interested in attending, please respond no later than <st
 rong>Monday, December 10, 2017</strong>, contacting Denise Holland (<span i
 d="cloakf7f0c4fc01069e9b3fc79561d7a49d4f">This email address is being prote
 cted from spambots. You need JavaScript enabled to view it.</span><script t
 ype='text/javascript'>
				document.getElementById('cloakf7f0c4fc01069e9b3f
 c79561d7a49d4f').innerHTML = '';
				var prefix = '&#109;a' + 'i&#108;' + '
 &#116;o';
				var path = 'hr' + 'ef' + '=';
				var addyf7f0c4fc01069e9b3fc
 79561d7a49d4f = 'd&#101;n&#105;s&#101;.h&#111;ll&#97;nd' + '&#64;';
				add
 yf7f0c4fc01069e9b3fc79561d7a49d4f = addyf7f0c4fc01069e9b3fc79561d7a49d4f + 
 'ny&#117;' + '&#46;' + '&#101;d&#117;';
				var addy_textf7f0c4fc01069e9b3f
 c79561d7a49d4f = 'd&#101;n&#105;s&#101;.h&#111;ll&#97;nd' + '&#64;' + 'ny&#
 117;' + '&#46;' + '&#101;d&#117;';document.getElementById('cloakf7f0c4fc010
 69e9b3fc79561d7a49d4f').innerHTML += '<a ' + path + '\'' + prefix + ':' + a
 ddyf7f0c4fc01069e9b3fc79561d7a49d4f + '\'>'+addy_textf7f0c4fc01069e9b3fc795
 61d7a49d4f+'<\/a>';
		</script>) briefly outlining their current research a
 ctivity.</p>
CONTACT:This email address is being protected from spambots. You need JavaScript enabled to view it.
				document.getElementById('cloak813c1bf81ebfe119f78c41640dc7c763').innerHTML = '';
				var prefix = '&#109;a' + 'i&#108;' + '&#116;o';
				var path = 'hr' + 'ef' + '=';
				var addy813c1bf81ebfe119f78c41640dc7c763 = 'd&#101;n&#105;s&#101;.h&#111;ll&#97;nd' + '&#64;';
				addy813c1bf81ebfe119f78c41640dc7c763 = addy813c1bf81ebfe119f78c41640dc7c763 + 'ny&#117;' + '&#46;' + '&#101;d&#117;';
				var addy_text813c1bf81ebfe119f78c41640dc7c763 = 'd&#101;n&#105;s&#101;.h&#111;ll&#97;nd' + '&#64;' + 'ny&#117;' + '&#46;' + '&#101;d&#117;';document.getElementById('cloak813c1bf81ebfe119f78c41640dc7c763').innerHTML += '<a ' + path + '\'' + prefix + ':' + addy813c1bf81ebfe119f78c41640dc7c763 + '\'>'+addy_text813c1bf81ebfe119f78c41640dc7c763+'';
		
DTSTAMP:20260421T230319Z
DTSTART;TZID=UTC;VALUE=DATE:20180507
DTEND;TZID=UTC;VALUE=DATE:20180510
SEQUENCE:0
TRANSP:OPAQUE
END:VEVENT
END:VCALENDAR