BEGIN:VCALENDAR
VERSION:2.0
PRODID:-//jEvents 2.0 for Joomla//EN
CALSCALE:GREGORIAN
METHOD:PUBLISH
BEGIN:VEVENT
UID:5c267fd2c5e8afe1ae58b2252f409841
CATEGORIES:Polar Conferences, Meetings and Events
CREATED:20171129T075648
SUMMARY:CICE Consortium Meeting at the 2017 AGU Fall Meeting
LOCATION:Second floor of the Hampton Inn and Suites - New Orleans Convention Center 
 hotel
DESCRIPTION:<p>The CICE Consortium, a group of stakeholders and primary developers of t
 he Los Alamos sea ice model (CICE), announces an open meeting to be held du
 ring the 2017 American Geophysical Union (AGU) Fall Meeting in New Orleans,
  Louisiana.</p><p>This open meeting will convene <strong>Wednesday, 13 Dece
 mber 2017 from 12:30 to 1:30 p.m</strong>. CST in Riverside III on the seco
 nd floor of the Hampton Inn and Suites - New Orleans Convention Center hote
 l.</p><p><strong>This meeting will provide:</strong></p><ul><li>A discussio
 n of the planned releases from the CICE Consortium,</li><li>Presentations f
 rom member institutions, and</li><li>Opportunities for discussion and to sh
 are information on related efforts.</li></ul><p>Attendees are invited to br
 ing a lunch.</p><p>For more information about the CICE Consortium, go to:<b
 r /><a href="https://www.arcus.org/sites/all/modules/civicrm/extern/url.php
 ?u=6088&amp;qid=684480" target="_blank" rel="noopener noreferrer">CICE Cons
 ortium webpage</a></p><p>For questions and to RSVP, contact:<br />David Bai
 ley<br />Email: <span id="cloak463fcd8b07b7fe85e44276acb2b0811b">This email
  address is being protected from spambots. You need JavaScript enabled to v
 iew it.</span><script type='text/javascript'>
				document.getElementById('
 cloak463fcd8b07b7fe85e44276acb2b0811b').innerHTML = '';
				var prefix = '&
 #109;a' + 'i&#108;' + '&#116;o';
				var path = 'hr' + 'ef' + '=';
				var 
 addy463fcd8b07b7fe85e44276acb2b0811b = 'db&#97;&#105;l&#101;y' + '&#64;';
	
 			addy463fcd8b07b7fe85e44276acb2b0811b = addy463fcd8b07b7fe85e44276acb2b08
 11b + '&#117;c&#97;r' + '&#46;' + '&#101;d&#117;';
				var addy_text463fcd8
 b07b7fe85e44276acb2b0811b = 'db&#97;&#105;l&#101;y' + '&#64;' + '&#117;c&#9
 7;r' + '&#46;' + '&#101;d&#117;';document.getElementById('cloak463fcd8b07b7
 fe85e44276acb2b0811b').innerHTML += '<a ' + path + '\'' + prefix + ':' + ad
 dy463fcd8b07b7fe85e44276acb2b0811b + '\'>'+addy_text463fcd8b07b7fe85e44276a
 cb2b0811b+'<\/a>';
		</script></p>
CONTACT:This email address is being protected from spambots. You need JavaScript enabled to view it.
				document.getElementById('cloakdb69f785856f416da8e821ec50862dc2').innerHTML = '';
				var prefix = '&#109;a' + 'i&#108;' + '&#116;o';
				var path = 'hr' + 'ef' + '=';
				var addydb69f785856f416da8e821ec50862dc2 = 'db&#97;&#105;l&#101;y' + '&#64;';
				addydb69f785856f416da8e821ec50862dc2 = addydb69f785856f416da8e821ec50862dc2 + '&#117;c&#97;r' + '&#46;' + '&#101;d&#117;';
				var addy_textdb69f785856f416da8e821ec50862dc2 = 'db&#97;&#105;l&#101;y' + '&#64;' + '&#117;c&#97;r' + '&#46;' + '&#101;d&#117;';document.getElementById('cloakdb69f785856f416da8e821ec50862dc2').innerHTML += '<a ' + path + '\'' + prefix + ':' + addydb69f785856f416da8e821ec50862dc2 + '\'>'+addy_textdb69f785856f416da8e821ec50862dc2+'';
		
DTSTAMP:20260422T043413Z
DTSTART;TZID=UTC:20171213T003000
DTEND;TZID=UTC:20171213T133000
SEQUENCE:0
TRANSP:OPAQUE
END:VEVENT
END:VCALENDAR