BEGIN:VCALENDAR
VERSION:2.0
PRODID:-//jEvents 2.0 for Joomla//EN
CALSCALE:GREGORIAN
METHOD:PUBLISH
BEGIN:VEVENT
UID:f184eb0716ee90532234d2756d9f41ed
CATEGORIES:Field and Summer Schools
CREATED:20171129T071326
SUMMARY:AnT-ERA/SCAR Spring Course
LOCATION:Buenos Aires\, Argentina
DESCRIPTION:Antarctic Thresholds - Ecosystems Resilience and Adaptation (AnT-ERA)\nBiol
 ogical Processes in Antarctic Ecosystems, Spring Course, Buenos Aires, Arge
 ntina, 23 - 29 September 2018\nAnTERA web SpringC Fig1Experienced scientist
 s from the SCAR/AnT-ERA community will give a short course on conducting An
 tarctic and Southern Ocean biological and ecological research. This opportu
 nity will focus on topics relevant to marine and terrestrial organisms. It 
 is intended to complement formal university courses and encourage the parti
 cipants of the course to pursue Antarctic research.\nCall for applicants: G
 raduate and PhD students and post-docs\nExtended deadline: 31 December 2017
 \nFor further complete call with details: pdf AnTERA 2018 SpringCourse Call
  (https://www.scar.org/library/science-4/research-programmes/ant-era/4157-a
 ntera-2018-springcourse-call)\nIf you like to receive the poster please con
 tact Julian Gutt (This email address is being protected from spambots. You 
 need JavaScript enabled to view it.
				document.getElementById('cloakfb60c
 433708ca151ff5e049071abfa99').innerHTML = '';
				var prefix = '&#109;a' + 
 'i&#108;' + '&#116;o';
				var path = 'hr' + 'ef' + '=';
				var addyfb60c4
 33708ca151ff5e049071abfa99 = 'j&#117;l&#105;&#97;n.g&#117;tt' + '&#64;';
		
 		addyfb60c433708ca151ff5e049071abfa99 = addyfb60c433708ca151ff5e049071abfa
 99 + '&#97;w&#105;' + '&#46;' + 'd&#101;';
				var addy_textfb60c433708ca15
 1ff5e049071abfa99 = 'j&#117;l&#105;&#97;n.g&#117;tt' + '&#64;' + '&#97;w&#1
 05;' + '&#46;' + 'd&#101;';document.getElementById('cloakfb60c433708ca151ff
 5e049071abfa99').innerHTML += '<a ' + path + '\'' + prefix + ':' + addyfb60
 c433708ca151ff5e049071abfa99 + '\'>'+addy_textfb60c433708ca151ff5e049071abf
 a99+'';
		)\n
X-ALT-DESC;FMTTYPE=text/html:<p><strong>Antarctic Thresholds - Ecosystems Resilience and Adaptation (AnT
 -ERA)</strong></p><p>Biological Processes in Antarctic Ecosystems, Spring C
 ourse, Buenos Aires, Argentina, 23 - 29 September 2018</p><p>AnTERA web Spr
 ingC Fig1Experienced scientists from the SCAR/AnT-ERA community will give a
  short course on conducting Antarctic and Southern Ocean biological and eco
 logical research. This opportunity will focus on topics relevant to marine 
 and terrestrial organisms. It is intended to complement formal university c
 ourses and encourage the participants of the course to pursue Antarctic res
 earch.</p><p>Call for applicants: Graduate and PhD students and post-docs</
 p><p><strong>Extended deadline: 31 December 2017</strong></p><p>For further
  complete call with details: <a href="https://www.scar.org/library/science-
 4/research-programmes/ant-era/4157-antera-2018-springcourse-call" target="_
 blank" rel="noopener noreferrer">pdf AnTERA 2018 SpringCourse Call</a></p><
 p>If you like to receive the poster please contact Julian Gutt (<span id="c
 loakfb60c433708ca151ff5e049071abfa99">This email address is being protected
  from spambots. You need JavaScript enabled to view it.</span><script type=
 'text/javascript'>
				document.getElementById('cloakfb60c433708ca151ff5e04
 9071abfa99').innerHTML = '';
				var prefix = '&#109;a' + 'i&#108;' + '&#11
 6;o';
				var path = 'hr' + 'ef' + '=';
				var addyfb60c433708ca151ff5e049
 071abfa99 = 'j&#117;l&#105;&#97;n.g&#117;tt' + '&#64;';
				addyfb60c433708
 ca151ff5e049071abfa99 = addyfb60c433708ca151ff5e049071abfa99 + '&#97;w&#105
 ;' + '&#46;' + 'd&#101;';
				var addy_textfb60c433708ca151ff5e049071abfa99
  = 'j&#117;l&#105;&#97;n.g&#117;tt' + '&#64;' + '&#97;w&#105;' + '&#46;' + 
 'd&#101;';document.getElementById('cloakfb60c433708ca151ff5e049071abfa99').
 innerHTML += '<a ' + path + '\'' + prefix + ':' + addyfb60c433708ca151ff5e0
 49071abfa99 + '\'>'+addy_textfb60c433708ca151ff5e049071abfa99+'<\/a>';
		</
 script>)</p>
CONTACT:Julian Gutt - This email address is being protected from spambots. You need JavaScript enabled to view it.
				document.getElementById('cloakd9ce3d9991d1b03e72ca000e04e84509').innerHTML = '';
				var prefix = '&#109;a' + 'i&#108;' + '&#116;o';
				var path = 'hr' + 'ef' + '=';
				var addyd9ce3d9991d1b03e72ca000e04e84509 = 'j&#117;l&#105;&#97;n.g&#117;tt' + '&#64;';
				addyd9ce3d9991d1b03e72ca000e04e84509 = addyd9ce3d9991d1b03e72ca000e04e84509 + '&#97;w&#105;' + '&#46;' + 'd&#101;';
				var addy_textd9ce3d9991d1b03e72ca000e04e84509 = 'j&#117;l&#105;&#97;n.g&#117;tt' + '&#64;' + '&#97;w&#105;' + '&#46;' + 'd&#101;';document.getElementById('cloakd9ce3d9991d1b03e72ca000e04e84509').innerHTML += '<a ' + path + '\'' + prefix + ':' + addyd9ce3d9991d1b03e72ca000e04e84509 + '\'>'+addy_textd9ce3d9991d1b03e72ca000e04e84509+'';
		
DTSTAMP:20260423T144644Z
DTSTART;TZID=UTC;VALUE=DATE:20180923
DTEND;TZID=UTC;VALUE=DATE:20180930
SEQUENCE:0
TRANSP:OPAQUE
END:VEVENT
END:VCALENDAR