BEGIN:VCALENDAR
VERSION:2.0
PRODID:-//jEvents 2.0 for Joomla//EN
CALSCALE:GREGORIAN
METHOD:PUBLISH
BEGIN:VEVENT
UID:e68ceb955659b4287ec6e64733132d5b
CATEGORIES:Polar Conferences, Meetings and Events
CREATED:20160504T194610
SUMMARY:4th China-Nordic Arctic Cooperation Symposium
LOCATION:Rovaniemi\, Finland
DESCRIPTION:<p>The China-Nordic Arctic Cooperation Symposium is the annual meeting of t
 he China-Nordic Arctic Research Center (CNARC), a network of eleven Member 
 Institutes, five Chinese and six Nordic, which all have capacities to influ
 ence and coordinate Arctic research. CNARC’s purpose is to provide a platfo
 rm for academic cooperation to increase awareness, understanding and knowle
 dge of the Arctic and its global impacts, as well as to promote cooperation
  for sustainable development of the Nordic Arctic and coherent development 
 of China in a global context.</p><p>This year the event will be hosted by t
 he Arctic Centre, University of Lapland that kindly invites members of scie
 ntific, policy and business communities to attend the Symposium on 6-9 June
  2016. The Symposium will consist of two parts: the academic conference and
  the business roundtable (upon invitations) - to enable exchanges between i
 nterested parties on relevant Arctic issues.</p><p>The registration to the 
 Symposium is now open <a href="http://www.arcticcentre.org/china">here</a>.
 </p><p>Please find the programme <a href="http://www.arcticcentre.org/loade
 r.aspx?id=91f84308-fdd8-464f-a1a0-eb3d60c65a3c">here</a> and for more infor
 mation and updates follow the website: http://www.arcticcentre.org/china or
  contact:</p><p>Arctic Centre</p><p>Malgorzata (Gosia) Smieszek, <span id="
 cloakac54f7d8aa4ddc1391d044834fcf1932">This email address is being protecte
 d from spambots. You need JavaScript enabled to view it.</span><script type
 ='text/javascript'>
				document.getElementById('cloakac54f7d8aa4ddc1391d04
 4834fcf1932').innerHTML = '';
				var prefix = '&#109;a' + 'i&#108;' + '&#1
 16;o';
				var path = 'hr' + 'ef' + '=';
				var addyac54f7d8aa4ddc1391d044
 834fcf1932 = 'm&#97;lg&#111;rz&#97;t&#97;.sm&#105;&#101;sz&#101;k' + '&#64;
 ';
				addyac54f7d8aa4ddc1391d044834fcf1932 = addyac54f7d8aa4ddc1391d044834
 fcf1932 + '&#117;l&#97;pl&#97;nd' + '&#46;' + 'f&#105;';
				var addy_texta
 c54f7d8aa4ddc1391d044834fcf1932 = 'm&#97;lg&#111;rz&#97;t&#97;.sm&#105;&#10
 1;sz&#101;k' + '&#64;' + '&#117;l&#97;pl&#97;nd' + '&#46;' + 'f&#105;';docu
 ment.getElementById('cloakac54f7d8aa4ddc1391d044834fcf1932').innerHTML += '
 <a ' + path + '\'' + prefix + ':' + addyac54f7d8aa4ddc1391d044834fcf1932 + 
 '\'>'+addy_textac54f7d8aa4ddc1391d044834fcf1932+'<\/a>';
		</script>, +358 
 40 4844400</p><p>Markku Heikkilä, <span id="cloak3e59aae6e8a77c8255534e348a
 9f0ecb">This email address is being protected from spambots. You need JavaS
 cript enabled to view it.</span><script type='text/javascript'>
				documen
 t.getElementById('cloak3e59aae6e8a77c8255534e348a9f0ecb').innerHTML = '';
	
 			var prefix = '&#109;a' + 'i&#108;' + '&#116;o';
				var path = 'hr' + 'e
 f' + '=';
				var addy3e59aae6e8a77c8255534e348a9f0ecb = 'm&#97;rkk&#117;.h
 &#101;&#105;kk&#105;l&#97;' + '&#64;';
				addy3e59aae6e8a77c8255534e348a9f
 0ecb = addy3e59aae6e8a77c8255534e348a9f0ecb + '&#117;l&#97;pl&#97;nd' + '&#
 46;' + 'f&#105;';
				var addy_text3e59aae6e8a77c8255534e348a9f0ecb = 'm&#9
 7;rkk&#117;.h&#101;&#105;kk&#105;l&#97;' + '&#64;' + '&#117;l&#97;pl&#97;nd
 ' + '&#46;' + 'f&#105;';document.getElementById('cloak3e59aae6e8a77c8255534
 e348a9f0ecb').innerHTML += '<a ' + path + '\'' + prefix + ':' + addy3e59aae
 6e8a77c8255534e348a9f0ecb + '\'>'+addy_text3e59aae6e8a77c8255534e348a9f0ecb
 +'<\/a>';
		</script>, + 358 40 4844300</p><p>China-Nordic Arctic Research 
 Center</p><p>Chen Xu, <span id="cloak33ea216524564e2ecc6d6eaa21f03075">This
  email address is being protected from spambots. You need JavaScript enable
 d to view it.</span><script type='text/javascript'>
				document.getElement
 ById('cloak33ea216524564e2ecc6d6eaa21f03075').innerHTML = '';
				var prefi
 x = '&#109;a' + 'i&#108;' + '&#116;o';
				var path = 'hr' + 'ef' + '=';
		
 		var addy33ea216524564e2ecc6d6eaa21f03075 = 'x&#117;ch&#101;n' + '&#64;';

 				addy33ea216524564e2ecc6d6eaa21f03075 = addy33ea216524564e2ecc6d6eaa21f0
 3075 + 'pr&#105;c' + '&#46;' + '&#111;rg' + '&#46;' + 'cn';
				var addy_te
 xt33ea216524564e2ecc6d6eaa21f03075 = 'x&#117;ch&#101;n' + '&#64;' + 'pr&#10
 5;c' + '&#46;' + '&#111;rg' + '&#46;' + 'cn';document.getElementById('cloak
 33ea216524564e2ecc6d6eaa21f03075').innerHTML += '<a ' + path + '\'' + prefi
 x + ':' + addy33ea216524564e2ecc6d6eaa21f03075 + '\'>'+addy_text33ea2165245
 64e2ecc6d6eaa21f03075+'<\/a>';
		</script>, +86 137 6451 8808</p><p>Egill N
 ielsson, <span id="cloaka74912e7f7713a7cd364ec9b5673a7ba">This email addres
 s is being protected from spambots. You need JavaScript enabled to view it.
 </span><script type='text/javascript'>
				document.getElementById('cloaka7
 4912e7f7713a7cd364ec9b5673a7ba').innerHTML = '';
				var prefix = '&#109;a'
  + 'i&#108;' + '&#116;o';
				var path = 'hr' + 'ef' + '=';
				var addya74
 912e7f7713a7cd364ec9b5673a7ba = '&#101;g&#105;lln&#105;&#101;lss&#111;n' + 
 '&#64;';
				addya74912e7f7713a7cd364ec9b5673a7ba = addya74912e7f7713a7cd36
 4ec9b5673a7ba + 'pr&#105;c' + '&#46;' + '&#111;rg' + '&#46;' + 'cn';
				va
 r addy_texta74912e7f7713a7cd364ec9b5673a7ba = '&#101;g&#105;lln&#105;&#101;
 lss&#111;n' + '&#64;' + 'pr&#105;c' + '&#46;' + '&#111;rg' + '&#46;' + 'cn'
 ;document.getElementById('cloaka74912e7f7713a7cd364ec9b5673a7ba').innerHTML
  += '<a ' + path + '\'' + prefix + ':' + addya74912e7f7713a7cd364ec9b5673a7
 ba + '\'>'+addy_texta74912e7f7713a7cd364ec9b5673a7ba+'<\/a>';
		</script>, 
 +86 131 6241 7903</p><p>Deng Beixi, <span id="cloakb77e4ed069399bce42d45568
 df40738d">This email address is being protected from spambots. You need Jav
 aScript enabled to view it.</span><script type='text/javascript'>
				docum
 ent.getElementById('cloakb77e4ed069399bce42d45568df40738d').innerHTML = '';
 
				var prefix = '&#109;a' + 'i&#108;' + '&#116;o';
				var path = 'hr' + 
 'ef' + '=';
				var addyb77e4ed069399bce42d45568df40738d = 'd&#101;ngb&#101
 ;&#105;x&#105;' + '&#64;';
				addyb77e4ed069399bce42d45568df40738d = addyb
 77e4ed069399bce42d45568df40738d + 'pr&#105;c' + '&#46;' + '&#111;rg' + '&#4
 6;' + 'cn';
				var addy_textb77e4ed069399bce42d45568df40738d = 'd&#101;ngb
 &#101;&#105;x&#105;' + '&#64;' + 'pr&#105;c' + '&#46;' + '&#111;rg' + '&#46
 ;' + 'cn';document.getElementById('cloakb77e4ed069399bce42d45568df40738d').
 innerHTML += '<a ' + path + '\'' + prefix + ':' + addyb77e4ed069399bce42d45
 568df40738d + '\'>'+addy_textb77e4ed069399bce42d45568df40738d+'<\/a>';
		</
 script>, +86 185 0170 2377</p>
DTSTAMP:20260422T232809Z
DTSTART;TZID=UTC;VALUE=DATE:20160606
DTEND;TZID=UTC;VALUE=DATE:20160610
SEQUENCE:0
TRANSP:OPAQUE
END:VEVENT
END:VCALENDAR