BEGIN:VCALENDAR
VERSION:2.0
PRODID:-//jEvents 2.0 for Joomla//EN
CALSCALE:GREGORIAN
METHOD:PUBLISH
BEGIN:VEVENT
UID:161f3985855e83317168e590dd20251f
CATEGORIES:Polar Conferences, Meetings and Events
CREATED:20171129T070508
SUMMARY:IARPC and SEARCH Joint Town Hall at AGU
LOCATION:New Orleans Ernest N. Morial Convention Center\, Room 252-254
DESCRIPTION:<p>The <strong>Interagency Arctic Research Policy Committee</strong> (<a hr
 ef="https://www.arcus.org/sites/all/modules/civicrm/extern/url.php?u=6037&a
 mp;qid=672334" target="_blank" rel="noopener noreferrer">IARPC</a>) and the
  <strong>Study of Environmental Arctic Change</strong> (<a href="https://ww
 w.arcus.org/sites/all/modules/civicrm/extern/url.php?u=6038&amp;qid=672334"
  target="_blank" rel="noopener noreferrer">SEARCH</a>) announce an open mee
 ting that will convene from 1<strong>2:30-1:30 p.m. CST on Thursday, 14 Dec
 ember</strong> during the 2017 American Geophysical Union (AGU) Fall Meetin
 g in New Orleans, Louisiana.</p><p>IARPC and SEARCH recognize the importanc
 e of science that is actionable by stakeholders. This town hall will share 
 their evolving approaches and engage the community in discussions of effect
 ive practices and new approaches. Examples of Arctic research addressing st
 akeholder needs will serve as test cases to examine: how needs are identifi
 ed; how questions are appropriately framed to meet stakeholder needs; and w
 hat promotes and constrains research addressing those needs. The executive 
 directors of SEARCH and IARPC will moderate discussion among SEARCH and IAR
 PC teams and Town Hall participants.</p><p><strong>Discussion questions wil
 l include:</strong></p><ul><li>IARPC and SEARCH focus on different stakehol
 der audiences and what audiences are left out?</li><li>Who is and who shoul
 d be targeting those other audiences?</li><li>How might related efforts to 
 engage stakeholders amplify - or be amplified by - the efforts of IARPC and
  SEARCH?</li><li>What are effective approaches for communicating with diver
 se audiences?</li></ul><p>Light refreshments will be provided.</p><p>For mo
 re information, contact:</p><p>Martin Jeffries<br />Executive Director<br /
 >Interagency Arctic Research Policy Committee<br />Email: <span id="cloak90
 940d6511cfabe2920a099f3649a581">This email address is being protected from 
 spambots. You need JavaScript enabled to view it.</span><script type='text/
 javascript'>
				document.getElementById('cloak90940d6511cfabe2920a099f3649
 a581').innerHTML = '';
				var prefix = '&#109;a' + 'i&#108;' + '&#116;o';

 				var path = 'hr' + 'ef' + '=';
				var addy90940d6511cfabe2920a099f3649a
 581 = 'M&#97;rt&#105;n_O_J&#101;ffr&#105;&#101;s' + '&#64;';
				addy90940d
 6511cfabe2920a099f3649a581 = addy90940d6511cfabe2920a099f3649a581 + '&#111;
 stp' + '&#46;' + '&#101;&#111;p' + '&#46;' + 'g&#111;v';
				var addy_text9
 0940d6511cfabe2920a099f3649a581 = 'M&#97;rt&#105;n_O_J&#101;ffr&#105;&#101;
 s' + '&#64;' + '&#111;stp' + '&#46;' + '&#101;&#111;p' + '&#46;' + 'g&#111;
 v';document.getElementById('cloak90940d6511cfabe2920a099f3649a581').innerHT
 ML += '<a ' + path + '\'' + prefix + ':' + addy90940d6511cfabe2920a099f3649
 a581 + '\'>'+addy_text90940d6511cfabe2920a099f3649a581+'<\/a>';
		</script>
 </p><p>Brendan P. Kelly<br />Executive Director<br />Study of Environmental
  Arctic Change<br />Email: <span id="cloak6487b2822d7a686a354c21c05208d9c1"
 >This email address is being protected from spambots. You need JavaScript e
 nabled to view it.</span><script type='text/javascript'>
				document.getEl
 ementById('cloak6487b2822d7a686a354c21c05208d9c1').innerHTML = '';
				var 
 prefix = '&#109;a' + 'i&#108;' + '&#116;o';
				var path = 'hr' + 'ef' + '=
 ';
				var addy6487b2822d7a686a354c21c05208d9c1 = 'bpk&#101;lly' + '&#64;';
 
				addy6487b2822d7a686a354c21c05208d9c1 = addy6487b2822d7a686a354c21c0520
 8d9c1 + '&#97;l&#97;sk&#97;' + '&#46;' + '&#101;d&#117;';
				var addy_text
 6487b2822d7a686a354c21c05208d9c1 = 'bpk&#101;lly' + '&#64;' + '&#97;l&#97;s
 k&#97;' + '&#46;' + '&#101;d&#117;';document.getElementById('cloak6487b2822
 d7a686a354c21c05208d9c1').innerHTML += '<a ' + path + '\'' + prefix + ':' +
  addy6487b2822d7a686a354c21c05208d9c1 + '\'>'+addy_text6487b2822d7a686a354c
 21c05208d9c1+'<\/a>';
		</script></p>
CONTACT:This email address is being protected from spambots. You need JavaScript enabled to view it.
				document.getElementById('cloakb4e1cffd187482aa6b33dadce27c49ae').innerHTML = '';
				var prefix = '&#109;a' + 'i&#108;' + '&#116;o';
				var path = 'hr' + 'ef' + '=';
				var addyb4e1cffd187482aa6b33dadce27c49ae = 'M&#97;rt&#105;n_O_J&#101;ffr&#105;&#101;s' + '&#64;';
				addyb4e1cffd187482aa6b33dadce27c49ae = addyb4e1cffd187482aa6b33dadce27c49ae + '&#111;stp' + '&#46;' + '&#101;&#111;p' + '&#46;' + 'g&#111;v';
				var addy_textb4e1cffd187482aa6b33dadce27c49ae = 'M&#97;rt&#105;n_O_J&#101;ffr&#105;&#101;s' + '&#64;' + '&#111;stp' + '&#46;' + '&#101;&#111;p' + '&#46;' + 'g&#111;v';document.getElementById('cloakb4e1cffd187482aa6b33dadce27c49ae').innerHTML += '<a ' + path + '\'' + prefix + ':' + addyb4e1cffd187482aa6b33dadce27c49ae + '\'>'+addy_textb4e1cffd187482aa6b33dadce27c49ae+'';
		 and This email address is being protected from spambots. You need JavaScript enabled to view it.
				document.getElementById('cloak9533278e836edc9068f7c4c37dbc1ce0').innerHTML = '';
				var prefix = '&#109;a' + 'i&#108;' + '&#116;o';
				var path = 'hr' + 'ef' + '=';
				var addy9533278e836edc9068f7c4c37dbc1ce0 = 'bpk&#101;lly' + '&#64;';
				addy9533278e836edc9068f7c4c37dbc1ce0 = addy9533278e836edc9068f7c4c37dbc1ce0 + '&#97;l&#97;sk&#97;' + '&#46;' + '&#101;d&#117;';
				var addy_text9533278e836edc9068f7c4c37dbc1ce0 = 'bpk&#101;lly' + '&#64;' + '&#97;l&#97;sk&#97;' + '&#46;' + '&#101;d&#117;';document.getElementById('cloak9533278e836edc9068f7c4c37dbc1ce0').innerHTML += '<a ' + path + '\'' + prefix + ':' + addy9533278e836edc9068f7c4c37dbc1ce0 + '\'>'+addy_text9533278e836edc9068f7c4c37dbc1ce0+'';
		
DTSTAMP:20260422T043633Z
DTSTART;TZID=UTC:20171214T123000
DTEND;TZID=UTC:20171214T133000
SEQUENCE:0
TRANSP:OPAQUE
END:VEVENT
END:VCALENDAR