BEGIN:VCALENDAR
VERSION:2.0
PRODID:-//jEvents 2.0 for Joomla//EN
CALSCALE:GREGORIAN
METHOD:PUBLISH
BEGIN:VEVENT
UID:facfb1650338dac608247f1376c07386
CATEGORIES:Polar Conferences, Meetings and Events
CREATED:20171103T083811
SUMMARY:22nd Alpine Glaciology/Glaciologist Meeting (AGM)
LOCATION:Chamonix\, France
DESCRIPTION:The 22nd Alpine Glaciology/Glaciologist Meeting (AGM) will be held in Chamo
 nix (France) , 1 and 2 March 2018.\nThis meeting serves as informal exchang
 e platform for researchers working on snow, glaciers or permafrost: glacier
 s mass balance, ice-flow observations and modelling, ice geophysics, instru
 mentations, etc.\nThere is no registration fee for participation at this wo
 rkshop. However, a registration is required because we need to know the exa
 ct number of people attending at the meeting.\nOral and poster presentation
 s are welcome, and young scientists are especially encouraged to present th
 eir work in progress.\nThe meeting will be held at ENSA (Ecole Nationale de
  Ski et d’Alpinisme, 35 rue du Bouchet, Chamonix).\nThe possibility of a fi
 eld trip (Vallee Blanche downhill skiing) is planned depending on weather c
 onditions (3 March 2018).\nPlease submit your contribution (title, oral or 
 poster presentation) to Christian: This email address is being protected fr
 om spambots. You need JavaScript enabled to view it.
				document.getElemen
 tById('cloak09173521c2b77ee1e6d8e37b2ebbba97').innerHTML = '';
				var pref
 ix = '&#109;a' + 'i&#108;' + '&#116;o';
				var path = 'hr' + 'ef' + '=';
	
 			var addy09173521c2b77ee1e6d8e37b2ebbba97 = 'chr&#105;st&#105;&#97;n.v&#1
 05;nc&#101;nt' + '&#64;';
				addy09173521c2b77ee1e6d8e37b2ebbba97 = addy09
 173521c2b77ee1e6d8e37b2ebbba97 + '&#117;n&#105;v-gr&#101;n&#111;bl&#101;-&#
 97;lp&#101;s' + '&#46;' + 'fr';
				var addy_text09173521c2b77ee1e6d8e37b2e
 bbba97 = 'chr&#105;st&#105;&#97;n.v&#105;nc&#101;nt' + '&#64;' + '&#117;n&#
 105;v-gr&#101;n&#111;bl&#101;-&#97;lp&#101;s' + '&#46;' + 'fr';document.get
 ElementById('cloak09173521c2b77ee1e6d8e37b2ebbba97').innerHTML += '<a ' + p
 ath + '\'' + prefix + ':' + addy09173521c2b77ee1e6d8e37b2ebbba97 + '\'>'+ad
 dy_text09173521c2b77ee1e6d8e37b2ebbba97+'';
		\nDeadline for registration (
 and/or abstract submission) is 31 January 2018.\n
X-ALT-DESC;FMTTYPE=text/html:<p>The <strong>22nd Alpine Glaciology/Glaciologist Meeting (AGM)</strong> w
 ill be held in <strong>Chamonix (France) ,</strong> <strong>1 and 2 March 2
 018</strong>.</p><p>This meeting serves as informal exchange platform for r
 esearchers working on snow, glaciers or permafrost: glaciers mass balance, 
 ice-flow observations and modelling, ice geophysics, instrumentations, etc.
 </p><p>There is no registration fee for participation at this workshop. How
 ever, a registration is required because we need to know the exact number o
 f people attending at the meeting.</p><p>Oral and poster presentations are 
 welcome, and young scientists are especially encouraged to present their wo
 rk in progress.</p><p>The meeting will be held at ENSA (Ecole Nationale de 
 Ski et d’Alpinisme, 35 rue du Bouchet, Chamonix).</p><p>The possibility of 
 a field trip (Vallee Blanche downhill skiing) is planned depending on weath
 er conditions (3 March 2018).</p><p>Please submit your contribution (title,
  oral or poster presentation) to Christian: <span id="cloak09173521c2b77ee1
 e6d8e37b2ebbba97">This email address is being protected from spambots. You 
 need JavaScript enabled to view it.</span><script type='text/javascript'>
	
 			document.getElementById('cloak09173521c2b77ee1e6d8e37b2ebbba97').innerHT
 ML = '';
				var prefix = '&#109;a' + 'i&#108;' + '&#116;o';
				var path =
  'hr' + 'ef' + '=';
				var addy09173521c2b77ee1e6d8e37b2ebbba97 = 'chr&#10
 5;st&#105;&#97;n.v&#105;nc&#101;nt' + '&#64;';
				addy09173521c2b77ee1e6d8
 e37b2ebbba97 = addy09173521c2b77ee1e6d8e37b2ebbba97 + '&#117;n&#105;v-gr&#1
 01;n&#111;bl&#101;-&#97;lp&#101;s' + '&#46;' + 'fr';
				var addy_text09173
 521c2b77ee1e6d8e37b2ebbba97 = 'chr&#105;st&#105;&#97;n.v&#105;nc&#101;nt' +
  '&#64;' + '&#117;n&#105;v-gr&#101;n&#111;bl&#101;-&#97;lp&#101;s' + '&#46;
 ' + 'fr';document.getElementById('cloak09173521c2b77ee1e6d8e37b2ebbba97').i
 nnerHTML += '<a ' + path + '\'' + prefix + ':' + addy09173521c2b77ee1e6d8e3
 7b2ebbba97 + '\'>'+addy_text09173521c2b77ee1e6d8e37b2ebbba97+'<\/a>';
		</s
 cript></p><p>Deadline for registration (and/or abstract submission) is <str
 ong>31 January 2018</strong>.</p>
CONTACT:This email address is being protected from spambots. You need JavaScript enabled to view it.
				document.getElementById('cloakbde2d771d714c9aa4fcf3e999825ba11').innerHTML = '';
				var prefix = '&#109;a' + 'i&#108;' + '&#116;o';
				var path = 'hr' + 'ef' + '=';
				var addybde2d771d714c9aa4fcf3e999825ba11 = 'chr&#105;st&#105;&#97;n.v&#105;nc&#101;nt' + '&#64;';
				addybde2d771d714c9aa4fcf3e999825ba11 = addybde2d771d714c9aa4fcf3e999825ba11 + '&#117;n&#105;v-gr&#101;n&#111;bl&#101;-&#97;lp&#101;s' + '&#46;' + 'fr';
				var addy_textbde2d771d714c9aa4fcf3e999825ba11 = 'chr&#105;st&#105;&#97;n.v&#105;nc&#101;nt' + '&#64;' + '&#117;n&#105;v-gr&#101;n&#111;bl&#101;-&#97;lp&#101;s' + '&#46;' + 'fr';document.getElementById('cloakbde2d771d714c9aa4fcf3e999825ba11').innerHTML += '<a ' + path + '\'' + prefix + ':' + addybde2d771d714c9aa4fcf3e999825ba11 + '\'>'+addy_textbde2d771d714c9aa4fcf3e999825ba11+'';
		
DTSTAMP:20260423T103542Z
DTSTART;TZID=UTC;VALUE=DATE:20180301
DTEND;TZID=UTC;VALUE=DATE:20180303
SEQUENCE:0
TRANSP:OPAQUE
END:VEVENT
END:VCALENDAR