BEGIN:VCALENDAR
VERSION:2.0
PRODID:-//jEvents 2.0 for Joomla//EN
CALSCALE:GREGORIAN
METHOD:PUBLISH
BEGIN:VEVENT
UID:83ca463d171a0962dc65e97ea70dbc71
CATEGORIES:Polar Conferences, Meetings and Events
CREATED:20171023T091008
SUMMARY:General Introduction: Arctic & Antarctic
LOCATION:Istanbul Technical University - Ayazaga Campus\, İstanbul / Turkey
DESCRIPTION:Basic information of Arctic and Antarctic will be presented in accordance w
 ith poles which has a major role in creating life in the seas and are accom
 panied by nutrients transported will be frame our education in general. The
 re will be a mini-test to measure the information after question &amp; answ
 er section of our presentation. \nWe are waiting for anyone who is interest
 ed!\n
X-ALT-DESC;FMTTYPE=text/html:<p>Basic information of Arctic and Antarctic will be presented in accordanc
 e with poles which has a major role in creating life in the seas and are ac
 companied by nutrients transported will be frame our education in general. 
 There will be a mini-test to measure the information after question &amp; a
 nswer section of our presentation. <br />We are waiting for anyone who is i
 nterested!</p>
CONTACT:Deniz Vural , This email address is being protected from spambots. You need JavaScript enabled to view it.
				document.getElementById('cloak2ee9b4db42b653e44d7b7a4d54fd0dff').innerHTML = '';
				var prefix = '&#109;a' + 'i&#108;' + '&#116;o';
				var path = 'hr' + 'ef' + '=';
				var addy2ee9b4db42b653e44d7b7a4d54fd0dff = 'vrl.dnz' + '&#64;';
				addy2ee9b4db42b653e44d7b7a4d54fd0dff = addy2ee9b4db42b653e44d7b7a4d54fd0dff + 'gm&#97;&#105;l' + '&#46;' + 'c&#111;m';
				var addy_text2ee9b4db42b653e44d7b7a4d54fd0dff = 'vrl.dnz' + '&#64;' + 'gm&#97;&#105;l' + '&#46;' + 'c&#111;m';document.getElementById('cloak2ee9b4db42b653e44d7b7a4d54fd0dff').innerHTML += '<a ' + path + '\'' + prefix + ':' + addy2ee9b4db42b653e44d7b7a4d54fd0dff + '\'>'+addy_text2ee9b4db42b653e44d7b7a4d54fd0dff+'';
		
DTSTAMP:20260423T000820Z
DTSTART;TZID=UTC:20171023T054500
DTEND;TZID=UTC:20171023T193000
SEQUENCE:0
TRANSP:OPAQUE
END:VEVENT
END:VCALENDAR