BEGIN:VCALENDAR
VERSION:2.0
PRODID:-//jEvents 2.0 for Joomla//EN
CALSCALE:GREGORIAN
METHOD:PUBLISH
BEGIN:VEVENT
UID:9bccc2f84f4bdf803844dff5ec8881a5
CATEGORIES:Field and Summer Schools
CREATED:20171012T142436
SUMMARY:Yukon Territory Winter Tourism Field School 
LOCATION:Yukon Territory\, Canada
DESCRIPTION:The school is hosted by Vancouver Island University, the member of the Them
 atic Network on Northern Tourism. Limited spots available, registration is 
 open until October 15, 2017.\nThis experiential learning opportunity will i
 nclude lectures, seminars, and guest speakers, and will investigate issues 
 and opportunities through themes such as tourism and climate change, northe
 rn cultures, winter tour operators and tourism entrepreneurship, winter tou
 rism development, planning and strategies. Learners will also participate i
 n signature Yukon visitor experiences including dog sledding, aurora viewin
 g, natural hot springs, and more. Fees include experiential activities, 6 n
 ights’ accommodations, and much more.\nField School Facilitator:\nDr. Suzan
 ne de la Barre teaches Vancouver Island University’s (VIU) Recreation and T
 ourism program, as well as the Master of Arts in Sustainable Leisure Manage
 ment. Suzanne is an international Arctic tourism scholar with over 20 years
  of research and applied experience: http://wordpress.viu.ca/sdelabarre/\nC
 redit options: undergraduate and graduate level credit options available, n
 on-credit participation is welcome.\nCost: Approx. $1850 CDN (to be confirm
 ed). $100 deposit required to hold your spot.\nRegistration deadline: Octob
 er 15, 2017.\nFor more information about the tour or to indicate your inter
 est, please contact Suzanne: This email address is being protected from spa
 mbots. You need JavaScript enabled to view it.
				document.getElementById(
 'cloak6dc919f5830ac3bb4aec171d18b400c3').innerHTML = '';
				var prefix = '
 &#109;a' + 'i&#108;' + '&#116;o';
				var path = 'hr' + 'ef' + '=';
				var
  addy6dc919f5830ac3bb4aec171d18b400c3 = 'S&#117;z&#97;nn&#101;.d&#101;l&#97
 ;b&#97;rr&#101;' + '&#64;';
				addy6dc919f5830ac3bb4aec171d18b400c3 = addy
 6dc919f5830ac3bb4aec171d18b400c3 + 'v&#105;&#117;' + '&#46;' + 'c&#97;';
		
 		var addy_text6dc919f5830ac3bb4aec171d18b400c3 = 'S&#117;z&#97;nn&#101;.d&
 #101;l&#97;b&#97;rr&#101;' + '&#64;' + 'v&#105;&#117;' + '&#46;' + 'c&#97;'
 ;document.getElementById('cloak6dc919f5830ac3bb4aec171d18b400c3').innerHTML
  += '<a ' + path + '\'' + prefix + ':' + addy6dc919f5830ac3bb4aec171d18b400
 c3 + '\'>'+addy_text6dc919f5830ac3bb4aec171d18b400c3+'';
		\nField School P
 osterField School Poster (http://www.uarctic.org/media/1597684/2018-winter-
 tourism-poster.pdf)\n
X-ALT-DESC;FMTTYPE=text/html:<p><strong>The school is hosted by Vancouver Island University, the member 
 of the Thematic Network on Northern Tourism. Limited spots available, regis
 tration is open until October 15, 2017.</strong></p><p>This experiential le
 arning opportunity will include lectures, seminars, and guest speakers, and
  will investigate issues and opportunities through themes such as tourism a
 nd climate change, northern cultures, winter tour operators and tourism ent
 repreneurship, winter tourism development, planning and strategies. Learner
 s will also participate in signature Yukon visitor experiences including do
 g sledding, aurora viewing, natural hot springs, and more. Fees include exp
 eriential activities, 6 nights’ accommodations, and much more.</p><p><stron
 g>Field School Facilitator:</strong><br />Dr. Suzanne de la Barre teaches V
 ancouver Island University’s (VIU) Recreation and Tourism program, as well 
 as the Master of Arts in Sustainable Leisure Management. Suzanne is an inte
 rnational Arctic tourism scholar with over 20 years of research and applied
  experience: http://wordpress.viu.ca/sdelabarre/</p><p><strong>Credit optio
 ns:</strong> undergraduate and graduate level credit options available, non
 -credit participation is welcome.</p><p><strong>Cost:</strong> Approx. $185
 0 CDN (to be confirmed). $100 deposit required to hold your spot.</p><p><st
 rong>Registration deadline: October 15, 2017.</strong></p><p>For more infor
 mation about the tour or to indicate your interest, please contact Suzanne:
  <span id="cloak6dc919f5830ac3bb4aec171d18b400c3">This email address is bei
 ng protected from spambots. You need JavaScript enabled to view it.</span><
 script type='text/javascript'>
				document.getElementById('cloak6dc919f583
 0ac3bb4aec171d18b400c3').innerHTML = '';
				var prefix = '&#109;a' + 'i&#1
 08;' + '&#116;o';
				var path = 'hr' + 'ef' + '=';
				var addy6dc919f5830
 ac3bb4aec171d18b400c3 = 'S&#117;z&#97;nn&#101;.d&#101;l&#97;b&#97;rr&#101;'
  + '&#64;';
				addy6dc919f5830ac3bb4aec171d18b400c3 = addy6dc919f5830ac3bb
 4aec171d18b400c3 + 'v&#105;&#117;' + '&#46;' + 'c&#97;';
				var addy_text6
 dc919f5830ac3bb4aec171d18b400c3 = 'S&#117;z&#97;nn&#101;.d&#101;l&#97;b&#97
 ;rr&#101;' + '&#64;' + 'v&#105;&#117;' + '&#46;' + 'c&#97;';document.getEle
 mentById('cloak6dc919f5830ac3bb4aec171d18b400c3').innerHTML += '<a ' + path
  + '\'' + prefix + ':' + addy6dc919f5830ac3bb4aec171d18b400c3 + '\'>'+addy_
 text6dc919f5830ac3bb4aec171d18b400c3+'<\/a>';
		</script></p><p><a href="ht
 tp://www.uarctic.org/media/1597684/2018-winter-tourism-poster.pdf" target="
 _blank" rel="noopener noreferrer">Field School PosterField School Poster</a
 ></p>
CONTACT:This email address is being protected from spambots. You need JavaScript enabled to view it.
				document.getElementById('cloakdc2c272ba695c9c70b4359835db77449').innerHTML = '';
				var prefix = '&#109;a' + 'i&#108;' + '&#116;o';
				var path = 'hr' + 'ef' + '=';
				var addydc2c272ba695c9c70b4359835db77449 = 'S&#117;z&#97;nn&#101;.d&#101;l&#97;b&#97;rr&#101;' + '&#64;';
				addydc2c272ba695c9c70b4359835db77449 = addydc2c272ba695c9c70b4359835db77449 + 'v&#105;&#117;' + '&#46;' + 'c&#97;';
				var addy_textdc2c272ba695c9c70b4359835db77449 = 'S&#117;z&#97;nn&#101;.d&#101;l&#97;b&#97;rr&#101;' + '&#64;' + 'v&#105;&#117;' + '&#46;' + 'c&#97;';document.getElementById('cloakdc2c272ba695c9c70b4359835db77449').innerHTML += '<a ' + path + '\'' + prefix + ':' + addydc2c272ba695c9c70b4359835db77449 + '\'>'+addy_textdc2c272ba695c9c70b4359835db77449+'';
		
DTSTAMP:20260421T150045Z
DTSTART;TZID=UTC;VALUE=DATE:20180225
DTEND;TZID=UTC;VALUE=DATE:20180304
SEQUENCE:0
TRANSP:OPAQUE
END:VEVENT
END:VCALENDAR