BEGIN:VCALENDAR
VERSION:2.0
PRODID:-//jEvents 2.0 for Joomla//EN
CALSCALE:GREGORIAN
METHOD:PUBLISH
BEGIN:VEVENT
UID:ae8932f609600aef0fd30e9ea368df4c
CATEGORIES:Polar Conferences, Meetings and Events
CREATED:20170922T143341
SUMMARY:6th International Polar Tourism Research Network (IPTRN) Conference and Community Tour
LOCATION:Yukon Territory\, Canada
DESCRIPTION:\n6th INTERNATIONAL POLAR TOURISM RESEARCH NETWORK (IPTRN)\nCONFERENCE AND 
 COMMUNITY TOUR\nCreative Forces in the Polar Regions: Culture, Economies, I
 nnovation, and Change in Tourism\nYukon Territory, Canada, June 22-28, 2018
 \nhttps://sites.google.com/view/polartourismresearch/yukon-2018\nThe 6th IP
 TRN conference – Creative Forces in the Polar Regions: Cultures, Economies,
  Innovations, and Change in Tourism – will follow the IPTRN community tour 
 model. The conference will begin in Whitehorse and travel to several Yukon 
 communities. In addition to papers and other presentations, participants wi
 ll engage in community activities held in collaboration with local organisa
 tions and residents, and engage in a variety of Yukon visitor experiences.\
 n \nThe conference and community tour will engage participants by exploring
  and seeking solutions to polar tourism concerns and opportunities in relat
 ion to a variety of thematic areas, including: the cultural economy; econom
 ic diversification and community development; cultural and tourism entrepre
 neurship; social, cultural, and environmental impacts; tourism planning and
  development challenges and strategies; visitor experience innovations; and
  problem-solving in polar areas.\n \nPast IPTRN conferences have examined e
 conomic development and environmental aspects of tourism in the polar world
  (see publication list at the end of this call). Papers presented at the 6t
 h IPTRN conference are encouraged to explore how expectations toward touris
 m development in peripheral places contribute to the cultural wellbeing of 
 peripheral communities and how cultural tourism can be managed to advance e
 conomic benefits, enhance our understanding of human/nature relationships, 
 and protection of the natural environment.\n \nTo that end, the 6th IPTRN c
 onference invites papers that examine:\nCulture and cultural tourism, inclu
 ding policyParks, protected areas and cultural tourismWinter tourism and co
 ld weather cultures: attractions, visitors, opportunities and challengesInd
 igenous culture and tourismCommunity interactions with polar touristsAn inc
 lusive Arctic – the role of arts, culture and tourism for demographic diver
 sity (e.g., ethnic groups, the LGBTQ community)Economic geographies of and 
 innovation in polar tourismThe social and cultural construction of touristi
 c polar places and spacesWhile the conference has a specific focus, abstrac
 ts that examine any aspects of polar tourism are welcome.\nAbstract Submiss
 ion:\nAbstracts should not exceed 300 words, should include full author(s) 
 names and contact details, and should be submitted in Word format to the co
 nference organisers via This email address is being protected from spambots
 . You need JavaScript enabled to view it.
				document.getElementById('cloa
 kefa44d4e19e0620331178a30b1bcc954').innerHTML = '';
				var prefix = '&#109
 ;a' + 'i&#108;' + '&#116;o';
				var path = 'hr' + 'ef' + '=';
				var addy
 efa44d4e19e0620331178a30b1bcc954 = '2018&#105;ptrn' + '&#64;';
				addyefa4
 4d4e19e0620331178a30b1bcc954 = addyefa44d4e19e0620331178a30b1bcc954 + 'gm&#
 97;&#105;l' + '&#46;' + 'c&#111;m';
				var addy_textefa44d4e19e0620331178a
 30b1bcc954 = '2018&#105;ptrn' + '&#64;' + 'gm&#97;&#105;l' + '&#46;' + 'c&#
 111;m';document.getElementById('cloakefa44d4e19e0620331178a30b1bcc954').inn
 erHTML += '<a ' + path + '\'' + prefix + ':' + addyefa44d4e19e0620331178a30
 b1bcc954 + '\'>'+addy_textefa44d4e19e0620331178a30b1bcc954+'';
		 no later 
 than October 31, 2017. We welcome abstracts for oral, poster or other forms
  of presentation (e.g., creative output such as music or art work, research
 er/community-oriented workshops). Please clearly indicate the type of abstr
 act you are submitting. Abstracts will undergo an external review process, 
 and authors will be informed of the decision by November 30, 2017. Particip
 ants presenting papers will be invited to submit an extended version for pu
 blication in a soon to be determined forum (e.g., peer review journal or ed
 ited volume).\n \nSignificant Dates:\n Call for abstracts closes: October 3
 1, 2017 – see Information for Students, below\nDecision notification: Novem
 ber 30, 2017\nRegistration opens: January 1, 2018\nRegistration closes: Feb
 ruary 28, 2018\nConference: June 22-28, 2018\nNOTE: Delegates are encourage
 d to arrive in Yukon on June 21 and leave on June 29 to enjoy all aspects o
 f the conference program, and to take advantage of the bus travel (included
  in the conference fee) from our final destination community back to Whiteh
 orse on the evening of June 28th.\n \nRegistration Fee: Registration inform
 ation and fees will be available on our website by December 1.\n \nInformat
 ion for Students: Students are an integral part of IPTRN conferences and we
  welcome your abstract submissions. We encourage you to apply for funding e
 xternally, and we are happy to help you with a support letter. IPTRN are al
 so applying for funding to offer some support for student participation. If
  you are interested to apply for an IPTRN stipend include your student stat
 us and a 150 word justification for your attendance at the IPTRN (in Word).
  In order to be included in our external funding applications, interested s
 tudents must submit by October 15, 2017. \n \nConference/Community Tour Hig
 hlights:\nIntimate week sharing scholarship with colleagues from across the
  poles, and engaging with community residents, tourism operators, and devel
 opment planners on polar tourism issues and opportunitiesBegins in Whitehor
 se and travels to several Yukon communitiesFollows the IPTRN conference mod
 el: paper and other presentation sessions, workshops/discussion forums, com
 munity tour around the host territory, and visitor experiencesEnds at the b
 eginning of the one-week long, internationally recognized, Adäka First Nati
 ons Cultural festival (Whitehorse): <a href="http://www.adakafestival.ca/">
 http://www.adakafestival.ca/ </a>Interested in getting an “insider experien
 ce” of the Adäka festival? Through a partnership with the Adäka festival or
 ganizers (the Yukon First Nation Culture and Tourism Association), IPTRN wi
 ll help pilot an international volunteer program and coordinate opportuniti
 es for conference participants to volunteer at the Adäka festival. There ma
 y also be lodging opportunities with locals in Whitehorse during the volunt
 eer commitment period. Please indicate your potential interest to volunteer
  at the Adäka festival in the body of your email when you submit your abstr
 act.\n \nDestination Information:\nGetting to the Yukon: http://www.travely
 ukon.com/basic-page/getting-here-air \nTravel information: <a href="http://
 www.travelyukon.ca">www.travelyukon.ca</a> \nWhitehorse “The Wilderness Cit
 y”: http://whitehorse.ca/about  (http://whitehorse.ca/aboutÂ) \nAbout Yukon
  communities: <a href="http://www.yukoncommunities.yk.ca">http://www.yukonc
 ommunities.yk.ca</a>  \nAbout Yukon First Nations: https://cyfn.ca/nations 
  (https://cyfn.ca/nationsÂ) \nAdäka First Nations Cultural Festival (Whiteh
 orse): <a href="http://www.adakafestival.ca/">http://www.adakafestival.ca/<
 /a>\nSee also “Journeys to Adäka” documentary movie trailer – Sagafish Medi
 a: https://vimeo.com/217345878\nAbout Yukon First Nations self-governance: 
 <a href="http://mappingtheway.ca/">http://mappingtheway.ca/</a> \nAbout Yuk
 on First Nations tourism: http://yfnct.ca/\nMore Information:\nFor more inf
 ormation go to the conference website (<a href="http://(https//sites.google
 .com/view/polartourismresearch" target="_blank" rel="noopener noreferrer">h
 ttps://sites.google.com/view/polartourismresearch</a>), “like” our Facebook
  page (https://www.facebook.com/IPTRN27), and follow us on Twitter (<a href
 ="https://twitter.com/PolarTourism" target="_blank" rel="noopener noreferre
 r">https://twitter.com/PolarTourism</a>).\n \nIf you have any questions abo
 ut the 6th IPTRN, please contact Dr. Patrick Brouder or Dr. Suzanne de la B
 arre via the conference email address: This email address is being protecte
 d from spambots. You need JavaScript enabled to view it.
				document.getEl
 ementById('cloaka598b2650ff763bc05c17a698b378967').innerHTML = '';
				var 
 prefix = '&#109;a' + 'i&#108;' + '&#116;o';
				var path = 'hr' + 'ef' + '=
 ';
				var addya598b2650ff763bc05c17a698b378967 = '2018&#105;ptrn' + '&#64;
 ';
				addya598b2650ff763bc05c17a698b378967 = addya598b2650ff763bc05c17a698
 b378967 + 'gm&#97;&#105;l' + '&#46;' + 'c&#111;m';
				var addy_texta598b26
 50ff763bc05c17a698b378967 = '2018&#105;ptrn' + '&#64;' + 'gm&#97;&#105;l' +
  '&#46;' + 'c&#111;m';document.getElementById('cloaka598b2650ff763bc05c17a6
 98b378967').innerHTML += '<a ' + path + '\'' + prefix + ':' + addya598b2650
 ff763bc05c17a698b378967 + '\'>'+addy_texta598b2650ff763bc05c17a698b378967+'
 ';
		.\n \nIPTRN Conference Publications:\nThe IPTRN is a group with a shar
 ed interest in research that advances the understanding of tourism in and a
 bout the Polar Regions. The IPTRN strives to generate, share and disseminat
 e knowledge, resources and perspectives on polar tourism; and strongly supp
 orts the development of international collaboration and cooperative relatio
 nships between members. 2018 is IPTRN’s ten year anniversary, and each meet
 ing has resulted in collaborative research publications.\n \n1st IPTRN (Mon
 treal/Kangiqsujuaq, Nunavik, Canada): Grenier, A.A.; Müller, D.K. (Eds.) (2
 011). Polar Tourism: A Tool for Regional Development. QC: Presses de l’Univ
 ersité du Québec, Québec.\n \n2nd IPTRN (Abisko, Sweden): Müller, D.K.; Lun
 dmark, L.; Lemelin, R.H. (Eds.) (2013). New Issues in Polar Tourism: Commun
 ities, Environments, Politics. Springer: Dordrecht.\n \n3rd IPTRN (Nain, Nu
 natsiavut, Canada): Lemelin, R.H., Maher, P., and Liggett, D. (Eds.) (2013)
 . From talk to action: How tourism is changing the Polar Regions. Conferenc
 e Proceedings from the 3rd International Polar Tourism Research Network (IP
 TRN) Conference, April 16-21, 2012, Nain, Nunatsiavut. Thunder Bay, Ontario
 : Centre for Northern Studies Press, Lakehead University.\n \n4th IPTRN (Ch
 ristchurch/Akaroa, New Zealand): Liggett, D. and Stewart, E. (Eds.) (2015).
  Polar tourism (research) is not what it used to be: the maturing of a fiel
 d of COMMUNITY alongside an activity. The Polar Journal. 5(2), special issu
 e. DOI:10.1080/2154896X.2015.1104802\n \n5th IPTRN (Akureyri/Raufarhöfn, Ic
 eland): Huijbens, E. and Lamers, M. (Eds.) (2017). Sustainable Tourism and 
 Natural Resource Conservation in the Polar Regions. Resources. 6(3), specia
 l issue.\n
X-ALT-DESC;FMTTYPE=text/html:<p style="text-align: center;"><br /><strong>6th INTERNATIONAL POLAR TOURIS
 M RESEARCH NETWORK (IPTRN)</strong><br /><strong>CONFERENCE AND COMMUNITY T
 OUR</strong></p><p style="text-align: center;">Creative Forces in the Polar
  Regions: Culture, Economies, Innovation, and Change in Tourism<br />Yukon 
 Territory, Canada, June 22-28, 2018<br /><a href="https://sites.google.com/
 view/polartourismresearch/yukon-2018">https://sites.google.com/view/polarto
 urismresearch/yukon-2018</a></p><p style="text-align: left;">The 6th IPTRN 
 conference – Creative Forces in the Polar Regions: Cultures, Economies, Inn
 ovations, and Change in Tourism – will follow the IPTRN community tour mode
 l. The conference will begin in Whitehorse and travel to several Yukon comm
 unities. In addition to papers and other presentations, participants will e
 ngage in community activities held in collaboration with local organisation
 s and residents, and engage in a variety of Yukon visitor experiences.<br /
 > <br />The conference and community tour will engage participants by explo
 ring and seeking solutions to polar tourism concerns and opportunities in r
 elation to a variety of thematic areas, including: the cultural economy; ec
 onomic diversification and community development; cultural and tourism entr
 epreneurship; social, cultural, and environmental impacts; tourism planning
  and development challenges and strategies; visitor experience innovations;
  and problem-solving in polar areas.<br /> <br />Past IPTRN conferences hav
 e examined economic development and environmental aspects of tourism in the
  polar world (see publication list at the end of this call). Papers present
 ed at the 6th IPTRN conference are encouraged to explore how expectations t
 oward tourism development in peripheral places contribute to the cultural w
 ellbeing of peripheral communities and how cultural tourism can be managed 
 to advance economic benefits, enhance our understanding of human/nature rel
 ationships, and protection of the natural environment.<br /> <br />To that 
 end, the 6th IPTRN conference invites papers that examine:</p><ul><li style
 ="text-align: left;">Culture and cultural tourism, including policy</li><li
  style="text-align: left;">Parks, protected areas and cultural tourism</li>
 <li style="text-align: left;">Winter tourism and cold weather cultures: att
 ractions, visitors, opportunities and challenges</li><li style="text-align:
  left;">Indigenous culture and tourism</li><li style="text-align: left;">Co
 mmunity interactions with polar tourists</li><li style="text-align: left;">
 An inclusive Arctic – the role of arts, culture and tourism for demographic
  diversity (e.g., ethnic groups, the LGBTQ community)</li><li style="text-a
 lign: left;">Economic geographies of and innovation in polar tourism</li><l
 i style="text-align: left;">The social and cultural construction of tourist
 ic polar places and spaces</li></ul><p>While the conference has a specific 
 focus, abstracts that examine any aspects of polar tourism are welcome.</p>
 <p style="text-align: left;"><strong>Abstract Submission:</strong><br />Abs
 tracts should not exceed 300 words, should include full author(s) names and
  contact details, and should be submitted in Word format to the conference 
 organisers via <span id="cloakefa44d4e19e0620331178a30b1bcc954">This email 
 address is being protected from spambots. You need JavaScript enabled to vi
 ew it.</span><script type='text/javascript'>
				document.getElementById('c
 loakefa44d4e19e0620331178a30b1bcc954').innerHTML = '';
				var prefix = '&#
 109;a' + 'i&#108;' + '&#116;o';
				var path = 'hr' + 'ef' + '=';
				var a
 ddyefa44d4e19e0620331178a30b1bcc954 = '2018&#105;ptrn' + '&#64;';
				addye
 fa44d4e19e0620331178a30b1bcc954 = addyefa44d4e19e0620331178a30b1bcc954 + 'g
 m&#97;&#105;l' + '&#46;' + 'c&#111;m';
				var addy_textefa44d4e19e06203311
 78a30b1bcc954 = '2018&#105;ptrn' + '&#64;' + 'gm&#97;&#105;l' + '&#46;' + '
 c&#111;m';document.getElementById('cloakefa44d4e19e0620331178a30b1bcc954').
 innerHTML += '<a ' + path + '\'' + prefix + ':' + addyefa44d4e19e0620331178
 a30b1bcc954 + '\'>'+addy_textefa44d4e19e0620331178a30b1bcc954+'<\/a>';
		</
 script> no later than <strong><span style="text-decoration: underline;">Oct
 ober 31, 2017</span></strong>. We welcome abstracts for oral, poster or oth
 er forms of presentation (e.g., creative output such as music or art work, 
 researcher/community-oriented workshops). Please clearly indicate the type 
 of abstract you are submitting. Abstracts will undergo an external review p
 rocess, and authors will be informed of the decision by <strong><span style
 ="text-decoration: underline;">November 30, 2017</span></strong>. Participa
 nts presenting papers will be invited to submit an extended version for pub
 lication in a soon to be determined forum (e.g., peer review journal or edi
 ted volume).<br /> <br /><strong>Significant Dates:</strong><br /> Call for
  abstracts closes: October 31, 2017 – see Information for Students, below<b
 r />Decision notification: November 30, 2017<br />Registration opens: Janua
 ry 1, 2018<br />Registration closes: February 28, 2018<br />Conference: Jun
 e 22-28, 2018</p><p style="text-align: left;"><strong>NOTE:</strong> Delega
 tes are encouraged to arrive in Yukon on <em>June 21 and leave on June 29</
 em> to enjoy all aspects of the conference program, and to take advantage o
 f the bus travel (included in the conference fee) from our final destinatio
 n community back to Whitehorse on the evening of June 28th.<br /> <br /><st
 rong>Registration Fee:</strong> Registration information and fees will be a
 vailable on our website by December 1.<br /> <br /><strong>Information for 
 Students:</strong> Students are an integral part of IPTRN conferences and w
 e welcome your abstract submissions. We encourage you to apply for funding 
 externally, and we are happy to help you with a support letter. IPTRN are a
 lso applying for funding to offer some support for student participation. I
 f you are interested to apply for an IPTRN stipend include your student sta
 tus and a 150 word justification for your attendance at the IPTRN (in Word)
 . In order to be included in our external funding applications, <em>interes
 ted students must submit by <span style="text-decoration: underline;">Octob
 er 15, 2017</span>.</em> <br /> <br /><strong>Conference/Community Tour Hig
 hlights:</strong></p><ul><li style="text-align: left;">Intimate week sharin
 g scholarship with colleagues from across the poles, and engaging with comm
 unity residents, tourism operators, and development planners on polar touri
 sm issues and opportunities</li><li style="text-align: left;">Begins in Whi
 tehorse and travels to several Yukon communities</li><li style="text-align:
  left;">Follows the IPTRN conference model: paper and other presentation se
 ssions, workshops/discussion forums, community tour around the host territo
 ry, and visitor experiences</li><li style="text-align: left;">Ends at the b
 eginning of the one-week long, internationally recognized, Adäka First Nati
 ons Cultural festival (Whitehorse): <a href="http://www.adakafestival.ca/">
 http://www.adakafestival.ca/ </a></li></ul><p><strong>Interested in getting
  an “insider experience” of the Adäka festival?</strong> Through a partners
 hip with the Adäka festival organizers (the Yukon First Nation Culture and 
 Tourism Association), IPTRN will help pilot an international volunteer prog
 ram and coordinate opportunities for conference participants to volunteer a
 t the Adäka festival. There may also be lodging opportunities with locals i
 n Whitehorse during the volunteer commitment period. <em>Please indicate yo
 ur potential interest to volunteer at the Adäka festival in the body of you
 r email when you submit your abstract.</em><br /> <br /><strong>Destination
  Information:</strong><br />Getting to the Yukon: <a href="http://www.trave
 lyukon.com/basic-page/getting-here-air">http://www.travelyukon.com/basic-pa
 ge/getting-here-air</a> <br />Travel information: <a href="http://www.trave
 lyukon.ca">www.travelyukon.ca</a> <br />Whitehorse “The Wilderness City”: <
 a href="http://whitehorse.ca/aboutÂ">http://whitehorse.ca/about&nbsp;</a> <
 br />About Yukon communities: <a href="http://www.yukoncommunities.yk.ca">h
 ttp://www.yukoncommunities.yk.ca</a>&nbsp; <br />About Yukon First Nations:
  <a href="https://cyfn.ca/nationsÂ">https://cyfn.ca/nations&nbsp;</a> <br /
 >Adäka First Nations Cultural Festival (Whitehorse): <a href="http://www.ad
 akafestival.ca/">http://www.adakafestival.ca/</a></p><p>See also “Journeys 
 to Adäka” documentary movie trailer – Sagafish Media: <a href="https://vime
 o.com/217345878">https://vimeo.com/217345878</a></p><p>About Yukon First Na
 tions self-governance: <a href="http://mappingtheway.ca/">http://mappingthe
 way.ca/</a> <br />About Yukon First Nations tourism: <a href="http://yfnct.
 ca/">http://yfnct.ca/</a></p><p><strong>More Information:</strong><br />For
  more information go to the conference website (<a href="http://(https//sit
 es.google.com/view/polartourismresearch" target="_blank" rel="noopener nore
 ferrer">https://sites.google.com/view/polartourismresearch</a>), “like” our
  Facebook page (<a href="https://www.facebook.com/IPTRN27" target="_blank" 
 rel="noopener noreferrer">https://www.facebook.com/IPTRN27</a>), and follow
  us on Twitter (<a href="https://twitter.com/PolarTourism" target="_blank" 
 rel="noopener noreferrer">https://twitter.com/PolarTourism</a>).<br /> <br 
 />If you have any questions about the 6th IPTRN, please contact Dr. Patrick
  Brouder or Dr. Suzanne de la Barre via the conference email address: <span
  id="cloaka598b2650ff763bc05c17a698b378967">This email address is being pro
 tected from spambots. You need JavaScript enabled to view it.</span><script
  type='text/javascript'>
				document.getElementById('cloaka598b2650ff763bc
 05c17a698b378967').innerHTML = '';
				var prefix = '&#109;a' + 'i&#108;' +
  '&#116;o';
				var path = 'hr' + 'ef' + '=';
				var addya598b2650ff763bc0
 5c17a698b378967 = '2018&#105;ptrn' + '&#64;';
				addya598b2650ff763bc05c17
 a698b378967 = addya598b2650ff763bc05c17a698b378967 + 'gm&#97;&#105;l' + '&#
 46;' + 'c&#111;m';
				var addy_texta598b2650ff763bc05c17a698b378967 = '201
 8&#105;ptrn' + '&#64;' + 'gm&#97;&#105;l' + '&#46;' + 'c&#111;m';document.g
 etElementById('cloaka598b2650ff763bc05c17a698b378967').innerHTML += '<a ' +
  path + '\'' + prefix + ':' + addya598b2650ff763bc05c17a698b378967 + '\'>'+
 addy_texta598b2650ff763bc05c17a698b378967+'<\/a>';
		</script>.<br /> <br /
 ><strong>IPTRN Conference Publications:</strong><br />The IPTRN is a group 
 with a shared interest in research that advances the understanding of touri
 sm in and about the Polar Regions. The IPTRN strives to generate, share and
  disseminate knowledge, resources and perspectives on polar tourism; and st
 rongly supports the development of international collaboration and cooperat
 ive relationships between members. 2018 is IPTRN’s ten year anniversary, an
 d each meeting has resulted in collaborative research publications.<br /> <
 br />1st IPTRN (Montreal/Kangiqsujuaq, Nunavik, Canada): Grenier, A.A.; Mül
 ler, D.K. (Eds.) (2011). Polar Tourism: A Tool for Regional Development. QC
 : Presses de l’Université du Québec, Québec.<br /> <br />2nd IPTRN (Abisko,
  Sweden): Müller, D.K.; Lundmark, L.; Lemelin, R.H. (Eds.) (2013). New Issu
 es in Polar Tourism: Communities, Environments, Politics. Springer: Dordrec
 ht.<br /> <br />3rd IPTRN (Nain, Nunatsiavut, Canada): Lemelin, R.H., Maher
 , P., and Liggett, D. (Eds.) (2013). From talk to action: How tourism is ch
 anging the Polar Regions. Conference Proceedings from the 3rd International
  Polar Tourism Research Network (IPTRN) Conference, April 16-21, 2012, Nain
 , Nunatsiavut. Thunder Bay, Ontario: Centre for Northern Studies Press, Lak
 ehead University.<br /> <br />4th IPTRN (Christchurch/Akaroa, New Zealand):
  Liggett, D. and Stewart, E. (Eds.) (2015). Polar tourism (research) is not
  what it used to be: the maturing of a field of COMMUNITY alongside an acti
 vity. The Polar Journal. 5(2), special issue. DOI:10.1080/2154896X.2015.110
 4802<br /> <br />5th IPTRN (Akureyri/Raufarhöfn, Iceland): Huijbens, E. and
  Lamers, M. (Eds.) (2017). Sustainable Tourism and Natural Resource Conserv
 ation in the Polar Regions. Resources. 6(3), special issue.</p>
DTSTAMP:20260421T162419Z
DTSTART;TZID=UTC;VALUE=DATE:20180622
DTEND;TZID=UTC;VALUE=DATE:20180629
SEQUENCE:0
TRANSP:OPAQUE
END:VEVENT
END:VCALENDAR