BEGIN:VCALENDAR
VERSION:2.0
PRODID:-//jEvents 2.0 for Joomla//EN
CALSCALE:GREGORIAN
METHOD:PUBLISH
BEGIN:VEVENT
UID:8af266e9bf9822250c94f760d38b8ba5
CATEGORIES:APECS Events
CREATED:20170922T134227
SUMMARY:APECS - EPB Webinar: The Antarctic Treaty and the protection of the environment
LOCATION:Online
DESCRIPTION:<p><strong>APECS - EPB Webinar: The Antarctic Treaty and the protection of 
 the environment</strong></p><p><em><strong>23 October at 14 GMT</strong></e
 m></p><p><strong>Speaker:</strong> Yves Frenot, Director, Institut polaire 
 français Paul-Emile Victor (IPEV)</p><p><a href="https://attendee.gotowebin
 ar.com/register/678377069639929858" target="_blank" rel="noopener noreferre
 r">Registration Link</a></p><p>The Antarctic Treaty, signed in Washington o
 n December 1, 1959, has the purpose to ensure that "in the interest of all 
 mankind that Antarctica shall continue for ever to be used exclusively for 
 peaceful purposes and shall not become the scene or object of international
  discord". Signed in 1991, the Protocol on Environmental Protection (the Ma
 drid Protocol) to the Treaty, designates Antarctica as “a natural reserve, 
 devoted to peace and science”. This webinar will give an overview of how th
 e Antarctic Treaty and its Madrid Protocol work, and how the Treaty system 
 is used to protect the Antarctic environment.</p><p>This webinar series is 
 jointly organized by APECS and the <a href="http://www.europeanpolarboard.o
 rg/" target="_blank" rel="noopener noreferrer">European Polar Board (EPB)</
 a>.</p>
DTSTAMP:20260421T231454Z
DTSTART;TZID=UTC:20171023T140000
SEQUENCE:0
TRANSP:OPAQUE
END:VEVENT
END:VCALENDAR