BEGIN:VCALENDAR
VERSION:2.0
PRODID:-//jEvents 2.0 for Joomla//EN
CALSCALE:GREGORIAN
METHOD:PUBLISH
BEGIN:VEVENT
UID:be4399b7681083fca71f77fba3e9f21c
CATEGORIES:Polar Conferences, Meetings and Events
CREATED:20160426T162231
SUMMARY:POLAR2018
LOCATION:Davos\, Switzerland
DESCRIPTION:XXXV SCAR Biennial Meetings\nArctic Science Summit Week ASSW\nSCAR/IASC Ope
 n Science Conference\nPOLAR2018 is a joint event from the Scientific Commit
 tee on Antarctic Research SCAR and the International Arctic Science Committ
 ee IASC. The SCAR meetings, the ASSW and the Open Science Conference will b
 e hosted by the Swiss Federal Institute for Forest, Snow and Landscape Rese
 arch WSL under the patronage of the Swiss Committee on Polar and High Altit
 ude Research. The WSL Institute for Snow and Avalanche Research SLF is orga
 nising POLAR2018, which will take place in Davos, Switzerland from 15 - 27 
 June 2018.\nMore information: http://www.polar2018.org/\n
X-ALT-DESC;FMTTYPE=text/html:<p>XXXV SCAR Biennial Meetings<br />Arctic Science Summit Week ASSW<br />SC
 AR/IASC Open Science Conference</p><p>POLAR2018 is a joint event from the S
 cientific Committee on Antarctic Research SCAR and the International Arctic
  Science Committee IASC. The SCAR meetings, the ASSW and the Open Science C
 onference will be hosted by the Swiss Federal Institute for Forest, Snow an
 d Landscape Research WSL under the patronage of the Swiss Committee on Pola
 r and High Altitude Research. The WSL Institute for Snow and Avalanche Rese
 arch SLF is organising POLAR2018, which will take place in Davos, Switzerla
 nd from 15 - 27 June 2018.</p><p>More information: <a href="http://www.pola
 r2018.org/">http://www.polar2018.org/</a></p>
DTSTAMP:20260421T160831Z
DTSTART;TZID=UTC;VALUE=DATE:20180615
DTEND;TZID=UTC;VALUE=DATE:20180628
SEQUENCE:0
TRANSP:OPAQUE
END:VEVENT
END:VCALENDAR