BEGIN:VCALENDAR
VERSION:2.0
PRODID:-//jEvents 2.0 for Joomla//EN
CALSCALE:GREGORIAN
METHOD:PUBLISH
BEGIN:VEVENT
UID:60ff31cbb6d20516fb7ec3f69adb7a04
CATEGORIES:APECS Events
CREATED:20170920T070933
SUMMARY:APECS Italy: Climate, humans and the environment: a lengthy history
LOCATION:Venice\, Italy
DESCRIPTION:How was the Climate in the past? How have humans changed it since the dawn 
 of civilization to today? How are scientists studying climate change? These
  are the questions that our section “Climate, humans and the environment: a
  lengthy history” will be addressing via an interactive journey beginning 8
 00,000 years ago until today, seeking to analyze the human impact on climat
 e and the environment by taking advantage of the research carried our by th
 e laboratories of the University of Venice Ca’Foscari and of the CNR-IDPA.\
 nAs part of the "Night of Research" event on September 29th at the Universi
 ty of Venice Ca'Foscari, we will be presenting an educational itinerary org
 anized in three stands:\n\n• Climate of the past\n• Human impact on the Env
 ironment\n• Sampling and monitoring in remote and urban areas\n\nUsing educ
 ational activities, each of these stands will explore certain aspects of th
 ese themes.\nThe stand “Climate of the past” will discuss how ice cores fro
 m Antarctica are used to create climate reconstructions based on research c
 arried out by the laboratories of Via Tornio, thanks to a collaboration bet
 ween the the University of Venice Ca’Foscari (DAIS) and the CNR-IDPA. Visit
 ors will learn the basic principles surrounding ice core analysis, what inf
 ormation they can provide us with, and what analytic techniques are involve
 d. There were also be an interactive section where an “articifial ice core”
  will be presented, as well as some basic laboratory experiments.\nThe stan
 d “Human Impact on the Environment” will simulate for visitors of all ages 
 the impact of deforestation carried out by the first human beings to arrive
  to the Pacific islands using printed materials to create a simplified mode
 l of a forest and lake. Visitors will also be shown a sediment sampler and 
 an example of a sediment core in order to explain how we measure the presen
 ce and the impact of humans using molecular markers present in lake bed sed
 iments\nFinally, at the stand “Sampling and monitoring in remote and urban 
 areas” visitors will be able to try their hand at using a high-volume sampl
 er to study atmospheric particulates. They will be shown real filter sample
 s from polluted urban areas and will be able to compare those with samples 
 from remote areas. Furthermore, as part of this activity, visitors will be 
 shown some examples of automated sampling systems provided by the weather-c
 limate monitoring station of Col Margherita (BL). The activity will allow v
 isitors to interact with sensors (for temperature, humidity, light, sounds,
  etc.) in real time and see what effect their actions have using a graphica
 l interface on a screen. Visitors will have the opportunity to get to know 
 hardware-software technologies of the “internet of things”, which are essen
 tial to the functioning of real-time monitoring systems in indoor and outdo
 or settings: from simple systems used in the home to advanced systems used 
 to monitor the environment in remote areas.\nMore info (in Italian): http:/
 /www.venetonight.it/clima-uomo-e-ambiente-una-lunga-storia/\n
X-ALT-DESC;FMTTYPE=text/html:<p>How was the Climate in the past? How have humans changed it since the da
 wn of civilization to today? How are scientists studying climate change? Th
 ese are the questions that our section “Climate, humans and the environment
 : a lengthy history” will be addressing via an interactive journey beginnin
 g 800,000 years ago until today, seeking to analyze the human impact on cli
 mate and the environment by taking advantage of the research carried our by
  the laboratories of the University of Venice Ca’Foscari and of the CNR-IDP
 A.</p><p>As part of the "Night of Research" event on September 29th at the 
 University of Venice Ca'Foscari, we will be presenting an educational itine
 rary organized in three stands:<br /><br />• Climate of the past<br />• Hum
 an impact on the Environment<br />• Sampling and monitoring in remote and u
 rban areas<br /><br />Using educational activities, each of these stands wi
 ll explore certain aspects of these themes.</p><p>The stand “Climate of the
  past” will discuss how ice cores from Antarctica are used to create climat
 e reconstructions based on research carried out by the laboratories of Via 
 Tornio, thanks to a collaboration between the the University of Venice Ca’F
 oscari (DAIS) and the CNR-IDPA. Visitors will learn the basic principles su
 rrounding ice core analysis, what information they can provide us with, and
  what analytic techniques are involved. There were also be an interactive s
 ection where an “articifial ice core” will be presented, as well as some ba
 sic laboratory experiments.</p><p>The stand “Human Impact on the Environmen
 t” will simulate for visitors of all ages the impact of deforestation carri
 ed out by the first human beings to arrive to the Pacific islands using pri
 nted materials to create a simplified model of a forest and lake. Visitors 
 will also be shown a sediment sampler and an example of a sediment core in 
 order to explain how we measure the presence and the impact of humans using
  molecular markers present in lake bed sediments</p><p>Finally, at the stan
 d “Sampling and monitoring in remote and urban areas” visitors will be able
  to try their hand at using a high-volume sampler to study atmospheric part
 iculates. They will be shown real filter samples from polluted urban areas 
 and will be able to compare those with samples from remote areas. Furthermo
 re, as part of this activity, visitors will be shown some examples of autom
 ated sampling systems provided by the weather-climate monitoring station of
  Col Margherita (BL). The activity will allow visitors to interact with sen
 sors (for temperature, humidity, light, sounds, etc.) in real time and see 
 what effect their actions have using a graphical interface on a screen. Vis
 itors will have the opportunity to get to know hardware-software technologi
 es of the “internet of things”, which are essential to the functioning of r
 eal-time monitoring systems in indoor and outdoor settings: from simple sys
 tems used in the home to advanced systems used to monitor the environment i
 n remote areas.</p><p>More info (in Italian):&nbsp;<a href="http://www.vene
 tonight.it/clima-uomo-e-ambiente-una-lunga-storia/">http://www.venetonight.
 it/clima-uomo-e-ambiente-una-lunga-storia/</a></p>
CONTACT:This email address is being protected from spambots. You need JavaScript enabled to view it.
				document.getElementById('cloak560bec384fd14eb37a4c97205bf562f1').innerHTML = '';
				var prefix = '&#109;a' + 'i&#108;' + '&#116;o';
				var path = 'hr' + 'ef' + '=';
				var addy560bec384fd14eb37a4c97205bf562f1 = 'j&#105;ld&#97;&#97;l&#105;c&#105;&#97;.c&#97;cc&#97;v&#111;' + '&#64;';
				addy560bec384fd14eb37a4c97205bf562f1 = addy560bec384fd14eb37a4c97205bf562f1 + 'st&#117;d&#101;nt&#105;' + '&#46;' + '&#117;n&#105;pd' + '&#46;' + '&#105;t';
				var addy_text560bec384fd14eb37a4c97205bf562f1 = 'j&#105;ld&#97;&#97;l&#105;c&#105;&#97;.c&#97;cc&#97;v&#111;' + '&#64;' + 'st&#117;d&#101;nt&#105;' + '&#46;' + '&#117;n&#105;pd' + '&#46;' + '&#105;t';document.getElementById('cloak560bec384fd14eb37a4c97205bf562f1').innerHTML += '<a ' + path + '\'' + prefix + ':' + addy560bec384fd14eb37a4c97205bf562f1 + '\'>'+addy_text560bec384fd14eb37a4c97205bf562f1+'';
		
DTSTAMP:20260421T101858Z
DTSTART;TZID=UTC;VALUE=DATE:20170929
DTEND;TZID=UTC;VALUE=DATE:20170930
SEQUENCE:0
TRANSP:OPAQUE
END:VEVENT
END:VCALENDAR