BEGIN:VCALENDAR
VERSION:2.0
PRODID:-//jEvents 2.0 for Joomla//EN
CALSCALE:GREGORIAN
METHOD:PUBLISH
BEGIN:VEVENT
UID:dceb67be505ff019b41aa4b90dedca94
CATEGORIES:APECS Events
CREATED:20170920T064539
SUMMARY:APECS Bulgaria Open Conference
LOCATION:Sinemorets\, Bulgaria
DESCRIPTION:<p>APECS Bulgaria's members will share their research results from Antarcti
 ca and also future ideas and project with their partners from Portugal and 
 APECS Turkey to develop new research directions and collaborations. The con
 ference will be open for wide audience and will be a part of the Polar Week
  activities. Conference is multidisciplinary and it will start with free en
 trance Antarctic photo exhibition and will continue with presentations and 
 Skype talks.</p>
CONTACT:Iglika Trifonova - Chair of APECS Bulgaria, This email address is being protected from spambots. You need JavaScript enabled to view it.
				document.getElementById('cloak377d4622ba39d973efead479d98f0b97').innerHTML = '';
				var prefix = '&#109;a' + 'i&#108;' + '&#116;o';
				var path = 'hr' + 'ef' + '=';
				var addy377d4622ba39d973efead479d98f0b97 = '&#105;gl&#105;c&#97;t' + '&#64;';
				addy377d4622ba39d973efead479d98f0b97 = addy377d4622ba39d973efead479d98f0b97 + 'gm&#97;&#105;l' + '&#46;' + 'c&#111;m';
				var addy_text377d4622ba39d973efead479d98f0b97 = '&#105;gl&#105;c&#97;t' + '&#64;' + 'gm&#97;&#105;l' + '&#46;' + 'c&#111;m';document.getElementById('cloak377d4622ba39d973efead479d98f0b97').innerHTML += '<a ' + path + '\'' + prefix + ':' + addy377d4622ba39d973efead479d98f0b97 + '\'>'+addy_text377d4622ba39d973efead479d98f0b97+'';
		
DTSTAMP:20260422T052423Z
DTSTART;TZID=UTC;VALUE=DATE:20170922
DTEND;TZID=UTC;VALUE=DATE:20170925
SEQUENCE:0
TRANSP:OPAQUE
END:VEVENT
END:VCALENDAR