BEGIN:VCALENDAR
VERSION:2.0
PRODID:-//jEvents 2.0 for Joomla//EN
CALSCALE:GREGORIAN
METHOD:PUBLISH
BEGIN:VEVENT
UID:9d9fb01fc045e4c39d5ca95184241eff
CATEGORIES:Polar Conferences, Meetings and Events
CREATED:20170915T201740
SUMMARY:Arctic Circle Assembly 2017
LOCATION:Reykjavik\, Iceland
DESCRIPTION:More information about the conference and the program can be found on the c
 onference website: http://www.arcticcircle.org/\n \n
X-ALT-DESC;FMTTYPE=text/html:<p>More information about the conference and the program can be found on th
 e conference website:&nbsp;<a href="http://www.arcticcircle.org/">http://ww
 w.arcticcircle.org/</a></p><p>&nbsp;</p>
DTSTAMP:20260421T213928Z
DTSTART;TZID=UTC;VALUE=DATE:20171013
DTEND;TZID=UTC;VALUE=DATE:20171016
SEQUENCE:0
TRANSP:OPAQUE
END:VEVENT
END:VCALENDAR