BEGIN:VCALENDAR
VERSION:2.0
PRODID:-//jEvents 2.0 for Joomla//EN
CALSCALE:GREGORIAN
METHOD:PUBLISH
BEGIN:VEVENT
UID:163b41b727dd9bdd3c25783127911c8f
CATEGORIES:Polar Conferences, Meetings and Events
CREATED:20170914T141414
SUMMARY:NorthWest Glaciologists Meeting
LOCATION:University of British Columbia in Vancouver.
DESCRIPTION:The annual NorthWest Glaciologists meeting will be October 13-14 at the Uni
 versity of British Columbia in Vancouver.\nPlease visit the website for mor
 e information (the website is continuously updated as the meeting approache
 s):\nhttps://www.eoas.ubc.ca/news-events/events/1507910400-\n (https://www.
 eoas.ubc.ca/news-events/events/1507910400-) \nPlease copy and paste the abo
 ve web address into your browser (otherwise it won't work)\nAlthough we str
 ive for minimal organization and control, we do want to give everybody time
  to present their research by developing a preliminary draft of the program
 . We also want to provide adequate refreshments. So please let us know:\n\n
  - that you plan to attend, and on which days (Friday and/or Saturday)\n - 
 whether you wish to present a talk or poster, and if so, which?\n - what is
  your presentation title?\n - will you attend the Friday evening social eve
 nt?\n - how can we contact you?\n\nPlease send your information to This ema
 il address is being protected from spambots. You need JavaScript enabled to
  view it.
				document.getElementById('cloak3ae8f21212f75da12fe724121e1bcf1
 a').innerHTML = '';
				var prefix = '&#109;a' + 'i&#108;' + '&#116;o';
			
 	var path = 'hr' + 'ef' + '=';
				var addy3ae8f21212f75da12fe724121e1bcf1a
  = 'nwgl&#97;c&#105;&#111;l&#111;g&#105;sts2017' + '&#64;';
				addy3ae8f21
 212f75da12fe724121e1bcf1a = addy3ae8f21212f75da12fe724121e1bcf1a + 'gm&#97;
 &#105;l' + '&#46;' + 'c&#111;m';
				var addy_text3ae8f21212f75da12fe724121
 e1bcf1a = 'nwgl&#97;c&#105;&#111;l&#111;g&#105;sts2017' + '&#64;' + 'gm&#97
 ;&#105;l' + '&#46;' + 'c&#111;m';document.getElementById('cloak3ae8f21212f7
 5da12fe724121e1bcf1a').innerHTML += '<a ' + path + '\'' + prefix + ':' + ad
 dy3ae8f21212f75da12fe724121e1bcf1a + '\'>'+addy_text3ae8f21212f75da12fe7241
 21e1bcf1a+'';
		\nAdditional information will be sent only to those who hav
 e contacted us and provided their email addresses.\n
X-ALT-DESC;FMTTYPE=text/html:<p>The <strong>annual NorthWest Glaciologists</strong> meeting will be <str
 ong>October 13-14 at the University of British Columbia in Vancouver.</stro
 ng></p><p>Please visit the website for more information (the website is con
 tinuously updated as the meeting approaches):<br /><a href="https://www.eoa
 s.ubc.ca/news-events/events/1507910400-">https://www.eoas.ubc.ca/news-event
 s/events/1507910400-<br /></a> <br /><em>Please copy and paste the above we
 b address into your browser (otherwise it won't work)</em></p><p>Although w
 e strive for minimal organization and control, we do want to give everybody
  time to present their research by developing a preliminary draft of the pr
 ogram. We also want to provide adequate refreshments. So please let us know
 :<br /><br /> - that you plan to attend, and on which days (Friday and/or S
 aturday)<br /> - whether you wish to present a talk or poster, and if so, w
 hich?<br /> - what is your presentation title?<br /> - will you attend the 
 Friday evening social event?<br /> - how can we contact you?<br /><br />Ple
 ase send your information to <span id="cloak3ae8f21212f75da12fe724121e1bcf1
 a">This email address is being protected from spambots. You need JavaScript
  enabled to view it.</span><script type='text/javascript'>
				document.get
 ElementById('cloak3ae8f21212f75da12fe724121e1bcf1a').innerHTML = '';
				va
 r prefix = '&#109;a' + 'i&#108;' + '&#116;o';
				var path = 'hr' + 'ef' + 
 '=';
				var addy3ae8f21212f75da12fe724121e1bcf1a = 'nwgl&#97;c&#105;&#111;
 l&#111;g&#105;sts2017' + '&#64;';
				addy3ae8f21212f75da12fe724121e1bcf1a 
 = addy3ae8f21212f75da12fe724121e1bcf1a + 'gm&#97;&#105;l' + '&#46;' + 'c&#1
 11;m';
				var addy_text3ae8f21212f75da12fe724121e1bcf1a = 'nwgl&#97;c&#105
 ;&#111;l&#111;g&#105;sts2017' + '&#64;' + 'gm&#97;&#105;l' + '&#46;' + 'c&#
 111;m';document.getElementById('cloak3ae8f21212f75da12fe724121e1bcf1a').inn
 erHTML += '<a ' + path + '\'' + prefix + ':' + addy3ae8f21212f75da12fe72412
 1e1bcf1a + '\'>'+addy_text3ae8f21212f75da12fe724121e1bcf1a+'<\/a>';
		</scr
 ipt></p><p>Additional information will be sent only to those who have conta
 cted us and provided their email addresses.</p>
CONTACT:This email address is being protected from spambots. You need JavaScript enabled to view it.
				document.getElementById('cloak0a0582a181325c7a98105371b3d889ab').innerHTML = '';
				var prefix = '&#109;a' + 'i&#108;' + '&#116;o';
				var path = 'hr' + 'ef' + '=';
				var addy0a0582a181325c7a98105371b3d889ab = 'nwgl&#97;c&#105;&#111;l&#111;g&#105;sts2017' + '&#64;';
				addy0a0582a181325c7a98105371b3d889ab = addy0a0582a181325c7a98105371b3d889ab + 'gm&#97;&#105;l' + '&#46;' + 'c&#111;m';
				var addy_text0a0582a181325c7a98105371b3d889ab = 'nwgl&#97;c&#105;&#111;l&#111;g&#105;sts2017' + '&#64;' + 'gm&#97;&#105;l' + '&#46;' + 'c&#111;m';document.getElementById('cloak0a0582a181325c7a98105371b3d889ab').innerHTML += '<a ' + path + '\'' + prefix + ':' + addy0a0582a181325c7a98105371b3d889ab + '\'>'+addy_text0a0582a181325c7a98105371b3d889ab+'';
		
DTSTAMP:20260421T202133Z
DTSTART;TZID=UTC;VALUE=DATE:20171013
DTEND;TZID=UTC;VALUE=DATE:20171015
SEQUENCE:0
TRANSP:OPAQUE
END:VEVENT
END:VCALENDAR