BEGIN:VCALENDAR
VERSION:2.0
PRODID:-//jEvents 2.0 for Joomla//EN
CALSCALE:GREGORIAN
METHOD:PUBLISH
BEGIN:VEVENT
UID:665c6c49c984d01844ba08bce67298cf
CATEGORIES:APECS Events
CREATED:20170912T204451
SUMMARY:APECS Germany Workshop 
LOCATION:Erlangen\, Germany
DESCRIPTION:Dear Early Career Polar researchers,\nwe want to invite you to our APECS Ge
 rmany workshop on Wednesday, 20 September 2017, 4:00-6:00 p.m. in Erlangen\
 nin the run-up to the coordination workshop of the German Priority Programm
 e for Antarctic Research from 20 to 22 September 2017 in Erlangen.\nWe want
  to seize the opportunity to introduce APECS Germany to you and hold a Pane
 l Discussion on\n \nCareer paths and funding opportunities for postdocs\n \
 nwith both experienced researchers and people who started to work outside o
 f the 'traditional scientific career path' after their PhD. There will be p
 lenty of time for your questions and thoughts on the topic.\n*** Please ind
 icate your participation for planning purposes to This email address is bei
 ng protected from spambots. You need JavaScript enabled to view it.
				doc
 ument.getElementById('cloak34e311a274521401bf2c71d85461f66d').innerHTML = '
 ';
				var prefix = '&#109;a' + 'i&#108;' + '&#116;o';
				var path = 'hr' 
 + 'ef' + '=';
				var addy34e311a274521401bf2c71d85461f66d = 't&#105;m.c&#9
 7;rls&#101;n' + '&#64;';
				addy34e311a274521401bf2c71d85461f66d = addy34e
 311a274521401bf2c71d85461f66d + '&#117;n&#105;-l&#101;&#105;pz&#105;g' + '&
 #46;' + 'd&#101;';
				var addy_text34e311a274521401bf2c71d85461f66d = 't&#
 105;m.c&#97;rls&#101;n' + '&#64;' + '&#117;n&#105;-l&#101;&#105;pz&#105;g' 
 + '&#46;' + 'd&#101;';document.getElementById('cloak34e311a274521401bf2c71d
 85461f66d').innerHTML += '<a ' + path + '\'' + prefix + ':' + addy34e311a27
 4521401bf2c71d85461f66d + '\'>'+addy_text34e311a274521401bf2c71d85461f66d+'
 ';
		 ***\nThe workshop will be held in English. However, especially during
  the panel discussion, questions in German are also very welcome.\nPlease f
 eel free to contact us in advance if you have any questions concerning the 
 workshop.\nA more detailed programme will follow soon.\n \nWe are looking f
 orward to meeting you in Erlangen!\nBest wishes,\nStefanie Arndt and Tim Ca
 rlsen (APECS Germany Board Members)\n
X-ALT-DESC;FMTTYPE=text/html:<p>Dear Early Career Polar researchers,<br />we want to invite you to our A
 PECS Germany workshop on Wednesday, 20 September 2017, 4:00-6:00 p.m. in Er
 langen</p><p>in the run-up to the coordination workshop of the German Prior
 ity Programme for Antarctic Research from 20 to 22 September 2017 in Erlang
 en.<br />We want to seize the opportunity to introduce APECS Germany to you
  and hold a Panel Discussion on<br /> <br />Career paths and funding opport
 unities for postdocs<br /> <br />with both experienced researchers and peop
 le who started to work outside of the 'traditional scientific career path' 
 after their PhD. There will be plenty of time for your questions and though
 ts on the topic.</p><p>*** Please indicate your participation for planning 
 purposes to <span id="cloak34e311a274521401bf2c71d85461f66d">This email add
 ress is being protected from spambots. You need JavaScript enabled to view 
 it.</span><script type='text/javascript'>
				document.getElementById('cloa
 k34e311a274521401bf2c71d85461f66d').innerHTML = '';
				var prefix = '&#109
 ;a' + 'i&#108;' + '&#116;o';
				var path = 'hr' + 'ef' + '=';
				var addy
 34e311a274521401bf2c71d85461f66d = 't&#105;m.c&#97;rls&#101;n' + '&#64;';
	
 			addy34e311a274521401bf2c71d85461f66d = addy34e311a274521401bf2c71d85461f
 66d + '&#117;n&#105;-l&#101;&#105;pz&#105;g' + '&#46;' + 'd&#101;';
				var
  addy_text34e311a274521401bf2c71d85461f66d = 't&#105;m.c&#97;rls&#101;n' + 
 '&#64;' + '&#117;n&#105;-l&#101;&#105;pz&#105;g' + '&#46;' + 'd&#101;';docu
 ment.getElementById('cloak34e311a274521401bf2c71d85461f66d').innerHTML += '
 <a ' + path + '\'' + prefix + ':' + addy34e311a274521401bf2c71d85461f66d + 
 '\'>'+addy_text34e311a274521401bf2c71d85461f66d+'<\/a>';
		</script> ***</p
 ><p>The workshop will be held in English. However, especially during the pa
 nel discussion, questions in German are also very welcome.<br />Please feel
  free to contact us in advance if you have any questions concerning the wor
 kshop.<br />A more detailed programme will follow soon.<br /> <br />We are 
 looking forward to meeting you in Erlangen!<br />Best wishes,<br />Stefanie
  Arndt and Tim Carlsen (APECS Germany Board Members)</p>
CONTACT:Tim Carlsen This email address is being protected from spambots. You need JavaScript enabled to view it.
				document.getElementById('cloakf34bc8ba9852cfe7aaac0d9d9e0e20fc').innerHTML = '';
				var prefix = '&#109;a' + 'i&#108;' + '&#116;o';
				var path = 'hr' + 'ef' + '=';
				var addyf34bc8ba9852cfe7aaac0d9d9e0e20fc = 't&#105;m.c&#97;rls&#101;n' + '&#64;';
				addyf34bc8ba9852cfe7aaac0d9d9e0e20fc = addyf34bc8ba9852cfe7aaac0d9d9e0e20fc + '&#117;n&#105;-l&#101;&#105;pz&#105;g' + '&#46;' + 'd&#101;';
				var addy_textf34bc8ba9852cfe7aaac0d9d9e0e20fc = 't&#105;m.c&#97;rls&#101;n' + '&#64;' + '&#117;n&#105;-l&#101;&#105;pz&#105;g' + '&#46;' + 'd&#101;';document.getElementById('cloakf34bc8ba9852cfe7aaac0d9d9e0e20fc').innerHTML += '<a ' + path + '\'' + prefix + ':' + addyf34bc8ba9852cfe7aaac0d9d9e0e20fc + '\'>'+addy_textf34bc8ba9852cfe7aaac0d9d9e0e20fc+'';
		
DTSTAMP:20260422T020503Z
DTSTART;TZID=UTC;VALUE=DATE:20170920
DTEND;TZID=UTC;VALUE=DATE:20170921
SEQUENCE:0
TRANSP:OPAQUE
END:VEVENT
END:VCALENDAR