BEGIN:VCALENDAR
VERSION:2.0
PRODID:-//jEvents 2.0 for Joomla//EN
CALSCALE:GREGORIAN
METHOD:PUBLISH
BEGIN:VEVENT
UID:1ef4a2df4ff30ccfecd8160b7305a67e
CATEGORIES:Polar Conferences, Meetings and Events
CREATED:20170907T130513
SUMMARY:Siberia, Central Asia, the Russian Far East and North Pacific: Asia in the Russian Imagination
LOCATION:University of Utah’s campus in Salt Lake City
DESCRIPTION:Call for proposals: Siberia, Central Asia, the Russian Far East and North P
 acific: Asia in the Russian Imagination\n \nAsia in the Russian Imagination
 \n \nThe University of Utah’s Asia Center is hosting an interdisciplinary c
 onference on Siberia, Central Asia, and the Russian Far East and North Paci
 fic, organized around the theme of “Asia in the Russian Imagination.” The c
 onference will be held at the University of Utah’s campus in Salt Lake City
  on March 23-24, 2018. Over the past three years, the Asia Center’s “Siberi
 an Initiative” has sponsored talks on anthropology, environmental studies, 
 history, film studies, and linguistics, and we are continuing this interdis
 ciplinary approach to Russia in Asia/Asia in Russia at our conference.\n \n
 We welcome proposals exploring political, economic, and socio-cultural inte
 ractions from a variety of fields and perspectives. We foresee extended dis
 cussions on Russian-Asian\nconnections and networks, as well as policies, p
 rocesses, and populations in “Russian Asia,” within the imperial, Soviet, o
 r post-Soviet eras. We hope that this conference honors the interdisciplina
 ry tradition established by the British Universities Siberian Studies Semin
 ar, last held in 2007. Following the conference, the organizers intend to p
 ublish a selection of the essays either as a special issue of a journal or 
 as an edited volume.\n \nPlease submit proposals for individual papers no l
 ater than 15 October 2017 to the Events Coordinator of Utah’s International
  Studies program, Rocío Torres This email address is being protected from s
 pambots. You need JavaScript enabled to view it.
				document.getElementByI
 d('cloak90345c8fd88cdeaa25ed94ce1bcbe7ae').innerHTML = '';
				var prefix =
  '&#109;a' + 'i&#108;' + '&#116;o';
				var path = 'hr' + 'ef' + '=';
				v
 ar addy90345c8fd88cdeaa25ed94ce1bcbe7ae = 'r&#111;c&#105;&#111;.t&#111;rr&#
 101;sm&#111;r&#97;' + '&#64;';
				addy90345c8fd88cdeaa25ed94ce1bcbe7ae = a
 ddy90345c8fd88cdeaa25ed94ce1bcbe7ae + '&#117;t&#97;h' + '&#46;' + '&#101;d&
 #117;';
				var addy_text90345c8fd88cdeaa25ed94ce1bcbe7ae = 'r&#111;c&#105;
 &#111;.t&#111;rr&#101;sm&#111;r&#97;' + '&#64;' + '&#117;t&#97;h' + '&#46;'
  + '&#101;d&#117;';document.getElementById('cloak90345c8fd88cdeaa25ed94ce1b
 cbe7ae').innerHTML += '<a ' + path + '\'' + prefix + ':' + addy90345c8fd88c
 deaa25ed94ce1bcbe7ae + '\'>'+addy_text90345c8fd88cdeaa25ed94ce1bcbe7ae+'';

 		. Please include a subject line of “Asia-Russia 2018” to make sure you re
 ceive full consideration. Submissions should include a 250-word abstract as
  well as a brief (1-2 page) C.V. The organizers will make their decisions b
 y early December.\n \nAdvisory committee:\nJane Frances Hacking, University
  of Utah\nEric R. Laursen, University of Utah\nRobert Argenbright, Universi
 ty of Utah\nMarisa Karyl Franz, University of Toronto\nJessica Graybill, Co
 lgate University\nLenore Grenoble, University of Chicago\nJeffrey F. Hardy,
  Brigham Young University\nMatthew P. Romaniello, University of Hawaii\nJoh
 n Ziker, Boise State University\n
X-ALT-DESC;FMTTYPE=text/html:<p><strong>Call for proposals: Siberia, Central Asia, the Russian Far East 
 and North Pacific: Asia in the Russian Imagination</strong></p><p>&nbsp;</p
 ><p><strong>Asia in the Russian Imagination</strong><br /> <br />The Univer
 sity of Utah’s Asia Center is hosting an interdisciplinary conference on <s
 trong>Siberia, Central Asia, and the Russian Far East and North Pacific</st
 rong>, organized around the theme of <strong>“Asia in the Russian Imaginati
 on.”</strong> The conference will be held at the <strong>University of Utah
 ’s campus in Salt Lake City on March 23-24, 2018</strong>. Over the past th
 ree years, the Asia Center’s “Siberian Initiative” has sponsored talks on a
 nthropology, environmental studies, history, film studies, and linguistics,
  and we are continuing this interdisciplinary approach to Russia in Asia/As
 ia in Russia at our conference.<br /> <br />We welcome proposals exploring 
 political, economic, and socio-cultural interactions from a variety of fiel
 ds and perspectives. We foresee extended discussions on Russian-Asian<br />
 connections and networks, as well as policies, processes, and populations i
 n “Russian Asia,” within the imperial, Soviet, or post-Soviet eras. We hope
  that this conference honors the interdisciplinary tradition established by
  the British Universities Siberian Studies Seminar, last held in 2007. Foll
 owing the conference, the organizers intend to publish a selection of the e
 ssays either as a special issue of a journal or as an edited volume.<br /> 
 <br /><strong>Please submit proposals for individual papers no later than 1
 5 October 2017</strong> to the Events Coordinator of Utah’s International S
 tudies program, <strong>Rocío Torres</strong> <span id="cloak90345c8fd88cde
 aa25ed94ce1bcbe7ae">This email address is being protected from spambots. Yo
 u need JavaScript enabled to view it.</span><script type='text/javascript'>
 
				document.getElementById('cloak90345c8fd88cdeaa25ed94ce1bcbe7ae').inner
 HTML = '';
				var prefix = '&#109;a' + 'i&#108;' + '&#116;o';
				var path
  = 'hr' + 'ef' + '=';
				var addy90345c8fd88cdeaa25ed94ce1bcbe7ae = 'r&#11
 1;c&#105;&#111;.t&#111;rr&#101;sm&#111;r&#97;' + '&#64;';
				addy90345c8fd
 88cdeaa25ed94ce1bcbe7ae = addy90345c8fd88cdeaa25ed94ce1bcbe7ae + '&#117;t&#
 97;h' + '&#46;' + '&#101;d&#117;';
				var addy_text90345c8fd88cdeaa25ed94c
 e1bcbe7ae = 'r&#111;c&#105;&#111;.t&#111;rr&#101;sm&#111;r&#97;' + '&#64;' 
 + '&#117;t&#97;h' + '&#46;' + '&#101;d&#117;';document.getElementById('cloa
 k90345c8fd88cdeaa25ed94ce1bcbe7ae').innerHTML += '<a ' + path + '\'' + pref
 ix + ':' + addy90345c8fd88cdeaa25ed94ce1bcbe7ae + '\'>'+addy_text90345c8fd8
 8cdeaa25ed94ce1bcbe7ae+'<\/a>';
		</script>. Please include a subject line 
 of <strong>“Asia-Russia 2018”</strong> to make sure you receive full consid
 eration. Submissions should include a 250-word abstract as well as a brief 
 (1-2 page) C.V. The organizers will make their decisions by early December.
 <br /> <br /><strong>Advisory committee:</strong><br />Jane Frances Hacking
 , University of Utah<br />Eric R. Laursen, University of Utah<br />Robert A
 rgenbright, University of Utah<br />Marisa Karyl Franz, University of Toron
 to<br />Jessica Graybill, Colgate University<br />Lenore Grenoble, Universi
 ty of Chicago<br />Jeffrey F. Hardy, Brigham Young University<br />Matthew 
 P. Romaniello, University of Hawaii<br />John Ziker, Boise State University
 </p>
CONTACT:Rocío Torres This email address is being protected from spambots. You need JavaScript enabled to view it.
				document.getElementById('cloak88da59595a98c83e8e6c4b7f3c35d53b').innerHTML = '';
				var prefix = '&#109;a' + 'i&#108;' + '&#116;o';
				var path = 'hr' + 'ef' + '=';
				var addy88da59595a98c83e8e6c4b7f3c35d53b = 'r&#111;c&#105;&#111;.t&#111;rr&#101;sm&#111;r&#97;' + '&#64;';
				addy88da59595a98c83e8e6c4b7f3c35d53b = addy88da59595a98c83e8e6c4b7f3c35d53b + '&#117;t&#97;h' + '&#46;' + '&#101;d&#117;';
				var addy_text88da59595a98c83e8e6c4b7f3c35d53b = 'r&#111;c&#105;&#111;.t&#111;rr&#101;sm&#111;r&#97;' + '&#64;' + '&#117;t&#97;h' + '&#46;' + '&#101;d&#117;';document.getElementById('cloak88da59595a98c83e8e6c4b7f3c35d53b').innerHTML += '<a ' + path + '\'' + prefix + ':' + addy88da59595a98c83e8e6c4b7f3c35d53b + '\'>'+addy_text88da59595a98c83e8e6c4b7f3c35d53b+'';
		
DTSTAMP:20260422T020200Z
DTSTART;TZID=UTC;VALUE=DATE:20180323
DTEND;TZID=UTC;VALUE=DATE:20180325
SEQUENCE:0
TRANSP:OPAQUE
END:VEVENT
END:VCALENDAR