BEGIN:VCALENDAR
VERSION:2.0
PRODID:-//jEvents 2.0 for Joomla//EN
CALSCALE:GREGORIAN
METHOD:PUBLISH
BEGIN:VEVENT
UID:b46c7e8dec88a36ec7bba84bb80a9f89
CATEGORIES:APECS Events
CREATED:20170822T104113
SUMMARY:Mentor Panel "Chilenos liderando en Antártica“
LOCATION: Centro de Convenciones del Hotel Dreams del Estrecho\, Punta Arenas\, Chil
 e
DESCRIPTION:<p>Our aim is to gather early careers and mentors into a familiar and close
 r communication through the long path to reach where they are now. We want 
 to hear their ideas, past projects, failures and the importance of networki
 ng through all their career. As APECS Chile, we believe this could be an im
 portant opportunity to gather the most important actors in Antarctic scienc
 e in our Country: INACH, Universidad de Magallanes, IDEAL Fondap, APECS Chi
 le and ECRs</p>
CONTACT:Claudia Maturana (This email address is being protected from spambots. You need JavaScript enabled to view it.
				document.getElementById('cloak78190bcda7972b6531c5666596485ff2').innerHTML = '';
				var prefix = '&#109;a' + 'i&#108;' + '&#116;o';
				var path = 'hr' + 'ef' + '=';
				var addy78190bcda7972b6531c5666596485ff2 = 'cm&#97;t&#117;r&#97;n&#97;.c&#105;&#101;nc&#105;&#97;s' + '&#64;';
				addy78190bcda7972b6531c5666596485ff2 = addy78190bcda7972b6531c5666596485ff2 + 'gm&#97;&#105;l' + '&#46;' + 'c&#111;m';
				var addy_text78190bcda7972b6531c5666596485ff2 = 'cm&#97;t&#117;r&#97;n&#97;.c&#105;&#101;nc&#105;&#97;s' + '&#64;' + 'gm&#97;&#105;l' + '&#46;' + 'c&#111;m';document.getElementById('cloak78190bcda7972b6531c5666596485ff2').innerHTML += '<a ' + path + '\'' + prefix + ':' + addy78190bcda7972b6531c5666596485ff2 + '\'>'+addy_text78190bcda7972b6531c5666596485ff2+'';
		), This email address is being protected from spambots. You need JavaScript enabled to view it.
				document.getElementById('cloakafdd337491372451ff6ad0abea7c5f1d').innerHTML = '';
				var prefix = '&#109;a' + 'i&#108;' + '&#116;o';
				var path = 'hr' + 'ef' + '=';
				var addyafdd337491372451ff6ad0abea7c5f1d = '&#97;p&#101;cs.ch&#105;l&#101;' + '&#64;';
				addyafdd337491372451ff6ad0abea7c5f1d = addyafdd337491372451ff6ad0abea7c5f1d + 'gm&#97;&#105;l' + '&#46;' + 'c&#111;m';
				var addy_textafdd337491372451ff6ad0abea7c5f1d = '&#97;p&#101;cs.ch&#105;l&#101;' + '&#64;' + 'gm&#97;&#105;l' + '&#46;' + 'c&#111;m';document.getElementById('cloakafdd337491372451ff6ad0abea7c5f1d').innerHTML += '<a ' + path + '\'' + prefix + ':' + addyafdd337491372451ff6ad0abea7c5f1d + '\'>'+addy_textafdd337491372451ff6ad0abea7c5f1d+'';
		
DTSTAMP:20260422T004539Z
DTSTART;TZID=UTC:20171004T160000
DTEND;TZID=UTC:20171004T180000
SEQUENCE:0
TRANSP:OPAQUE
END:VEVENT
END:VCALENDAR