BEGIN:VCALENDAR
VERSION:2.0
PRODID:-//jEvents 2.0 for Joomla//EN
CALSCALE:GREGORIAN
METHOD:PUBLISH
BEGIN:VEVENT
UID:9c94ccdc99e2e73797315cacc1dc8ea6
CATEGORIES:Polar Conferences, Meetings and Events
CREATED:20170818T145841
SUMMARY:IGS Nordic Branch Meeting 2017
LOCATION:Uppsala\, Sweden
DESCRIPTION:IGS Nordic Branch Meeting 2017, Uppsala, Sweden, 25-27 October 2017\nThe No
 rdic Branch of the IGS meeting provides an opportunity for Nordic-based sci
 entists and students in glaciology to present their latest results and proj
 ects. We aim to stimulate discussions and networking among all participants
  during the meeting, at poster sessions and social events. Presentations ar
 e welcome on all aspects of ice and snow research and related topics, and t
 he meeting is open for all interested.\nRegistration for the meeting is now
  open at: https://sites.google.com/site/igsnordicbranchmeeting2017/\nThe de
 adline for registration is October 6, 2017.\n
X-ALT-DESC;FMTTYPE=text/html:<p><strong><span style="color: #000000; font-family: Helvetica; font-size: 
 12px; font-style: normal; font-weight: normal; letter-spacing: normal; text
 -align: start; text-indent: 0px; text-transform: none; white-space: normal;
  word-spacing: 0px; float: none;">IGS Nordic Branch Meeting 2017, Uppsala, 
 Sweden, 25-27 October 2017</span></strong></p><p>The Nordic Branch of the I
 GS meeting provides an opportunity for Nordic-based scientists and students
  in glaciology to present their latest results and projects. We aim to stim
 ulate discussions and networking among all participants during the meeting,
  at poster sessions and social events. Presentations are welcome on all asp
 ects of ice and snow research and related topics, and the meeting is open f
 or all interested.</p><p>Registration for the meeting is now open at: <a hr
 ef="https://sites.google.com/site/igsnordicbranchmeeting2017/">https://site
 s.google.com/site/igsnordicbranchmeeting2017/</a></p><p>The deadline for re
 gistration is <strong>October 6, 2017</strong>.</p>
DTSTAMP:20260422T194953Z
DTSTART;TZID=UTC;VALUE=DATE:20171025
DTEND;TZID=UTC;VALUE=DATE:20171028
SEQUENCE:0
TRANSP:OPAQUE
END:VEVENT
END:VCALENDAR