BEGIN:VCALENDAR
VERSION:2.0
PRODID:-//jEvents 2.0 for Joomla//EN
CALSCALE:GREGORIAN
METHOD:PUBLISH
BEGIN:VEVENT
UID:76bc827b402696a88b00a5ce6d2dc59c
CATEGORIES:Polar Conferences, Meetings and Events
CREATED:20170811T132443
SUMMARY:24th Annual WAIS Workshop
LOCATION:Camp Casey Conference Center; Coupeville\, WA\, USA
DESCRIPTION:Call for abstracts for the 24th Annual WAIS Workshop\nOctober 8-11, 2017\nC
 amp Casey Conference Center \nCoupeville, WA, USA\nhttps://www.waisworkshop
 .org/workshop-2017\n \nThe 24th Annual West Antarctic Ice Sheet (WAIS) Work
 shop is just around the corner, October 8-11, followed by the Antarctic Ear
 th Science Meeting, October 11-13, both at the remarkable Camp Casey in Was
 hington State.\nPlease consider attending the WAIS meeting, for yourself, y
 our students, your colleagues. WAIS is an outstanding venue for those inter
 ested in multi-disciplinary study of the Antarctic ice sheet and its intera
 ction with the atmosphere and ocean. It is also a widely-appreciated venue 
 for early-career and students to attend and present new work. The 'recent' 
 paleoclimate and sedimentary indications of change in the ice sheet are als
 o welcome here, as are ice core paleoclimate studies.\nWe will set the fina
 l topics based on the abstracts we receive; however, it is clear that there
  has been considerable activity in the Antarctic Peninsula over the past ye
 ar and many significant research efforts in the coming few years. \nWe have
  room for 100 people or more this year -- and the registration fee is alway
 s low -- come out and enjoy the most collegial meeting of the year.\nAbstra
 ct deadline: August 14\nStudent support request deadline: August 18\nRegist
 ration fees (registration opening soon):\n$300 for professionals, including
  post-docs\n$225 for active students (pre-PhD)\nVisit our web site for info
 rmation on the location, registration, abstracts, student support, and more
 :\n<a href="https://www.waisworkshop.org/workshop-2017">https://www.waiswor
 kshop.org/workshop-2017</a> \nBest regards,\nTed Scambos, Knut Christianson
 , and Betsy Sheffield\nWAIS Workshop Organizing Team\nhttps://www.waisworks
 hop.org/workshop-2017 \nThis email address is being protected from spambots
 . You need JavaScript enabled to view it.
				document.getElementById('cloa
 kf0e82aacc2cd42c7bfb1243c7e9e02cf').innerHTML = '';
				var prefix = '&#109
 ;a' + 'i&#108;' + '&#116;o';
				var path = 'hr' + 'ef' + '=';
				var addy
 f0e82aacc2cd42c7bfb1243c7e9e02cf = 'w&#97;&#105;sw&#111;rksh&#111;p' + '&#6
 4;';
				addyf0e82aacc2cd42c7bfb1243c7e9e02cf = addyf0e82aacc2cd42c7bfb1243
 c7e9e02cf + 'ns&#105;dc' + '&#46;' + '&#111;rg';
				var addy_textf0e82aacc
 2cd42c7bfb1243c7e9e02cf = 'w&#97;&#105;sw&#111;rksh&#111;p' + '&#64;' + 'ns
 &#105;dc' + '&#46;' + '&#111;rg';document.getElementById('cloakf0e82aacc2cd
 42c7bfb1243c7e9e02cf').innerHTML += '<a ' + path + '\'' + prefix + ':' + ad
 dyf0e82aacc2cd42c7bfb1243c7e9e02cf + '\'>'+addy_textf0e82aacc2cd42c7bfb1243
 c7e9e02cf+'';
		 \n
X-ALT-DESC;FMTTYPE=text/html:<p><strong>Call for abstracts for the 24th Annual WAIS Workshop</strong><br
  /><strong>October 8-11, 2017</strong><br />Camp Casey Conference Center <b
 r />Coupeville, WA, USA<br /><a href="https://www.waisworkshop.org/workshop
 -2017">https://www.waisworkshop.org/workshop-2017</a></p><p>&nbsp;</p><p>Th
 e 24th Annual West Antarctic Ice Sheet (WAIS) Workshop is just around the c
 orner, October 8-11, followed by the Antarctic Earth Science Meeting, Octob
 er 11-13, both at the remarkable Camp Casey in Washington State.</p><p>Plea
 se consider attending the WAIS meeting, for yourself, your students, your c
 olleagues. WAIS is an outstanding venue for those interested in multi-disci
 plinary study of the Antarctic ice sheet and its interaction with the atmos
 phere and ocean. It is also a widely-appreciated venue for early-career and
  students to attend and present new work. The 'recent' paleoclimate and sed
 imentary indications of change in the ice sheet are also welcome here, as a
 re ice core paleoclimate studies.</p><p>We will set the final topics based 
 on the abstracts we receive; however, it is clear that there has been consi
 derable activity in the Antarctic Peninsula over the past year and many sig
 nificant research efforts in the coming few years. <br />We have room for 1
 00 people or more this year -- and the registration fee is always low -- co
 me out and enjoy the most collegial meeting of the year.</p><p><strong>Abst
 ract deadline: August 14</strong><br /><strong>Student support request dead
 line: August 18</strong></p><p>Registration fees (registration opening soon
 ):<br />$300 for professionals, including post-docs<br />$225 for active st
 udents (pre-PhD)</p><p>Visit our web site for information on the location, 
 registration, abstracts, student support, and more:<br /><a href="https://w
 ww.waisworkshop.org/workshop-2017">https://www.waisworkshop.org/workshop-20
 17</a> </p><p>Best regards,<br />Ted Scambos, Knut Christianson, and Betsy 
 Sheffield<br />WAIS Workshop Organizing Team<br /><a href="https://www.wais
 workshop.org/workshop-2017">https://www.waisworkshop.org/workshop-2017</a> 
 <br /><span id="cloakf0e82aacc2cd42c7bfb1243c7e9e02cf">This email address i
 s being protected from spambots. You need JavaScript enabled to view it.</s
 pan><script type='text/javascript'>
				document.getElementById('cloakf0e82
 aacc2cd42c7bfb1243c7e9e02cf').innerHTML = '';
				var prefix = '&#109;a' + 
 'i&#108;' + '&#116;o';
				var path = 'hr' + 'ef' + '=';
				var addyf0e82a
 acc2cd42c7bfb1243c7e9e02cf = 'w&#97;&#105;sw&#111;rksh&#111;p' + '&#64;';
	
 			addyf0e82aacc2cd42c7bfb1243c7e9e02cf = addyf0e82aacc2cd42c7bfb1243c7e9e0
 2cf + 'ns&#105;dc' + '&#46;' + '&#111;rg';
				var addy_textf0e82aacc2cd42c
 7bfb1243c7e9e02cf = 'w&#97;&#105;sw&#111;rksh&#111;p' + '&#64;' + 'ns&#105;
 dc' + '&#46;' + '&#111;rg';document.getElementById('cloakf0e82aacc2cd42c7bf
 b1243c7e9e02cf').innerHTML += '<a ' + path + '\'' + prefix + ':' + addyf0e8
 2aacc2cd42c7bfb1243c7e9e02cf + '\'>'+addy_textf0e82aacc2cd42c7bfb1243c7e9e0
 2cf+'<\/a>';
		</script> </p>
DTSTAMP:20260423T003710Z
DTSTART;TZID=UTC;VALUE=DATE:20171008
DTEND;TZID=UTC;VALUE=DATE:20171012
SEQUENCE:0
TRANSP:OPAQUE
END:VEVENT
END:VCALENDAR