BEGIN:VCALENDAR
VERSION:2.0
PRODID:-//jEvents 2.0 for Joomla//EN
CALSCALE:GREGORIAN
METHOD:PUBLISH
BEGIN:VEVENT
UID:0c8aa12214ab998d5bd8b98b1d65b230
CATEGORIES:Polar Conferences, Meetings and Events
CREATED:20170809T132232
SUMMARY:Language contact in the circumpolar world
LOCATION:Institute of Linguistics RAS\, Moscow\, Russia
DESCRIPTION:Language contact in the circumpolar world\nInstitute of Linguistics RAS, Mo
 scow, Russia; 27-29 October 2017\n \nThe circumpolar world includes the Arc
 tic as defined by AMAP (Arctic Monitoring and Assessment Program) with adja
 cent areas. This vast territory has a number of common features that set it
  apart from any other part of the world: extremely harsh climate conditions
 , low population density, large distances between speakers of different lan
 guages or even of the same language, seasonal migrations for hundreds of mi
 les, prevalence of hunter-gatherers with absolutely no traditional farming,
  etc. While language contact has been a popular topic of linguistic researc
 h in the last couple of decades, there have been few studies that would con
 centrate on the circumpolar region and specifics of language contact in the
  area.\n\n The ‘Language contact in the circumpolar world’ conference will 
 bring together researchers studying language contact in the North, and disc
 ussions of any aspect of the topic are welcome. Of particular importance is
  the question of whether language contact in the circumpolar world is diffe
 rent from that of other areas, and if so, in which particular respects.\n\n
  The conference will feature papers selected by the Organizing committee, i
 nvited lectures by leading international experts specializing in the topic,
  and two extended tutorials on particular parts of the circumpolar world, ‘
 Language Contact in Arctic Canada &amp; Greenland’ by Michael Fortesque (Un
 iversity of Copenhagen) and ‘Language Contact in Arctic Europe’ by Jussi Yl
 ikoski (The Arctic University of Norway &amp; University of Oulu).\nThe con
 ference is organized by a new research group on Language Contact in the Cir
 cumpolar World at the Institute of Linguistics, supported by the Russian Sc
 ience Foundation, see http://iling-ran.ru/main/departments/typol_compar/cir
 cumpolar/eng for more details.\n
X-ALT-DESC;FMTTYPE=text/html:<p><strong>Language contact in the circumpolar world</strong></p><p><strong
 >Institute of Linguistics RAS, Moscow, Russia; 27-29 October 2017</strong><
 br /> <br />The circumpolar world includes the Arctic as defined by AMAP (A
 rctic Monitoring and Assessment Program) with adjacent areas. This vast ter
 ritory has a number of common features that set it apart from any other par
 t of the world: extremely harsh climate conditions, low population density,
  large distances between speakers of different languages or even of the sam
 e language, seasonal migrations for hundreds of miles, prevalence of hunter
 -gatherers with absolutely no traditional farming, etc. While language cont
 act has been a popular topic of linguistic research in the last couple of d
 ecades, there have been few studies that would concentrate on the circumpol
 ar region and specifics of language contact in the area.<br /><br /> The ‘L
 anguage contact in the circumpolar world’ conference will bring together re
 searchers studying language contact in the North, and discussions of any as
 pect of the topic are welcome. Of particular importance is the question of 
 whether language contact in the circumpolar world is different from that of
  other areas, and if so, in which particular respects.<br /><br /> The conf
 erence will feature papers selected by the Organizing committee, invited le
 ctures by leading international experts specializing in the topic, and two 
 extended tutorials on particular parts of the circumpolar world, ‘Language 
 Contact in Arctic Canada &amp; Greenland’ by Michael Fortesque (University 
 of Copenhagen) and ‘Language Contact in Arctic Europe’ by Jussi Ylikoski (T
 he Arctic University of Norway &amp; University of Oulu).</p><p>The confere
 nce is organized by a new research group on Language Contact in the Circump
 olar World at the Institute of Linguistics, supported by the Russian Scienc
 e Foundation, see <a href="http://iling-ran.ru/main/departments/typol_compa
 r/circumpolar/eng">http://iling-ran.ru/main/departments/typol_compar/circum
 polar/eng</a> for more details.</p>
DTSTAMP:20260423T004047Z
DTSTART;TZID=UTC;VALUE=DATE:20171027
DTEND;TZID=UTC;VALUE=DATE:20171030
SEQUENCE:0
TRANSP:OPAQUE
END:VEVENT
END:VCALENDAR