BEGIN:VCALENDAR
VERSION:2.0
PRODID:-//jEvents 2.0 for Joomla//EN
CALSCALE:GREGORIAN
METHOD:PUBLISH
BEGIN:VEVENT
UID:b0a6c95f4455d8fd4a1a98b1bf90834e
CATEGORIES:Polar Conferences, Meetings and Events
CREATED:20170809T124221
SUMMARY:OpenCon 2017
LOCATION:Berlin\, Germany
DESCRIPTION:Applications to attend OpenCon 2017 on November 11-13 in Berlin, Germany ar
 e now open! Most of those who are invited to attend will receive full or pa
 rtial travel funding, if required. OpenCon brings together early career res
 earchers, librarians, and students from around the world to connect and emp
 ower them to lead efforts to open up research and education in their commun
 ities.\nPast conferences have featured presentations from early careerleade
 rs as well as established figures such as Jimmy Wales (cofounder of Wikiped
 ia) and Julia Reda (member of the European Parliament). Apply to attend Ope
 nCon at https://apply.opencon2017.org/referral/ntSML  (https://apply.openco
 n2017.org/referral/ntSML)\nApplications will remain open until August 1st. 
 The benefits of applying for OpenCon 2017 extend far beyond attending the B
 erlin event-those who apply will have the opportunity to get connected with
  new collaborators, learn about\nscholarships to attend related conferences
 , and actively participate in a larger community. Attendance at OpenCon is 
 by application only.\n
X-ALT-DESC;FMTTYPE=text/html:<p>Applications to attend OpenCon 2017 on <strong>November 11-13 in Berlin,
  Germany</strong> are now open! Most of those who are invited to attend wil
 l receive full or partial travel funding, if required. OpenCon brings toget
 her early career researchers, librarians, and students from around the worl
 d to connect and empower them to lead efforts to open up research and educa
 tion in their communities.</p><p>Past conferences have featured presentatio
 ns from early careerleaders as well as established figures such as Jimmy Wa
 les (cofounder of Wikipedia) and Julia Reda (member of the European Parliam
 ent). Apply to attend OpenCon at <a href="https://apply.opencon2017.org/ref
 erral/ntSML">https://apply.opencon2017.org/referral/ntSML </a></p><p>Applic
 ations will remain open until August 1st. The benefits of applying for Open
 Con 2017 extend far beyond attending the Berlin event-those who apply will 
 have the opportunity to get connected with new collaborators, learn about<b
 r />scholarships to attend related conferences, and actively participate in
  a larger community. Attendance at OpenCon is by application only.</p>
DTSTAMP:20260422T215845Z
DTSTART;TZID=UTC;VALUE=DATE:20171111
DTEND;TZID=UTC;VALUE=DATE:20171114
SEQUENCE:0
TRANSP:OPAQUE
END:VEVENT
END:VCALENDAR