BEGIN:VCALENDAR
VERSION:2.0
PRODID:-//jEvents 2.0 for Joomla//EN
CALSCALE:GREGORIAN
METHOD:PUBLISH
BEGIN:VEVENT
UID:5e1102b641bdb203b10b0e0bc2c7a4e1
CATEGORIES:Polar Conferences, Meetings and Events
CREATED:20170619T120218
SUMMARY:IX Latin American Congress on Antarctic Science
LOCATION:Punta Arenas\, Chile
DESCRIPTION:<p>The IX Congreso Latinoamericano de Ciencia Antártica / IX Latin American
  Congress on Antarctic Science will be held in the city of <strong>Punta Ar
 enas, Chile</strong>, from <strong>October 4-6th, 2017</strong>.</p><p>The 
 Congress is an opportunity to connect the growing community of Latin Americ
 an polar scientists with researchers and potential collaborators from diffe
 rent regions of the world, and to provide a forum for sharing the latest re
 sults of research conducted in the White Continent. For this gathering, the
  city of Punta Arenas was chosen because it is one of the main gateways for
  the National Antarctic Programs to Antarctica, and the starting point for 
 many expeditions from the “heroic age”.</p><p>The CLCA2017 will comprise 3 
 different activities:</p><ol><li>Pre-congress Workshops (October 2-3, 2017)
 <br /><br /></li><li>IX Latin American Congress on Antarctic Science:<br />
 - Oral and poster presentations,<br />- Keynote speeches,<br />- Thematic s
 ymposia,<br />- APECS meeting<br /><br /></li><li>Post-congress fieldtrip.<
 /li></ol><p>The<strong> abstract submission</strong> deadline is <strong>20
  June 2017</strong>, and <strong>Early Bird registration</strong> ends on <
 strong>30 June 2017</strong>. Students must prove their status by copying t
 heir university's regular student certificate.</p><p>For registration, paym
 ent and upload of extended abstracts, please visit the <a href="http://cong
 resoantartico2017.com/" target="_blank" rel="noopener noreferrer">Congress 
 website</a>. For additional questions, please contact the <span id="cloakf1
 9ebd5072873666c47aeb931eb43902">This email address is being protected from 
 spambots. You need JavaScript enabled to view it.</span><script type='text/
 javascript'>
				document.getElementById('cloakf19ebd5072873666c47aeb931eb4
 3902').innerHTML = '';
				var prefix = '&#109;a' + 'i&#108;' + '&#116;o';

 				var path = 'hr' + 'ef' + '=';
				var addyf19ebd5072873666c47aeb931eb43
 902 = 'clc&#97;2017' + '&#64;';
				addyf19ebd5072873666c47aeb931eb43902 = 
 addyf19ebd5072873666c47aeb931eb43902 + '&#105;n&#97;ch' + '&#46;' + 'cl';
	
 			var addy_textf19ebd5072873666c47aeb931eb43902 = 'C&#111;ngr&#101;ss S&#1
 01;cr&#101;t&#97;r&#105;&#97;t';document.getElementById('cloakf19ebd5072873
 666c47aeb931eb43902').innerHTML += '<a ' + path + '\'' + prefix + ':' + add
 yf19ebd5072873666c47aeb931eb43902 + '\' target="_blank" rel="noopener noref
 errer">'+addy_textf19ebd5072873666c47aeb931eb43902+'<\/a>';
		</script>.</p
 >
CONTACT:This email address is being protected from spambots. You need JavaScript enabled to view it.
				document.getElementById('cloak7b4a76938d9e4483bf2b2cd4e9d2139b').innerHTML = '';
				var prefix = '&#109;a' + 'i&#108;' + '&#116;o';
				var path = 'hr' + 'ef' + '=';
				var addy7b4a76938d9e4483bf2b2cd4e9d2139b = 'clc&#97;2017' + '&#64;';
				addy7b4a76938d9e4483bf2b2cd4e9d2139b = addy7b4a76938d9e4483bf2b2cd4e9d2139b + '&#105;n&#97;ch' + '&#46;' + 'cl';
				var addy_text7b4a76938d9e4483bf2b2cd4e9d2139b = 'clc&#97;2017' + '&#64;' + '&#105;n&#97;ch' + '&#46;' + 'cl';document.getElementById('cloak7b4a76938d9e4483bf2b2cd4e9d2139b').innerHTML += '<a ' + path + '\'' + prefix + ':' + addy7b4a76938d9e4483bf2b2cd4e9d2139b + '\'>'+addy_text7b4a76938d9e4483bf2b2cd4e9d2139b+'';
		
DTSTAMP:20260422T232916Z
DTSTART;TZID=UTC;VALUE=DATE:20171004
DTEND;TZID=UTC;VALUE=DATE:20171007
SEQUENCE:0
TRANSP:OPAQUE
END:VEVENT
END:VCALENDAR