BEGIN:VCALENDAR
VERSION:2.0
PRODID:-//jEvents 2.0 for Joomla//EN
CALSCALE:GREGORIAN
METHOD:PUBLISH
BEGIN:VEVENT
UID:0e4246e229bdc282eae8586cfd49387f
CATEGORIES:Polar Conferences, Meetings and Events
CREATED:20170615T133115
SUMMARY:Geological Society of America 2017 Meeting
LOCATION:Seattle\, Washington
DESCRIPTION:Geological Society of America (GSA) 2017 meeting, will convene 22-25 Octobe
 r 2017 in Seattle, Washington.\nFor more information about the meeting, go 
 to: http://community.geosociety.org/gsa2017/home.\n
X-ALT-DESC;FMTTYPE=text/html:<p><strong>Geological Society of America</strong> (GSA) 2017 meeting, will 
 convene <strong>22-25 October 2017 in Seattle, Washington</strong>.</p><p>F
 or more information about the meeting, go to: <a href="http://community.geo
 society.org/gsa2017/home">http://community.geosociety.org/gsa2017/home</a>.
 </p>
DTSTAMP:20260422T210004Z
DTSTART;TZID=UTC;VALUE=DATE:20171022
DTEND;TZID=UTC;VALUE=DATE:20171026
SEQUENCE:0
TRANSP:OPAQUE
END:VEVENT
END:VCALENDAR